Уважаемые друзья и участники проекта iXBT.photo! К сожалению, 1 марта 2026 года проект iXBT.photo прекратит свою работу и будет закрыт. Мы высоко ценим ваше участие и тот вклад, который вы внесли в развитие нашего сообщества. Пожалуйста, не забудьте сохранить ваши фотографии до этой даты.
С уважением, команда iXBT.com
| Осень на Чусовой |
Осень на Чусовой
- Раздел: Пейзаж
- Дата съёмки: неизвестно
- Дата загрузки фото: 24.10.2024 16:29
- Оригинальная фотография: 3000 x 2250 (4,6 Мб)
- Технические характеристики:
- Фотоаппарат: Canon PowerShot SX50 HS
- Выдержка: 0,0
- Гиперфокальное расстояние: inf m
- Диафрагма: 4,5
- Светочувствительность: 80
- Фокусное расстояние: 4,0 mm (35 mm equivalent: 20,0 mm)
- Экспокоррекция: -2/3
- Полный EXIF
- Adobe
- ColorTransform: YCbCr
- Composite
- Aperture: 4,5
- CircleOfConfusion: 0,005 mm
- Flash: Off, Did not fire
- FocalLength35efl: 4,0 mm (35 mm equivalent: 20,0 mm)
- FOV: 83,0 deg
- HyperfocalDistance: inf m
- Megapixels: 6,8
- ScaleFactor35efl: 5,6
- ShutterSpeed: 0,0
- ExifIFD
- ApertureValue: 4,0
- ColorSpace: sRGB
- CreateDate: 2024:09:17 10:24:35
- CustomRendered: Normal
- DateTimeOriginal: 2024:09:17 10:24:35
- DigitalZoomRatio: 1
- ExifImageHeight: 2250
- ExifImageWidth: 3000
- ExposureCompensation: 0
- ExposureMode: Manual
- ExposureTime: 0,0
- FNumber: 4,5
- FocalLength: 4,0 mm
- ISO: 80
- LensInfo: 4.3-215mm f/?
- LensModel: 4.3-215.0 mm
- MaxApertureValue: 2,8
- MeteringMode: Multi-segment
- SceneCaptureType: Standard
- SensingMethod: One-chip color area
- SensitivityType: Standard Output Sensitivity and Recommended Exposure Index
- ShutterSpeedValue: 1/256
- WhiteBalance: Auto
- ICC-header
- ICC-meas
- ICC-view
- IFD0
- Make: Canon
- Model: Canon PowerShot SX50 HS
- ModifyDate: 2024:09:25 11:09:34
- Orientation: Horizontal (normal)
- IFD1
- IPTC
- DateCreated: 2024:09:17
- System
- XMP-aux
- ApproximateFocusDistance: 64,4
- Firmware: 1.00
- FlashCompensation: 0
- Lens: 4.3-215.0 mm
- XMP-crs
- AlreadyApplied: True
- AutoLateralCA: 0
- Blacks2012: +56
- BlueHue: 0
- BlueSaturation: 0
- CameraProfile: Embedded
- Clarity2012: +13
- ColorNoiseReduction: 0
- Contrast2012: +22
- ConvertToGrayscale: False
- DefringeGreenAmount: 0
- DefringeGreenHueHi: 60
- DefringeGreenHueLo: 40
- DefringePurpleAmount: 0
- DefringePurpleHueHi: 70
- DefringePurpleHueLo: 30
- Dehaze: 0
- Exposure2012: +0.20
- GrainAmount: 0
- GreenHue: 0
- GreenSaturation: 0
- HasCrop: False
- HasSettings: True
- Highlights2012: -16
- HueAdjustmentAqua: 0
- HueAdjustmentBlue: 0
- HueAdjustmentGreen: 0
- HueAdjustmentMagenta: 0
- HueAdjustmentOrange: 0
- HueAdjustmentPurple: 0
- HueAdjustmentRed: 0
- HueAdjustmentYellow: -12
- IncrementalTemperature: 0
- IncrementalTint: 0
- LensManualDistortionAmount: 0
- LensProfileEnable: 0
- LensProfileSetup: LensDefaults
- LuminanceAdjustmentAqua: -3
- LuminanceAdjustmentBlue: -3
- LuminanceAdjustmentGreen: +25
- LuminanceAdjustmentMagenta: 0
- LuminanceAdjustmentOrange: +16
- LuminanceAdjustmentPurple: 0
- LuminanceAdjustmentRed: 0
- LuminanceAdjustmentYellow: +23
- LuminanceSmoothing: 0
- ParametricDarks: 0
- ParametricHighlights: 0
- ParametricHighlightSplit: 75
- ParametricLights: 0
- ParametricMidtoneSplit: 50
- ParametricShadows: 0
- ParametricShadowSplit: 25
- PerspectiveAspect: 0
- PerspectiveHorizontal: 0
- PerspectiveRotate: 0.0
- PerspectiveScale: 100
- PerspectiveUpright: 0
- PerspectiveVertical: 0
- PerspectiveX: 0.00
- PerspectiveY: 0.00
- PostCropVignetteAmount: 0
- ProcessVersion: 6.7
- RawFileName: 190.JPG
- RedHue: 0
- RedSaturation: 0
- Saturation: 0
- SaturationAdjustmentAqua: +5
- SaturationAdjustmentBlue: +14
- SaturationAdjustmentGreen: -10
- SaturationAdjustmentMagenta: 0
- SaturationAdjustmentOrange: +38
- SaturationAdjustmentPurple: 0
- SaturationAdjustmentRed: +13
- SaturationAdjustmentYellow: -6
- Shadows2012: +46
- ShadowTint: 0
- SharpenDetail: 25
- SharpenEdgeMasking: 0
- SharpenRadius: +1.0
- Sharpness: 0
- SplitToningBalance: 0
- SplitToningHighlightHue: 0
- SplitToningHighlightSaturation: 0
- SplitToningShadowHue: 0
- SplitToningShadowSaturation: 0
- ToneCurve: 0, 0, 255, 255
- ToneCurveBlue: 0, 0, 255, 255
- ToneCurveGreen: 0, 0, 255, 255
- ToneCurveName: Linear
- ToneCurveName2012: Linear
- ToneCurvePV2012: 0, 0, 255, 255
- ToneCurvePV2012Blue: 0, 0, 255, 255
- ToneCurvePV2012Green: 0, 0, 255, 255
- ToneCurvePV2012Red: 0, 0, 255, 255
- ToneCurveRed: 0, 0, 255, 255
- ToneMapStrength: 0
- Version: 9.12.1
- Vibrance: +16
- VignetteAmount: 0
- WhiteBalance: As Shot
- Whites2012: -34
- XMP-dc
- XMP-exif
- ApertureValue: 4,5
- DateTimeDigitized: 2024:09:17 10:24:35+05:00
- DateTimeOriginal: 2024:09:17 10:24:35+05:00
- ExposureCompensation: -2/3
- ExposureTime: 1/500
- FlashFired: False
- FlashFunction: False
- FlashMode: Off
- FlashRedEyeMode: False
- FlashReturn: No return detection
- FocalLength: 4,3 mm
- MaxApertureValue: 3,4
- ShutterSpeedValue: 1/500
- XMP-microsoft
- DateAcquired: 2024:09:17 17:02:31.397
- XMP-rdf
- XMP-tiff
- XMP-x
- XMP-xmp
- CreateDate: 2024:09:25 11:09:34+05:00
- ModifyDate: 2024:09:25 11:09:34+05:00
- XMP-xmpMM
- Просмотров: 194
- Рейтинг: голосов еще нет
- Отзывов: 0
Получить код для блога
| Вставка фотографии в текущем разрешении |
Вставка миниатюры |
HTML (для вставки в блог):
BBCode (для вставки в форум):
Ссылка на фото:
Ссылка на миниатюру:
- Послать ссылку другу
| Комментарии к фотографии |