Уважаемые друзья и участники проекта iXBT.photo! К сожалению, 1 марта 2026 года проект iXBT.photo прекратит свою работу и будет закрыт. Мы высоко ценим ваше участие и тот вклад, который вы внесли в развитие нашего сообщества. Пожалуйста, не забудьте сохранить ваши фотографии до этой даты.
С уважением, команда iXBT.com
| DSC00331-49.jpg |
DSC00331-49.jpg
- Раздел: Другое, разное
- Дата съёмки: неизвестно
- Дата загрузки фото: 15.11.2024 14:01
- Оригинальная фотография: 4000 x 6000 (9,1 Мб)
- Технические характеристики:
- Фотоаппарат: Sony ILCE-6400
- Выдержка: 0,0
- Гиперфокальное расстояние: inf m
- Диафрагма: 5,0
- Светочувствительность: 250
- Фокусное расстояние: 54,0 mm (35 mm equivalent: 54,0 mm)
- Полный EXIF
- Adobe
- ColorTransform: YCbCr
- Composite
- Aperture: 5,0
- CircleOfConfusion: 0,020 mm
- FocalLength35efl: 54,0 mm (35 mm equivalent: 54,0 mm)
- FOV: 36,0 deg
- HyperfocalDistance: inf m
- Megapixels: 24,0
- ScaleFactor35efl: 1,5
- ShutterSpeed: 0,0
- ExifIFD
- ApertureValue: 4,0
- BrightnessValue: 5,61875
- ColorSpace: sRGB
- Contrast: Normal
- CreateDate: 2024:10:27 15:44:15
- CustomRendered: Normal
- DateTimeOriginal: 2024:10:27 15:44:15
- DigitalZoomRatio: 1
- ExposureCompensation: 0
- ExposureMode: Auto
- ExposureProgram: Aperture-priority AE
- ExposureTime: 0,0
- Flash: Off, Did not fire
- FNumber: 5,0
- FocalLength: 54,0 mm
- FocalLengthIn35mmFormat: 81 mm
- ISO: 250
- LensInfo: 18-135mm f/3.5-5.6
- LensModel: E 18-135mm F3.5-5.6 OSS
- LightSource: Cloudy
- MaxApertureValue: 4,0
- MeteringMode: Multi-segment
- RecommendedExposureIndex: 250
- Saturation: Normal
- SceneCaptureType: Standard
- SceneType: Directly photographed
- SensitivityType: Recommended Exposure Index
- Sharpness: Normal
- ShutterSpeedValue: 1/64
- WhiteBalance: Manual
- ICC-header
- ICC-meas
- ICC-view
- IFD0
- Make: SONY
- Model: ILCE-6400
- ModifyDate: 2024:10:28 17:55:08
- IFD1
- IPTC
- DateCreated: 2024:10:27
- System
- XMP-aux
- DistortionCorrectionAlreadyApplied: True
- LateralChromaticAberrationCorrectionAlreadyApplied: True
- Lens: E 18-135mm F3.5-5.6 OSS
- LensDistortInfo: 1061747934/1073741824 11610616/1073741824 -645946/1073741824 1002933/1073741824
- VignetteCorrectionAlreadyApplied: True
- XMP-crs
- AlreadyApplied: True
- AutoLateralCA: 0
- Blacks2012: 0
- BlueHue: 0
- BlueSaturation: 0
- Clarity2012: -12
- ColorGradeBlending: 50
- ColorGradeGlobalHue: 0
- ColorGradeGlobalLum: 0
- ColorGradeGlobalSat: 0
- ColorGradeHighlightLum: 0
- ColorGradeMidtoneHue: 0
- ColorGradeMidtoneLum: 0
- ColorGradeMidtoneSat: 0
- ColorGradeShadowLum: 0
- ColorNoiseReduction: 48
- ColorNoiseReductionDetail: 50
- ColorNoiseReductionSmoothness: 50
- ColorTemperature: 5248
- CompatibleVersion: 251854848
- Contrast2012: +27
- CropAngle: 0
- CropBottom: 1
- CropConstrainToWarp: 0
- CropLeft: 0
- CropRight: 1
- CropTop: 0
- DefringeGreenAmount: 0
- DefringeGreenHueHi: 60
- DefringeGreenHueLo: 40
- DefringePurpleAmount: 0
- DefringePurpleHueHi: 70
- DefringePurpleHueLo: 30
- Dehaze: 0
- Exposure2012: 0.00
- GrainAmount: 0
- GreenHue: 0
- GreenSaturation: 0
- HasCrop: False
- HasSettings: True
- HDREditMode: 0
- Highlights2012: -31
- HueAdjustmentAqua: 0
- HueAdjustmentBlue: 0
- HueAdjustmentGreen: 0
- HueAdjustmentMagenta: 0
- HueAdjustmentOrange: 0
- HueAdjustmentPurple: 0
- HueAdjustmentRed: 0
- HueAdjustmentYellow: 0
- LensManualDistortionAmount: 0
- LensProfileDistortionScale: 100
- LensProfileEnable: 1
- LensProfileFilename: SONY (Sony E 18-135mm F3.5-5.6 OSS) - RAW.lcp
- LensProfileIsEmbedded: False
- LensProfileSetup: LensDefaults
- LensProfileVignettingScale: 100
- LookAmount: 1
- LookGroup: Profiles
- LookParametersConvertToGrayscale: False
- LookParametersLookTable: E1095149FDB39D7A057BAB208837E2E1
- LookParametersProcessVersion: 15.4
- LookParametersToneCurvePV2012: 0, 0, 22, 16, 40, 35, 127, 127, 224, 230, 240, 246, 255, 255
- LookParametersToneCurvePV2012Blue: 0, 0, 255, 255
- LookParametersToneCurvePV2012Green: 0, 0, 255, 255
- LookParametersToneCurvePV2012Red: 0, 0, 255, 255
- LookParametersVersion: 16.5
- LookSupportsAmount: false
- LookSupportsMonochrome: false
- LookSupportsOutputReferred: false
- LuminanceAdjustmentAqua: 0
- LuminanceAdjustmentBlue: 0
- LuminanceAdjustmentGreen: 0
- LuminanceAdjustmentMagenta: 0
- LuminanceAdjustmentOrange: 0
- LuminanceAdjustmentPurple: 0
- LuminanceAdjustmentRed: 0
- LuminanceAdjustmentYellow: 0
- LuminanceNoiseReductionContrast: 0
- LuminanceNoiseReductionDetail: 57
- LuminanceSmoothing: 63
- OverrideLookVignette: False
- ParametricDarks: 0
- ParametricHighlights: 0
- ParametricHighlightSplit: 75
- ParametricLights: 0
- ParametricMidtoneSplit: 50
- ParametricShadows: 0
- ParametricShadowSplit: 25
- PerspectiveAspect: 0
- PerspectiveHorizontal: 0
- PerspectiveRotate: 0.0
- PerspectiveScale: 100
- PerspectiveUpright: 0
- PerspectiveVertical: 0
- PerspectiveX: 0.00
- PerspectiveY: 0.00
- PointColors: -1.000000, -1.000000, -1.000000, -1.000000, -1.000000, -1.000000, -1.000000, -1.000000, -1.000000, -1.000000, -1.000000, -1.000000, -1.000000, -1.000000, -1.000000, -1.000000, -1.000000, -1.000000, -1.000000
- PostCropVignetteAmount: 0
- ProcessVersion: 15.4
- RawFileName: DSC00331.ARW
- RedHue: 0
- RedSaturation: 0
- Saturation: +10
- SaturationAdjustmentAqua: 0
- SaturationAdjustmentBlue: 0
- SaturationAdjustmentGreen: 0
- SaturationAdjustmentMagenta: 0
- SaturationAdjustmentOrange: 0
- SaturationAdjustmentPurple: 0
- SaturationAdjustmentRed: 0
- SaturationAdjustmentYellow: 0
- Shadows2012: +12
- ShadowTint: 0
- SharpenDetail: 53
- SharpenEdgeMasking: 0
- SharpenRadius: +1.0
- Sharpness: 103
- SplitToningBalance: 0
- SplitToningHighlightHue: 0
- SplitToningHighlightSaturation: 0
- SplitToningShadowHue: 0
- SplitToningShadowSaturation: 0
- Texture: +31
- Tint: 0
- ToneCurveName2012: Linear
- ToneCurvePV2012: 0, 0, 255, 255
- ToneCurvePV2012Blue: 0, 0, 255, 255
- ToneCurvePV2012Green: 0, 0, 255, 255
- ToneCurvePV2012Red: 0, 0, 255, 255
- Version: 16.5
- Vibrance: +15
- VignetteAmount: 0
- WhiteBalance: Custom
- Whites2012: +24
- XMP-dc
- XMP-exifEX
- XMP-xmp
- CreateDate: 2024:10:27 15:44:15+03:00
- ModifyDate: 2024:10:28 17:55:08+02:00
- XMP-xmpDM
- XMP-xmpMM
- PreservedFileName: DSC00331.ARW
- Просмотров: 43
- Рейтинг: голосов еще нет
- Отзывов: 0
Получить код для блога
| Вставка фотографии в текущем разрешении |
Вставка миниатюры |
HTML (для вставки в блог):
BBCode (для вставки в форум):
Ссылка на фото:
Ссылка на миниатюру:
- Послать ссылку другу
| Комментарии к фотографии |