- Раздел: Путешествия
- Дата съёмки: 31.01.2008 02:10
- Дата загрузки фото: 01.02.2008 00:37
- Оригинальная фотография: 800 x 1200 (185 Кб)
- Технические характеристики:
- Фотоаппарат: Canon EOS-1D Mark II N
- Выдержка: 1/125
- Гиперфокальное расстояние: 671,35 m
- Диафрагма: 8,0
- Светочувствительность: 800
- Фокусное расстояние: 210,0mm (35mm эквивалент: 768,4mm)
- Экспокоррекция: -1
- Полный EXIF
- Adobe
- ColorTransform: YCbCr
- Composite
- Aperture: 8,0
- CircleOfConfusion: 0,008 mm
- FocalLength35efl: 210,0mm (35mm equivalent: 768,4mm)
- HyperfocalDistance: 671,35 m
- LightValue: 10,0
- ScaleFactor35efl: 3,7
- ShutterSpeed: 1/125
- ExifIFD
- ApertureValue: 8,0
- ColorSpace: sRGB
- CreateDate: 2007:12:27 13:19:19
- CustomRendered: Normal
- DateTimeOriginal: 2007:12:27 13:19:19
- ExifImageLength: 1200
- ExifImageWidth: 800
- ExposureCompensation: -1
- ExposureMode: Auto
- ExposureProgram: Aperture-priority AE
- ExposureTime: 1/125
- FNumber: 8,0
- Flash: Off
- FocalLength: 210,0mm
- ISO: 800
- MaxApertureValue: 5,0
- MeteringMode: Multi-segment
- SceneCaptureType: Standard
- ShutterSpeedValue: 1/125
- WhiteBalance: Auto
- ICC-header
- ICC-meas
- ICC-view
- IFD0
- Artist: Lev Karavanov
- Make: Canon
- Model: Canon EOS-1D Mark II N
- ModifyDate: 2008:01:31 02:10:03
- Orientation: Horizontal (normal)
- IFD1
- IPTC
- By-line: Lev Karavanov
- XMP-aux
- Firmware: 1.1.0
- FlashCompensation: 0
- ImageNumber: 18522
- Lens: EF70-300mm f/4-5.6 IS USM
- LensInfo: 70/1 300/1 0/0 0/0
- OwnerName: Lev Karavanov
- SerialNumber: 401416
- XMP-crs
- AlreadyApplied: True
- BlueHue: 0
- BlueSaturation: 0
- Brightness: +150
- CameraProfile: ACR 3.3
- ChromaticAberrationB: 0
- ChromaticAberrationR: 0
- Clarity: 100
- ColorNoiseReduction: 44
- Contrast: +12
- ConvertToGrayscale: False
- Defringe: 0
- Exposure: -1.80
- FillLight: 5
- GreenHue: 0
- GreenSaturation: 0
- HasCrop: False
- HasSettings: True
- HighlightRecovery: 0
- HueAdjustmentAqua: 0
- HueAdjustmentBlue: 0
- HueAdjustmentGreen: 0
- HueAdjustmentMagenta: 0
- HueAdjustmentOrange: 0
- HueAdjustmentPurple: 0
- HueAdjustmentRed: 0
- HueAdjustmentYellow: 0
- LuminanceAdjustmentAqua: 0
- LuminanceAdjustmentBlue: 0
- LuminanceAdjustmentGreen: 0
- LuminanceAdjustmentMagenta: 0
- LuminanceAdjustmentOrange: 0
- LuminanceAdjustmentPurple: 0
- LuminanceAdjustmentRed: 0
- LuminanceAdjustmentYellow: 0
- LuminanceSmoothing: 30
- ParametricDarks: 0
- ParametricHighlightSplit: 75
- ParametricHighlights: 0
- ParametricLights: 0
- ParametricMidtoneSplit: 50
- ParametricShadowSplit: 25
- ParametricShadows: 0
- RawFileName: 2007.12.27.13.19.19.CR2
- RedHue: 0
- RedSaturation: 0
- Saturation: +15
- SaturationAdjustmentAqua: 0
- SaturationAdjustmentBlue: 0
- SaturationAdjustmentGreen: 0
- SaturationAdjustmentMagenta: 0
- SaturationAdjustmentOrange: 0
- SaturationAdjustmentPurple: 0
- SaturationAdjustmentRed: 0
- SaturationAdjustmentYellow: 0
- ShadowTint: 0
- Shadows: 6
- SharpenDetail: 65
- SharpenEdgeMasking: 0
- SharpenRadius: +0.8
- Sharpness: 92
- SplitToningBalance: 0
- SplitToningHighlightHue: 0
- SplitToningHighlightSaturation: 0
- SplitToningShadowHue: 0
- SplitToningShadowSaturation: 0
- Temperature: 5550
- Tint: 0
- ToneCurve: 0, 0, 32, 22, 64, 56, 128, 128, 192, 196, 255, 255
- ToneCurveName: Medium Contrast
- Version: 4.3
- Vibrance: +10
- VignetteAmount: +24
- VignetteMidpoint: 50
- XMP-dc
- Creator: Lev Karavanov
- Format: image/jpeg
- XMP-exif
- DateTimeDigitized: 2007:12:27 13:19:19+03:00
- DateTimeOriginal: 2007:12:27 13:19:19+03:00
- FlashFired: False
- FlashFunction: False
- FlashMode: Off
- FlashRedEyeMode: False
- FlashReturn: No return detection
- XMP-tiff
- ImageHeight: 3504
- ImageWidth: 2336
- XMP-xmp
- CreateDate: 2008:01:31 02:10:03+03:00
- ModifyDate: 2008:01:31 02:10:03+03:00
- XMP-xmpMM
- DerivedFrom:
- Просмотров: 149
- Рейтинг: голосов еще нет
- Отзывов: 0