Уважаемые друзья и участники проекта iXBT.photo! К сожалению, 1 марта 2026 года проект iXBT.photo прекратит свою работу и будет закрыт. Мы высоко ценим ваше участие и тот вклад, который вы внесли в развитие нашего сообщества. Пожалуйста, не забудьте сохранить ваши фотографии до этой даты.
С уважением, команда iXBT.com
| Вверх по реке |
Вверх по реке
гг. Джайлык (4424м) и Тютюбаши (4404м)
- Раздел: Пейзаж
- Дата съёмки: неизвестно
- Дата загрузки фото: 07.02.2025 10:52
- Оригинальная фотография: 1623 x 1080 (954 Кб)
- Технические характеристики:
- Фотоаппарат: Nikon Df
- Выдержка: 0,0
- Гиперфокальное расстояние: inf m
- Диафрагма: 7,1
- Светочувствительность: 100
- Фокусное расстояние: 45,0 mm (35 mm equivalent: 45,0 mm)
- Полный EXIF
- Adobe
- ColorTransform: YCbCr
- Composite
- Aperture: 7,1
- CircleOfConfusion: 0,030 mm
- FocalLength35efl: 45,0 mm (35 mm equivalent: 45,0 mm)
- FOV: 43,0 deg
- HyperfocalDistance: inf m
- LensID: Nikkor 45mm f/2.8 P
- Megapixels: 1,8
- ScaleFactor35efl: 1,0
- ShutterSpeed: 0,0
- ExifIFD
- ApertureValue: 5,7
- CFAPattern: [Red,Green][Green,Blue]
- ColorSpace: sRGB
- Contrast: Normal
- CreateDate: 2024:09:10 16:20:25
- CustomRendered: Normal
- DateTimeOriginal: 2024:09:10 16:20:25
- DigitalZoomRatio: 1
- ExifImageHeight: 1080
- ExifImageWidth: 1623
- ExposureCompensation: 0
- ExposureMode: Auto
- ExposureProgram: Aperture-priority AE
- ExposureTime: 0,0
- Flash: No Flash
- FNumber: 7,1
- FocalLength: 45,0 mm
- FocalLengthIn35mmFormat: 45 mm
- GainControl: None
- ISO: 100
- LensInfo: 45mm f/2.8
- LensModel: 45.0 mm f/2.8
- LightSource: Unknown
- MaxApertureValue: 2,8
- MeteringMode: Multi-segment
- Saturation: Normal
- SceneCaptureType: Standard
- SceneType: Directly photographed
- SensingMethod: One-chip color area
- SensitivityType: Recommended Exposure Index
- SerialNumber: 6010747
- Sharpness: Normal
- ShutterSpeedValue: 1/256
- SubjectDistanceRange: Unknown
- WhiteBalance: Auto
- ICC-header
- ICC-meas
- ICC-view
- IFD0
- Artist: Andrey I. Khodak
- Make: NIKON CORPORATION
- Model: NIKON Df
- ModifyDate: 2024:12:21 22:28:52
- Orientation: Horizontal (normal)
- IFD1
- IPTC
- By-line: Andrey I. Khodak
- DateCreated: 2024:09:10
- System
- XMP-aux
- ApproximateFocusDistance: 4294967295
- ImageNumber: 3675
- LateralChromaticAberrationCorrectionAlreadyApplied: True
- Lens: 45.0 mm f/2.8
- LensID: 114
- VignetteCorrectionAlreadyApplied: True
- XMP-crs
- AlreadyApplied: True
- AutoLateralCA: 0
- Blacks2012: 0
- BlueHue: 0
- BlueSaturation: 0
- Brightness: 0
- CameraProfile: Embedded
- Clarity: 0
- Clarity2012: 0
- ColorNoiseReduction: 0
- Contrast: 0
- Contrast2012: 0
- ConvertToGrayscale: False
- Defringe: 0
- Exposure: 0.00
- Exposure2012: 0.00
- FillLight: 10
- GrainAmount: 0
- GreenHue: 0
- GreenSaturation: 0
- HasCrop: False
- HasSettings: True
- HighlightRecovery: 18
- Highlights2012: 0
- HueAdjustmentAqua: 0
- HueAdjustmentBlue: 0
- HueAdjustmentGreen: 0
- HueAdjustmentMagenta: 0
- HueAdjustmentOrange: 0
- HueAdjustmentPurple: 0
- HueAdjustmentRed: 0
- HueAdjustmentYellow: 0
- IncrementalTemperature: 0
- IncrementalTint: 0
- LensManualDistortionAmount: 0
- LensProfileEnable: 0
- LensProfileSetup: LensDefaults
- LuminanceAdjustmentAqua: 0
- LuminanceAdjustmentBlue: 0
- LuminanceAdjustmentGreen: 0
- LuminanceAdjustmentMagenta: 0
- LuminanceAdjustmentOrange: 0
- LuminanceAdjustmentPurple: 0
- LuminanceAdjustmentRed: 0
- LuminanceAdjustmentYellow: 0
- LuminanceSmoothing: 0
- ParametricDarks: 0
- ParametricHighlights: 0
- ParametricHighlightSplit: 75
- ParametricLights: 0
- ParametricMidtoneSplit: 50
- ParametricShadows: 0
- ParametricShadowSplit: 25
- PerspectiveHorizontal: 0
- PerspectiveRotate: 0.0
- PerspectiveScale: 100
- PerspectiveVertical: 0
- PostCropVignetteAmount: 0
- ProcessVersion: 5.7
- RawFileName: DSC_3886_1_1.tif
- RedHue: 0
- RedSaturation: 0
- Saturation: 0
- SaturationAdjustmentAqua: 0
- SaturationAdjustmentBlue: +12
- SaturationAdjustmentGreen: 0
- SaturationAdjustmentMagenta: 0
- SaturationAdjustmentOrange: 0
- SaturationAdjustmentPurple: 0
- SaturationAdjustmentRed: 0
- SaturationAdjustmentYellow: 0
- Shadows: 0
- Shadows2012: 0
- ShadowTint: 0
- SharpenDetail: 25
- SharpenEdgeMasking: 0
- SharpenRadius: +1.0
- Sharpness: 0
- SplitToningBalance: 0
- SplitToningHighlightHue: 0
- SplitToningHighlightSaturation: 0
- SplitToningShadowHue: 0
- SplitToningShadowSaturation: 0
- ToneCurve: 0, 0, 255, 255
- ToneCurveBlue: 0, 0, 255, 255
- ToneCurveGreen: 0, 0, 255, 255
- ToneCurveName: Linear
- ToneCurveName2012: Linear
- ToneCurvePV2012: 0, 0, 255, 255
- ToneCurvePV2012Blue: 0, 0, 255, 255
- ToneCurvePV2012Green: 0, 0, 255, 255
- ToneCurvePV2012Red: 0, 0, 255, 255
- ToneCurveRed: 0, 0, 255, 255
- Version: 6.7
- Vibrance: 0
- VignetteAmount: 0
- WhiteBalance: As Shot
- Whites2012: 0
- XMP-dc
- Creator: Andrey I. Khodak
- Format: image/jpeg
- XMP-xmp
- CreateDate: 2024:09:10 16:20:25.70
- ModifyDate: 2024:12:21 22:28:52+03:00
- Rating: 5
- XMP-xmpMM
Получить код для блога
| Вставка фотографии в текущем разрешении |
Вставка миниатюры |
HTML (для вставки в блог):
BBCode (для вставки в форум):
Ссылка на фото:
Ссылка на миниатюру:
- Послать ссылку другу
| Комментарии к фотографии |