- Раздел: Путешествия
- Дата съёмки: 31.01.2008 20:45
- Дата загрузки фото: 01.02.2008 02:34
- Оригинальная фотография: 800 x 533 ( 75 Кб)
- Технические характеристики:
- Фотоаппарат: Canon EOS-1D Mark II N
- Выдержка: 1/640
- Гиперфокальное расстояние: 660,06 m
- Диафрагма: 8,0
- Светочувствительность: 800
- Фокусное расстояние: 170,0mm (35mm эквивалент: 933,3mm)
- Экспокоррекция: -1
- Полный EXIF
- Adobe
- ColorTransform: YCbCr
- Composite
- Aperture: 8,0
- CircleOfConfusion: 0,005 mm
- FocalLength35efl: 170,0mm (35mm equivalent: 933,3mm)
- HyperfocalDistance: 660,06 m
- LightValue: 12,3
- ScaleFactor35efl: 5,5
- ShutterSpeed: 1/640
- ExifIFD
- ApertureValue: 8,0
- ColorSpace: sRGB
- CreateDate: 2007:12:27 14:01:38
- CustomRendered: Normal
- DateTimeOriginal: 2007:12:27 14:01:38
- ExifImageLength: 533
- ExifImageWidth: 800
- ExposureCompensation: -1
- ExposureMode: Auto
- ExposureProgram: Aperture-priority AE
- ExposureTime: 1/640
- FNumber: 8,0
- Flash: Off
- FocalLength: 170,0mm
- ISO: 800
- MaxApertureValue: 5,0
- MeteringMode: Multi-segment
- SceneCaptureType: Standard
- ShutterSpeedValue: 1/640
- WhiteBalance: Auto
- ICC-header
- ICC-meas
- ICC-view
- IFD0
- Artist: Lev Karavanov
- Make: Canon
- Model: Canon EOS-1D Mark II N
- ModifyDate: 2008:01:31 20:45:29
- Orientation: Horizontal (normal)
- IFD1
- IPTC
- By-line: Lev Karavanov
- XMP-aux
- Firmware: 1.1.0
- FlashCompensation: 0
- ImageNumber: 18608
- Lens: EF70-300mm f/4-5.6 IS USM
- LensInfo: 70/1 300/1 0/0 0/0
- OwnerName: Lev Karavanov
- SerialNumber: 401416
- XMP-crs
- AlreadyApplied: True
- BlueHue: 0
- BlueSaturation: 0
- Brightness: +150
- CameraProfile: ACR 3.3
- ChromaticAberrationB: 0
- ChromaticAberrationR: 0
- Clarity: 100
- ColorNoiseReduction: 44
- Contrast: +11
- ConvertToGrayscale: False
- Defringe: 0
- Exposure: -0.85
- FillLight: 18
- GreenHue: 0
- GreenSaturation: 0
- HasCrop: False
- HasSettings: True
- HighlightRecovery: 0
- HueAdjustmentAqua: 0
- HueAdjustmentBlue: 0
- HueAdjustmentGreen: 0
- HueAdjustmentMagenta: 0
- HueAdjustmentOrange: 0
- HueAdjustmentPurple: 0
- HueAdjustmentRed: 0
- HueAdjustmentYellow: 0
- LuminanceAdjustmentAqua: 0
- LuminanceAdjustmentBlue: 0
- LuminanceAdjustmentGreen: 0
- LuminanceAdjustmentMagenta: 0
- LuminanceAdjustmentOrange: 0
- LuminanceAdjustmentPurple: 0
- LuminanceAdjustmentRed: 0
- LuminanceAdjustmentYellow: 0
- LuminanceSmoothing: 30
- ParametricDarks: 0
- ParametricHighlightSplit: 75
- ParametricHighlights: 0
- ParametricLights: 0
- ParametricMidtoneSplit: 50
- ParametricShadowSplit: 25
- ParametricShadows: 0
- RawFileName: 2007.12.27.14.01.38.CR2
- RedHue: 0
- RedSaturation: 0
- Saturation: +15
- SaturationAdjustmentAqua: 0
- SaturationAdjustmentBlue: 0
- SaturationAdjustmentGreen: 0
- SaturationAdjustmentMagenta: 0
- SaturationAdjustmentOrange: 0
- SaturationAdjustmentPurple: 0
- SaturationAdjustmentRed: 0
- SaturationAdjustmentYellow: 0
- ShadowTint: 0
- Shadows: 8
- SharpenDetail: 65
- SharpenEdgeMasking: 0
- SharpenRadius: +0.8
- Sharpness: 92
- SplitToningBalance: 0
- SplitToningHighlightHue: 0
- SplitToningHighlightSaturation: 0
- SplitToningShadowHue: 0
- SplitToningShadowSaturation: 0
- Temperature: 6000
- Tint: +5
- ToneCurve: 0, 0, 32, 22, 64, 56, 128, 128, 192, 196, 255, 255
- ToneCurveName: Medium Contrast
- Version: 4.3
- Vibrance: +10
- VignetteAmount: +24
- VignetteMidpoint: 50
- XMP-dc
- Creator: Lev Karavanov
- Format: image/jpeg
- XMP-exif
- DateTimeDigitized: 2007:12:27 14:01:38+03:00
- DateTimeOriginal: 2007:12:27 14:01:38+03:00
- FlashFired: False
- FlashFunction: False
- FlashMode: Off
- FlashRedEyeMode: False
- FlashReturn: No return detection
- XMP-tiff
- ImageHeight: 2336
- ImageWidth: 3504
- XMP-xmp
- CreateDate: 2008:01:31 20:45:29+03:00
- ModifyDate: 2008:01:31 20:45:29+03:00
- XMP-xmpMM
- DerivedFrom:
- Просмотров: 172
- Рейтинг: голосов еще нет
- Отзывов: 0