| » Участники » SVAM » РАЗНОЕ » B0000031 копия.jpg |
Уважаемые друзья и участники проекта iXBT.photo! К сожалению, 1 марта 2026 года проект iXBT.photo прекратит свою работу и будет закрыт. Мы высоко ценим ваше участие и тот вклад, который вы внесли в развитие нашего сообщества. Пожалуйста, не забудьте сохранить ваши фотографии до этой даты.
С уважением, команда iXBT.com
| B0000031 копия.jpg |
B0000031 копия.jpg
- Раздел: Отдых, развлечения
- Дата съёмки: неизвестно
- Дата загрузки фото: 02.09.2025 00:29
- Оригинальная фотография: 4000 x 3000 (673 Кб)
- Технические характеристики:
- Фотоаппарат: Hasselblad X2D II 100C
- Выдержка: 0,0
- Гиперфокальное расстояние: inf m
- Диафрагма: 4,0
- Светочувствительность: 12800
- Фокусное расстояние: 100,0 mm
- Полный EXIF
- Adobe
- ColorTransform: YCbCr
- Composite
- Aperture: 4,0
- CircleOfConfusion: 0,039 mm
- FocalLength35efl: 100,0 mm
- HyperfocalDistance: inf m
- Megapixels: 12,0
- ScaleFactor35efl: 0,8
- ShutterSpeed: 0,0
- ExifIFD
- ApertureValue: 4,0
- ColorSpace: Uncalibrated
- DateTimeOriginal: 2025:09:02 00:23:08
- ExifImageHeight: 3000
- ExifImageWidth: 4000
- ExposureCompensation: 0
- ExposureProgram: Aperture-priority AE
- ExposureTime: 0,0
- Flash: No Flash
- FNumber: 4,0
- FocalLength: 100,0 mm
- FocalLengthIn35mmFormat: 78 mm
- ISO: 12800
- LensMake: Hasselblad
- LensModel: XCD 35-100E@100
- MaxApertureValue: 4,0
- MeteringMode: Center-weighted average
- SerialNumber: XU25501569
- ShutterSpeedValue: 1/32
- ICC-header
- IFD0
- Make: Hasselblad
- Model: X2D II 100C
- ModifyDate: 2025:09:02 00:28:34
- Orientation: Horizontal (normal)
- IFD1
- IPTC
- DateCreated: 2025:09:02
- System
- XMP-aux
- Lens: XCD 35-100E@100
- XMP-crs
- AllowFilters: 1
- AlreadyApplied: True
- AutoLateralCA: 0
- Blacks2012: 0
- BlueHue: 0
- BlueSaturation: 0
- CameraProfile: Embedded
- Clarity2012: 0
- ColorGradeBlending: 50
- ColorGradeGlobalHue: 0
- ColorGradeGlobalLum: 0
- ColorGradeGlobalSat: 0
- ColorGradeHighlightLum: 0
- ColorGradeMidtoneHue: 0
- ColorGradeMidtoneLum: 0
- ColorGradeMidtoneSat: 0
- ColorGradeShadowLum: 0
- ColorNoiseReduction: 0
- ColorTemperature: 4100
- ColorVariance: -50.000000
- CompatibleVersion: 285212672
- Contrast2012: 0
- ConvertToGrayscale: False
- DefringeGreenAmount: 0
- DefringeGreenHueHi: 60
- DefringeGreenHueLo: 40
- DefringePurpleAmount: 0
- DefringePurpleHueHi: 70
- DefringePurpleHueLo: 30
- Dehaze: 0
- Exposure2012: -0.65
- FilterListFiltersCompressedSettings: 0DA5471E2D7C6364EFB8266EED12326C
- FilterListFiltersDstBoundsBottom: 8750
- FilterListFiltersDstBoundsLeft: 0
- FilterListFiltersDstBoundsRight: 11664
- FilterListFiltersDstBoundsTop: 0
- FilterListFiltersDstDefaultCropAreaBottom: 8746
- FilterListFiltersDstDefaultCropAreaLeft: 4
- FilterListFiltersDstDefaultCropAreaRight: 11660
- FilterListFiltersDstDefaultCropAreaTop: 4
- FilterListFiltersFilterID: 1
- FilterListFiltersImagesBlendParams: 0,700000000186265, 0,75, 1, 1
- FilterListFiltersImagesBlendType: 1
- FilterListFiltersImagesBlendWhiteBalanceMode: 2
- FilterListFiltersImagesColorVariationsBlackLevelsBlack: 0,1
- FilterListFiltersImagesColorVariationsImageGroupPixelType: 3
- FilterListFiltersImagesColorVariationsImageGroupPlanes: 3
- FilterListFiltersImagesColorVariationsImageGroupSizeX: 11664
- FilterListFiltersImagesColorVariationsImageGroupSizeY: 8750
- FilterListFiltersImagesColorVariationsImageGroupStage3X: 11656
- FilterListFiltersImagesColorVariationsImageGroupStage3Y: 8742
- FilterListFiltersImagesColorVariationsLinearizationMapPolynomial: 8, 16769897937775e-05, 0, 0615178383886814, 0, 0, 922767573036253, 0, 000277700833976269, 0, 0624826438724995, 0, 0, 937239655293524, 4, 90061938762665e-05, 0, 0313076842576265, 0, 0, 469615262001753
- FilterListFiltersImagesMatrixParamsA: 0,25, 0,25
- FilterListFiltersImagesMatrixParamsB: 0,25, 0,25
- FilterListFiltersImagesMatrixTypeA: 1
- FilterListFiltersImagesMatrixTypeB: 1
- FilterListFiltersImagesMatrixTypeC: 4
- FilterListFiltersImagesOpacity: 1,1
- FilterListFiltersImagesReferenceDefaultCropAreaBottom: 8746
- FilterListFiltersImagesReferenceDefaultCropAreaLeft: 4
- FilterListFiltersImagesReferenceDefaultCropAreaRight: 11660
- FilterListFiltersImagesReferenceDefaultCropAreaTop: 4
- FilterListFiltersImagesReferenceImageAreaBottom: 8750
- FilterListFiltersImagesReferenceImageAreaLeft: 0
- FilterListFiltersImagesReferenceImageAreaRight: 11664
- FilterListFiltersImagesReferenceImageAreaTop: 0
- FilterListFiltersMinDisplayVersion: 285212672
- FilterListFiltersMinEditVersion: 285212672
- FilterListFiltersName: Enhance
- FilterListFiltersOrderIndexD: 1
- FilterListFiltersOrderIndexN: 100000
- FilterListFiltersShouldDeleteImagesDueToUpstream: true
- FilterListFiltersSrcBoundsBottom: 8750
- FilterListFiltersSrcBoundsLeft: 0
- FilterListFiltersSrcBoundsRight: 11664
- FilterListFiltersSrcBoundsTop: 0
- FilterListFiltersSrcDefaultCropAreaBottom: 8746
- FilterListFiltersSrcDefaultCropAreaLeft: 4
- FilterListFiltersSrcDefaultCropAreaRight: 11660
- FilterListFiltersSrcDefaultCropAreaTop: 4
- FilterListFiltersTitle: $$$/CRaw/Filter/Title/Denoise=Denoise
- GrainAmount: 0
- GreenHue: 0
- GreenSaturation: 0
- HasCrop: False
- HasSettings: True
- HDREditMode: 0
- Highlights2012: -31
- HueAdjustmentAqua: 0
- HueAdjustmentBlue: 0
- HueAdjustmentGreen: 0
- HueAdjustmentMagenta: 0
- HueAdjustmentOrange: 0
- HueAdjustmentPurple: 0
- HueAdjustmentRed: 0
- HueAdjustmentYellow: 0
- LensManualDistortionAmount: 0
- LensProfileEnable: 0
- LuminanceAdjustmentAqua: 0
- LuminanceAdjustmentBlue: 0
- LuminanceAdjustmentGreen: 0
- LuminanceAdjustmentMagenta: 0
- LuminanceAdjustmentOrange: 0
- LuminanceAdjustmentPurple: 0
- LuminanceAdjustmentRed: -53
- LuminanceAdjustmentYellow: 0
- LuminanceSmoothing: 0
- OverrideLookVignette: False
- ParametricDarks: 0
- ParametricHighlights: 0
- ParametricHighlightSplit: 75
- ParametricLights: 0
- ParametricMidtoneSplit: 50
- ParametricShadows: 0
- ParametricShadowSplit: 25
- PerspectiveAspect: 0
- PerspectiveHorizontal: 0
- PerspectiveRotate: 0.0
- PerspectiveScale: 100
- PerspectiveUpright: 0
- PerspectiveVertical: 0
- PerspectiveX: 0.00
- PerspectiveY: 0.00
- PointColors: -1.000000, -1.000000, -1.000000, -1.000000, -1.000000, -1.000000, -1.000000, -1.000000, -1.000000, -1.000000, -1.000000, -1.000000, -1.000000, -1.000000, -1.000000, -1.000000, -1.000000, -1.000000, -1.000000
- PostCropVignetteAmount: 0
- ProcessVersion: 15.4
- RedHue: 0
- RedSaturation: 0
- Saturation: 0
- SaturationAdjustmentAqua: 0
- SaturationAdjustmentBlue: 0
- SaturationAdjustmentGreen: 0
- SaturationAdjustmentMagenta: 0
- SaturationAdjustmentOrange: 0
- SaturationAdjustmentPurple: 0
- SaturationAdjustmentRed: -13
- SaturationAdjustmentYellow: 0
- Shadows2012: 0
- ShadowTint: 0
- SharpenDetail: 25
- SharpenEdgeMasking: 0
- SharpenRadius: +1.0
- Sharpness: 40
- SplitToningBalance: 0
- SplitToningHighlightHue: 0
- SplitToningHighlightSaturation: 0
- SplitToningShadowHue: 0
- SplitToningShadowSaturation: 0
- Texture: 0
- Tint: +10
- ToneCurveName2012: Linear
- ToneCurvePV2012: 0, 0, 255, 255
- ToneCurvePV2012Blue: 0, 0, 255, 255
- ToneCurvePV2012Green: 0, 0, 255, 255
- ToneCurvePV2012Red: 0, 0, 255, 255
- Version: 17.4.2
- Vibrance: 0
- VignetteAmount: 0
- WhiteBalance: Custom
- Whites2012: 0
- XMP-dc
- XMP-exifEX
- XMP-xmp
- CreateDate: 2025:09:02 00:23:08
- CreatorTool: 1.1.8.6
- ModifyDate: 2025:09:02 00:28:34+03:00
- Rating: 0
- XMP-xmpMM
- Просмотров: 91
- Рейтинг: голосов еще нет
- Отзывов: 0
Получить код для блога
| Вставка фотографии в текущем разрешении |
Вставка миниатюры |
HTML (для вставки в блог):
BBCode (для вставки в форум):
Ссылка на фото:
Ссылка на миниатюру:
- Послать ссылку другу
| Комментарии к фотографии |