- Раздел: Другое, разное
- Дата съёмки: 04.02.2008 22:23
- Дата загрузки фото: 05.02.2008 12:15
- Оригинальная фотография: 1333 x 2000 (2,2 Мб)
- Технические характеристики:
- Фотоаппарат: Nikon D50
- Выдержка: 1/80
- Гиперфокальное расстояние: 2,89 m
- Диафрагма: 5,6
- Светочувствительность: 200
- Фокусное расстояние: 18,0mm (35mm эквивалент: 27,0mm)
- Полный EXIF
- Adobe
- ColorTransform: YCbCr
- Composite
- Aperture: 5,6
- CircleOfConfusion: 0,020 mm
- FocalLength35efl: 18,0mm (35mm equivalent: 27,0mm)
- HyperfocalDistance: 2,89 m
- LightValue: 10,3
- ScaleFactor35efl: 1,5
- ShutterSpeed: 1/80
- ExifIFD
- ApertureValue: 5,6
- CFAPattern: [Blue,Green][Green,Red]
- ColorSpace: sRGB
- Contrast: Normal
- CreateDate: 2008:02:04 08:20:25
- CustomRendered: Normal
- DateTimeOriginal: 2008:02:04 08:20:25
- DigitalZoomRatio: 1
- ExifImageLength: 2000
- ExifImageWidth: 1333
- ExposureCompensation: 0
- ExposureMode: Manual
- ExposureProgram: Manual
- ExposureTime: 1/80
- FNumber: 5,6
- Flash: Auto, Fired, Return detected
- FocalLength: 18,0mm
- FocalLengthIn35mmFormat: 27mm
- GainControl: None
- ISO: 200
- LightSource: Unknown (0)
- MaxApertureValue: 3,5
- MeteringMode: Multi-segment
- Saturation: Normal
- SceneCaptureType: Standard
- SceneType: Directly photographed
- SensingMethod: One-chip color area
- Sharpness: Soft
- ShutterSpeedValue: 1/80
- WhiteBalance: Auto
- ICC-header
- ICC-meas
- ICC-view
- IFD0
- Make: NIKON CORPORATION
- Model: NIKON D50
- ModifyDate: 2008:02:04 22:23:21
- Orientation: Horizontal (normal)
- IFD1
- IPTC
- XMP-aux
- ImageNumber: 6395
- Lens: 18.0-55.0 mm f/3.5-5.6
- LensInfo: 180/10 550/10 35/10 56/10
- XMP-crs
- AlreadyApplied: True
- BlueHue: 0
- BlueSaturation: 0
- Brightness: +50
- CameraProfile: ACR 2.4
- ChromaticAberrationB: 0
- ChromaticAberrationR: 0
- Clarity: 0
- ColorNoiseReduction: 25
- Contrast: +25
- ConvertToGrayscale: False
- Defringe: 0
- Exposure: -0.10
- FillLight: 0
- GreenHue: 0
- GreenSaturation: 0
- HasCrop: False
- HasSettings: True
- HighlightRecovery: 15
- HueAdjustmentAqua: 0
- HueAdjustmentBlue: 0
- HueAdjustmentGreen: 0
- HueAdjustmentMagenta: 0
- HueAdjustmentOrange: 0
- HueAdjustmentPurple: 0
- HueAdjustmentRed: 0
- HueAdjustmentYellow: 0
- LuminanceAdjustmentAqua: 0
- LuminanceAdjustmentBlue: 0
- LuminanceAdjustmentGreen: 0
- LuminanceAdjustmentMagenta: 0
- LuminanceAdjustmentOrange: 0
- LuminanceAdjustmentPurple: 0
- LuminanceAdjustmentRed: 0
- LuminanceAdjustmentYellow: 0
- LuminanceSmoothing: 0
- ParametricDarks: 0
- ParametricHighlightSplit: 75
- ParametricHighlights: 0
- ParametricLights: 0
- ParametricMidtoneSplit: 50
- ParametricShadowSplit: 25
- ParametricShadows: 0
- RawFileName: 2008-02-04_08-20-26.NEF
- RedHue: 0
- RedSaturation: 0
- Saturation: 0
- SaturationAdjustmentAqua: 0
- SaturationAdjustmentBlue: 0
- SaturationAdjustmentGreen: 0
- SaturationAdjustmentMagenta: 0
- SaturationAdjustmentOrange: 0
- SaturationAdjustmentPurple: 0
- SaturationAdjustmentRed: 0
- SaturationAdjustmentYellow: 0
- ShadowTint: 0
- Shadows: 5
- SharpenDetail: 0
- SharpenEdgeMasking: 0
- SharpenRadius: +1.0
- Sharpness: 0
- SplitToningBalance: 0
- SplitToningHighlightHue: 0
- SplitToningHighlightSaturation: 0
- SplitToningShadowHue: 0
- SplitToningShadowSaturation: 0
- Temperature: 5500
- Tint: 0
- ToneCurve: 0, 0, 32, 22, 64, 56, 128, 128, 192, 196, 255, 255
- ToneCurveName: Medium Contrast
- Version: 4.3.1
- Vibrance: 0
- VignetteAmount: 0
- WhiteBalance: Flash
- XMP-dc
- XMP-exif
- DateTimeDigitized: 2008:02:04 08:20:25.40+01:00
- DateTimeOriginal: 2008:02:04 08:20:25.40+01:00
- FlashFired: True
- FlashFunction: False
- FlashMode: Auto
- FlashRedEyeMode: False
- FlashReturn: Return detected
- FocalLengthIn35mmFormat: 27
- SubjectDistanceRange: Unknown
- XMP-tiff
- XMP-xmp
- CreateDate: 2008:02:04 22:23:21+01:00
- ModifyDate: 2008:02:04 22:23:21+01:00
- Rating: 0
- XMP-xmpMM
- DerivedFrom:
- Просмотров: 158
- Рейтинг: голосов еще нет
- Отзывов: отключены