- Раздел: Другое, разное
- Дата съёмки: 23.02.2008 13:08
- Дата загрузки фото: 24.02.2008 00:29
- Оригинальная фотография: 3008 x 2000 (1,8 Мб)
- Технические характеристики:
- Фотоаппарат: Nikon D50
- Выдержка: 7,7
- Гиперфокальное расстояние: 5,51 m
- Диафрагма: 11,0
- Светочувствительность: 800
- Фокусное расстояние: 35,0mm (35mm эквивалент: 52,0mm)
- Полный EXIF
- Adobe
- ColorTransform: YCbCr
- Composite
- Aperture: 11,0
- CircleOfConfusion: 0,020 mm
- FocalLength35efl: 35,0mm (35mm equivalent: 52,0mm)
- HyperfocalDistance: 5,51 m
- LightValue: 1,0
- ScaleFactor35efl: 1,5
- ShutterSpeed: 7,7
- ExifIFD
- ApertureValue: 11,0
- CFAPattern: [Blue,Green][Green,Red]
- Contrast: Normal
- CreateDate: 2008:02:23 13:08:17
- CustomRendered: Normal
- DateTimeOriginal: 2008:02:23 13:08:17
- DigitalZoomRatio: 1
- ExposureCompensation: 0
- ExposureMode: Manual
- ExposureProgram: Manual
- ExposureTime: 7,7
- FNumber: 11,0
- Flash: No Flash
- FocalLength: 35,0mm
- FocalLengthIn35mmFormat: 52mm
- GainControl: Low gain up
- ISO: 800
- LightSource: Unknown (0)
- MaxApertureValue: 2,0
- MeteringMode: Multi-segment
- Saturation: Normal
- SceneCaptureType: Standard
- SceneType: Directly photographed
- SensingMethod: One-chip color area
- Sharpness: Soft
- ShutterSpeedValue: 7,7
- UserComment: Tsemenko Ilya @ ilya@topmods.net
- WhiteBalance: Auto
- ICC-header
- IFD0
- Make: NIKON CORPORATION
- Model: NIKON D50
- ModifyDate: 2008:02:23 22:11:49
- Software: Ver.1.00
- XMP-aux
- ImageNumber: 16925
- Lens: 35.0 mm f/2.0
- LensInfo: 350/10 350/10 20/10 20/10
- XMP-crs
- AlreadyApplied: True
- BlueHue: 0
- BlueSaturation: 0
- Brightness: +31
- CameraProfile: ACR 2.4
- ChromaticAberrationB: 0
- ChromaticAberrationR: 0
- Clarity: 0
- ColorNoiseReduction: 25
- Contrast: 0
- ConvertToGrayscale: False
- Defringe: 0
- Exposure: -1.05
- FillLight: 0
- GreenHue: 0
- GreenSaturation: 0
- HasCrop: False
- HasSettings: True
- HighlightRecovery: 65
- HueAdjustmentAqua: 0
- HueAdjustmentBlue: 0
- HueAdjustmentGreen: 0
- HueAdjustmentMagenta: 0
- HueAdjustmentOrange: 0
- HueAdjustmentPurple: 0
- HueAdjustmentRed: 0
- HueAdjustmentYellow: 0
- LuminanceAdjustmentAqua: 0
- LuminanceAdjustmentBlue: 0
- LuminanceAdjustmentGreen: 0
- LuminanceAdjustmentMagenta: 0
- LuminanceAdjustmentOrange: 0
- LuminanceAdjustmentPurple: 0
- LuminanceAdjustmentRed: 0
- LuminanceAdjustmentYellow: 0
- LuminanceSmoothing: 0
- ParametricDarks: 0
- ParametricHighlightSplit: 75
- ParametricHighlights: 0
- ParametricLights: 0
- ParametricMidtoneSplit: 50
- ParametricShadowSplit: 25
- ParametricShadows: 0
- RedHue: 0
- RedSaturation: 0
- Saturation: 0
- SaturationAdjustmentAqua: 0
- SaturationAdjustmentBlue: 0
- SaturationAdjustmentGreen: 0
- SaturationAdjustmentMagenta: 0
- SaturationAdjustmentOrange: 0
- SaturationAdjustmentPurple: 0
- SaturationAdjustmentRed: 0
- SaturationAdjustmentYellow: 0
- ShadowTint: 0
- Shadows: 22
- SharpenDetail: 25
- SharpenEdgeMasking: 0
- SharpenRadius: +1.0
- Sharpness: 25
- SplitToningBalance: 0
- SplitToningHighlightHue: 0
- SplitToningHighlightSaturation: 0
- SplitToningShadowHue: 0
- SplitToningShadowSaturation: 0
- Temperature: 3450
- Tint: +13
- ToneCurve: 0, 0, 32, 22, 64, 56, 128, 128, 192, 196, 255, 255
- ToneCurveName: Medium Contrast
- Version: 1.0
- Vibrance: 0
- VignetteAmount: 0
- XMP-exif
- DateTimeDigitized: 2008:02:23 13:08:17.70+02:00
- DateTimeOriginal: 2008:02:23 13:08:17.70+02:00
- FlashFired: False
- FlashFunction: False
- FlashMode: Unknown
- FlashRedEyeMode: False
- FlashReturn: No return detection
- FocalLengthIn35mmFormat: 52
- SubjectDistanceRange: Unknown
- XMP-tiff
- ImageHeight: 2000
- ImageWidth: 3008
- XMP-xmp
- ModifyDate: 2008:02:23 22:11:49+02:00
- Просмотров: 188
- Рейтинг: голосов еще нет
- Отзывов: 0