- Раздел: Другое, разное
- Дата съёмки: 05.03.2008 09:03
- Дата загрузки фото: 09.03.2008 14:14
- Оригинальная фотография: 1024 x 768 ( 68 Кб)
- Технические характеристики:
- Фотоаппарат: Canon EOS 400D DIGITAL
- Выдержка: 1/1000
- Гиперфокальное расстояние: 1211,49 m
- Диафрагма: 6,3
- Светочувствительность: 400
- Фокусное расстояние: 250,0mm (35mm эквивалент: 917,3mm)
- Экспокоррекция: +4/3
- Полный EXIF
- Composite
- Aperture: 6,3
- CircleOfConfusion: 0,008 mm
- FocalLength35efl: 250,0mm (35mm equivalent: 917,3mm)
- HyperfocalDistance: 1211,49 m
- LightValue: 13,3
- ScaleFactor35efl: 3,7
- ShutterSpeed: 1/1000
- ExifIFD
- ApertureValue: 6,3
- ColorSpace: Uncalibrated
- CreateDate: 2008:03:01 15:24:48
- CustomRendered: Normal
- DateTimeOriginal: 2008:03:01 15:24:48
- ExifImageLength: 768
- ExifImageWidth: 1024
- ExposureCompensation: +4/3
- ExposureMode: Auto
- ExposureProgram: Aperture-priority AE
- ExposureTime: 1/1000
- FNumber: 6,3
- Flash: Off
- FocalLength: 250,0mm
- ISO: 400
- MaxApertureValue: 5,6
- MeteringMode: Multi-segment
- SceneCaptureType: Standard
- ShutterSpeedValue: 1/1000
- WhiteBalance: Auto
- ICC-header
- IFD0
- Artist: unknown
- Make: Canon
- Model: Canon EOS 400D DIGITAL
- ModifyDate: 2008:03:09 03:06:26
- Orientation: Horizontal (normal)
- Software: ACD Systems Digital Imaging
- IFD1
- IPTC
- XMP-aux
- Firmware: 1.0.4
- FlashCompensation: 0
- ImageNumber: 192
- Lens: 55.0-250.0 mm
- LensInfo: 55/1 250/1 0/0 0/0
- OwnerName: unknown
- SerialNumber: 430124338
- XMP-crs
- AlreadyApplied: True
- BlueHue: 0
- BlueSaturation: 0
- Brightness: +51
- CameraProfile: ACR 3.6
- ChromaticAberrationB: 0
- ChromaticAberrationR: 0
- ColorNoiseReduction: 26
- Contrast: +32
- ConvertToGrayscale: False
- Exposure: +0.25
- FillLight: 0
- GreenHue: 0
- GreenSaturation: 0
- HasCrop: False
- HasSettings: True
- HighlightRecovery: 0
- HueAdjustmentAqua: 0
- HueAdjustmentBlue: 0
- HueAdjustmentGreen: 0
- HueAdjustmentMagenta: 0
- HueAdjustmentOrange: 0
- HueAdjustmentPurple: 0
- HueAdjustmentRed: 0
- HueAdjustmentYellow: 0
- LuminanceAdjustmentAqua: 0
- LuminanceAdjustmentBlue: 0
- LuminanceAdjustmentGreen: 0
- LuminanceAdjustmentMagenta: 0
- LuminanceAdjustmentOrange: 0
- LuminanceAdjustmentPurple: 0
- LuminanceAdjustmentRed: 0
- LuminanceAdjustmentYellow: 0
- LuminanceSmoothing: 15
- ParametricDarks: 0
- ParametricHighlightSplit: 75
- ParametricHighlights: -4
- ParametricLights: 0
- ParametricMidtoneSplit: 50
- ParametricShadowSplit: 25
- ParametricShadows: 0
- RawFileName: IMG_6236.CR2
- RedHue: 0
- RedSaturation: 0
- Saturation: +20
- SaturationAdjustmentAqua: 0
- SaturationAdjustmentBlue: 0
- SaturationAdjustmentGreen: 0
- SaturationAdjustmentMagenta: 0
- SaturationAdjustmentOrange: 0
- SaturationAdjustmentPurple: 0
- SaturationAdjustmentRed: 0
- SaturationAdjustmentYellow: 0
- ShadowTint: +3
- Shadows: 15
- Sharpness: 46
- SplitToningBalance: 0
- SplitToningHighlightHue: 0
- SplitToningHighlightSaturation: 0
- SplitToningShadowHue: 0
- SplitToningShadowSaturation: 0
- Temperature: 5700
- Tint: +6
- ToneCurve: 0, 0, 32, 22, 64, 56, 128, 128, 172, 178, 192, 206, 208, 234, 227, 254, 255, 255
- ToneCurveName: Custom
- Version: 4.0
- Vibrance: +1
- VignetteAmount: 0
- WhiteBalance: Custom
- XMP-dc
- Creator: unknown
- Format: image/jpeg
- XMP-exif
- ColorSpace: Unknown (-1)
- DateTimeDigitized: 2008:03:01 15:24:48+3:00
- DateTimeOriginal: 2008:03:01 15:24:48+3:00
- ExifImageLength: 1288
- ExifImageWidth: 1610
- FlashFired: False
- FlashFunction: False
- FlashMode: Off
- FlashRedEyeMode: False
- FlashReturn: No return detection
- XMP-tiff
- XMP-xmp
- CreateDate: 2008:03:05 09:03:17+03:00
- ModifyDate: 2008:03:05 09:10:50+03:00
- Rating: 0
- XMP-xmpMM
- DerivedFrom:
- Просмотров: 475
- Рейтинг: голосов еще нет
- Отзывов: 0