| » Участники » 23W » Церковь » Свято-Николаевский Храм. пос. Жуковского. Харьков. |
Уважаемые друзья и участники проекта iXBT.photo! К сожалению, 1 марта 2026 года проект iXBT.photo прекратит свою работу и будет закрыт. Мы высоко ценим ваше участие и тот вклад, который вы внесли в развитие нашего сообщества. Пожалуйста, не забудьте сохранить ваши фотографии до этой даты.
С уважением, команда iXBT.com
| Свято-Николаевский Храм. пос. Жуковского. Харьков. |
Свято-Николаевский Храм. пос. Жуковского. Харьков.
- Раздел: Архитектура
- Дата съёмки: 09.03.2008 11:50
- Дата загрузки фото: 17.03.2008 12:59
- Оригинальная фотография: 1798 x 2679 (2,9 Мб)
- Технические характеристики:
- Фотоаппарат: FujiFilm FinePix S6500fd
- Выдержка: 1/350
- Гиперфокальное расстояние: 0,79 m
- Диафрагма: 4,5
- Светочувствительность: 100
- Фокусное расстояние: 6,2mm (35mm эквивалент: 17,3mm)
- Полный EXIF
- Adobe
- ColorTransform: YCbCr
- Composite
- Aperture: 4,5
- CircleOfConfusion: 0,011 mm
- FocalLength35efl: 6,2mm (35mm equivalent: 17,3mm)
- HyperfocalDistance: 0,79 m
- LightValue: 12,8
- ScaleFactor35efl: 2,8
- ShutterSpeed: 1/350
- ExifIFD
- ApertureValue: 4,5
- BrightnessValue: 8,16
- CreateDate: 2008:03:09 00:00:00
- CustomRendered: Custom
- DateTimeOriginal: 2008:03:09 00:00:00
- ExposureCompensation: 0
- ExposureMode: Auto
- ExposureProgram: Program AE
- ExposureTime: 1/350
- FNumber: 4,5
- Flash: Off
- FocalLength: 6,2mm
- ISO: 100
- LightSource: Unknown (0)
- MaxApertureValue: 2,8
- MeteringMode: Multi-segment
- SceneCaptureType: Standard
- SceneType: Directly photographed
- SensingMethod: One-chip color area
- Sharpness: Normal
- ShutterSpeedValue: 1/350
- WhiteBalance: Auto
- ICC-header
- IFD0
- Make: FUJIFILM
- Model: FinePix S6500fd
- ModifyDate: 2008:03:15 18:31:18
- Software: Digital Camera FinePix S6500fd Ver1.00
- IPTC
- Keywords: Ìà ñëåГГЁГ¶Г 9.03.2008
- XMP-crs
- AlreadyApplied: True
- BlueHue: 0
- BlueSaturation: 0
- Brightness: +50
- CameraProfile: ACR 2.4
- ChromaticAberrationB: 0
- ChromaticAberrationR: 0
- Clarity: 100
- ColorNoiseReduction: 25
- Contrast: +25
- ConvertToGrayscale: True
- CropAngle: 0
- CropBottom: 0.876894
- CropHeight: 1798
- CropLeft: 0.058126
- CropRight: 0.998814
- CropTop: 0.035227
- CropUnit: 0
- CropWidth: 2679
- Defringe: 0
- Exposure: 0.00
- FillLight: 26
- GrayMixerAqua: -16
- GrayMixerBlue: +13
- GrayMixerGreen: -27
- GrayMixerMagenta: +3
- GrayMixerOrange: -20
- GrayMixerPurple: +17
- GrayMixerRed: -11
- GrayMixerYellow: -24
- GreenHue: 0
- GreenSaturation: 0
- HasCrop: True
- HasSettings: True
- HighlightRecovery: 0
- LuminanceSmoothing: 0
- ParametricDarks: -17
- ParametricHighlightSplit: 75
- ParametricHighlights: -100
- ParametricLights: -26
- ParametricMidtoneSplit: 50
- ParametricShadowSplit: 25
- ParametricShadows: 0
- RedHue: 0
- RedSaturation: 0
- ShadowTint: 0
- Shadows: 2
- SharpenDetail: 50
- SharpenEdgeMasking: 0
- SharpenRadius: +1.0
- Sharpness: 25
- SplitToningBalance: 0
- SplitToningHighlightHue: 51
- SplitToningHighlightSaturation: 22
- SplitToningShadowHue: 37
- SplitToningShadowSaturation: 32
- Temperature: 5550
- Tint: -4
- ToneCurve: 0, 0, 32, 22, 64, 56, 128, 128, 192, 196, 255, 255
- ToneCurveName: Medium Contrast
- Version: 4.4
- VignetteAmount: 0
- WhiteBalance: Custom
- XMP-dc
- Subject: Масленица 9.03.2008
- XMP-exif
- DateTimeDigitized: 2008:03:09 11:50:05+02:00
- DateTimeOriginal: 2008:03:09 11:50:05+02:00
- FlashFired: False
- FlashFunction: False
- FlashMode: Off
- FlashRedEyeMode: False
- FlashReturn: No return detection
- SubjectDistanceRange: Unknown
- XMP-tiff
- ImageHeight: 2679
- ImageWidth: 1798
- XMP-xmp
- ModifyDate: 2008:03:15 18:31:18+02:00
- Просмотров: 1547
- Рейтинг: голосов еще нет
- Отзывов: отключены
Получить код для блога
| Вставка фотографии в текущем разрешении |
Вставка миниатюры |
HTML (для вставки в блог):
BBCode (для вставки в форум):
Ссылка на фото:
Ссылка на миниатюру:
- Послать ссылку другу
| Комментарии к фотографии |