- Раздел: Портрет
- Дата съёмки: 27.03.2008 14:15
- Дата загрузки фото: 27.03.2008 22:00
- Оригинальная фотография: 3072 x 2048 (2,6 Мб)
- Технические характеристики:
- Фотоаппарат: Canon EOS 10D
- Выдержка: 1/45
- Гиперфокальное расстояние: 46,26 m
- Диафрагма: 1,4
- Светочувствительность: 400
- Фокусное расстояние: 35,0mm (35mm эквивалент: 55,6mm)
- Полный EXIF
- Adobe
- ColorTransform: YCbCr
- Composite
- Aperture: 1,4
- CircleOfConfusion: 0,019 mm
- FocalLength35efl: 35,0mm (35mm equivalent: 55,6mm)
- HyperfocalDistance: 46,26 m
- LightValue: 4,5
- ScaleFactor35efl: 1,6
- ShutterSpeed: 1/45
- ExifIFD
- ApertureValue: 1,4
- CreateDate: 2008:03:27 14:15:13
- CustomRendered: Normal
- DateTimeOriginal: 2008:03:27 14:15:13
- ExposureCompensation: 0
- ExposureMode: Auto
- ExposureTime: 1/45
- FNumber: 1,4
- Flash: No Flash
- FocalLength: 35,0mm
- ISO: 400
- MaxApertureValue: 1,4
- MeteringMode: Multi-segment
- SceneCaptureType: Standard
- SensingMethod: One-chip color area
- ShutterSpeedValue: 1/45
- WhiteBalance: Manual
- ICC-header
- ICC-meas
- ICC-view
- IFD0
- Make: Canon
- Model: Canon EOS 10D
- ModifyDate: 2008:03:27 17:16:24
- TimeZoneOffset: 3 3
- XMP-aux
- Firmware: 2.0.1
- FlashCompensation: 0
- ImageNumber: 0
- Lens: 35.0 mm
- LensInfo: 35/1 35/1 0/0 0/0
- SerialNumber: 1720511286
- XMP-crs
- AlreadyApplied: True
- BlueHue: 0
- BlueSaturation: 0
- Brightness: 0
- CameraProfile: Embedded
- ChromaticAberrationB: 0
- ChromaticAberrationR: 0
- Clarity: 0
- Contrast: 0
- ConvertToGrayscale: True
- Defringe: 0
- Exposure: +0.46
- FillLight: 0
- GrayMixerAqua: -19
- GrayMixerBlue: +7
- GrayMixerGreen: -25
- GrayMixerMagenta: +5
- GrayMixerOrange: -16
- GrayMixerPurple: +14
- GrayMixerRed: -7
- GrayMixerYellow: -20
- GreenHue: 0
- GreenSaturation: 0
- HasCrop: False
- HasSettings: True
- HighlightRecovery: 50
- IncrementalTemperature: -26
- IncrementalTint: -6
- LuminanceSmoothing: 0
- ParametricDarks: +39
- ParametricHighlightSplit: 75
- ParametricHighlights: -100
- ParametricLights: +100
- ParametricMidtoneSplit: 50
- ParametricShadowSplit: 25
- ParametricShadows: -79
- RedHue: 0
- RedSaturation: 0
- ShadowTint: 0
- Shadows: 0
- SharpenDetail: 25
- SharpenEdgeMasking: 0
- SharpenRadius: +1.0
- Sharpness: 0
- SplitToningBalance: 0
- SplitToningHighlightHue: 0
- SplitToningHighlightSaturation: 0
- SplitToningShadowHue: 0
- SplitToningShadowSaturation: 0
- ToneCurve: 0, 0, 255, 255
- ToneCurveName: Linear
- Version: 1.0
- VignetteAmount: -65
- VignetteMidpoint: 21
- WhiteBalance: Custom
- XMP-exif
- DateTimeDigitized: 2008:03:27 14:15:13+03:00
- DateTimeOriginal: 2008:03:27 14:15:13+03:00
- FlashFired: False
- FlashFunction: False
- FlashMode: Unknown
- FlashRedEyeMode: False
- FlashReturn: No return detection
- XMP-tiff
- ImageHeight: 2048
- ImageWidth: 3072
- XMP-xmp
- ModifyDate: 2008:03:27 17:16:24+03:00