- Раздел: Компьютеры, железо
- Дата съёмки: 30.03.2008 16:43
- Дата загрузки фото: 30.03.2008 20:18
- Оригинальная фотография: 3048 x 2473 (3,8 Мб)
- Технические характеристики:
- Фотоаппарат: Nikon D80
- Выдержка: 1/60
- Гиперфокальное расстояние: 3,84 m
- Диафрагма: 6,3
- Светочувствительность: 100
- Фокусное расстояние: 22,0mm (35mm эквивалент: 33,0mm)
- Полный EXIF
- Adobe
- ColorTransform: YCbCr
- Composite
- Aperture: 6,3
- CircleOfConfusion: 0,020 mm
- FocalLength35efl: 22,0mm (35mm equivalent: 33,0mm)
- HyperfocalDistance: 3,84 m
- LightValue: 11,2
- ScaleFactor35efl: 1,5
- ShutterSpeed: 1/60
- ExifIFD
- ApertureValue: 6,3
- CFAPattern: [Green,Blue][Red,Green]
- Contrast: High
- CreateDate: 2008:03:30 16:43:16
- CustomRendered: Normal
- DateTimeOriginal: 2008:03:30 16:43:16
- DigitalZoomRatio: 1
- ExposureCompensation: 0
- ExposureMode: Manual
- ExposureProgram: Manual
- ExposureTime: 1/60
- FNumber: 6,3
- Flash: No Flash
- FocalLength: 22,0mm
- FocalLengthIn35mmFormat: 33mm
- GainControl: None
- ISO: 100
- LightSource: Flash
- MaxApertureValue: 3,7
- MeteringMode: Multi-segment
- Saturation: Normal
- SceneCaptureType: Standard
- SceneType: Directly photographed
- SensingMethod: One-chip color area
- Sharpness: Normal
- ShutterSpeedValue: 1/60
- UserComment: Tsemenko Ilya ilya@topmods.net 80508
- WhiteBalance: Manual
- ICC-header
- IFD0
- Make: NIKON CORPORATION
- Model: NIKON D80
- ModifyDate: 2008:03:30 17:51:20
- Software: Ver.1.10
- XMP-aux
- ImageNumber: 973
- Lens: 18.0-135.0 mm f/3.5-5.6
- LensInfo: 180/10 1350/10 35/10 56/10
- XMP-crs
- AlreadyApplied: True
- BlueHue: 0
- BlueSaturation: 0
- Brightness: +40
- CameraProfile: ACR 3.6
- ChromaticAberrationB: 0
- ChromaticAberrationR: 0
- Clarity: 32
- ColorNoiseReduction: 25
- Contrast: +16
- ConvertToGrayscale: False
- CropAngle: 0
- CropBottom: 1
- CropHeight: 2473
- CropLeft: 0.090442
- CropRight: 0.877698
- CropTop: 0.046083
- CropUnit: 0
- CropWidth: 3048
- Defringe: 0
- Exposure: -0.29
- FillLight: 35
- GreenHue: 0
- GreenSaturation: 0
- HasCrop: True
- HasSettings: True
- HighlightRecovery: 100
- HueAdjustmentAqua: 0
- HueAdjustmentBlue: 0
- HueAdjustmentGreen: 0
- HueAdjustmentMagenta: 0
- HueAdjustmentOrange: 0
- HueAdjustmentPurple: 0
- HueAdjustmentRed: 0
- HueAdjustmentYellow: 0
- LuminanceAdjustmentAqua: 0
- LuminanceAdjustmentBlue: 0
- LuminanceAdjustmentGreen: 0
- LuminanceAdjustmentMagenta: 0
- LuminanceAdjustmentOrange: 0
- LuminanceAdjustmentPurple: 0
- LuminanceAdjustmentRed: 0
- LuminanceAdjustmentYellow: 0
- LuminanceSmoothing: 0
- ParametricDarks: 0
- ParametricHighlightSplit: 75
- ParametricHighlights: 0
- ParametricLights: 0
- ParametricMidtoneSplit: 50
- ParametricShadowSplit: 25
- ParametricShadows: 0
- RedHue: 0
- RedSaturation: 0
- Saturation: 0
- SaturationAdjustmentAqua: 0
- SaturationAdjustmentBlue: 0
- SaturationAdjustmentGreen: 0
- SaturationAdjustmentMagenta: 0
- SaturationAdjustmentOrange: 0
- SaturationAdjustmentPurple: 0
- SaturationAdjustmentRed: 0
- SaturationAdjustmentYellow: 0
- ShadowTint: 0
- Shadows: 4
- SharpenDetail: 25
- SharpenEdgeMasking: 0
- SharpenRadius: +1.0
- Sharpness: 25
- SplitToningBalance: 0
- SplitToningHighlightHue: 0
- SplitToningHighlightSaturation: 0
- SplitToningShadowHue: 0
- SplitToningShadowSaturation: 0
- Temperature: 5700
- Tint: +3
- ToneCurve: 0, 0, 32, 22, 64, 56, 128, 128, 192, 196, 255, 255
- ToneCurveName: Medium Contrast
- Version: 1.0
- Vibrance: 0
- VignetteAmount: 0
- WhiteBalance: As Shot
- XMP-exif
- DateTimeDigitized: 2008:03:30 16:43:16.20+03:00
- DateTimeOriginal: 2008:03:30 16:43:16.20+03:00
- FlashFired: False
- FlashFunction: False
- FlashMode: Unknown
- FlashRedEyeMode: False
- FlashReturn: No return detection
- FocalLengthIn35mmFormat: 33
- SubjectDistanceRange: Unknown
- XMP-tiff
- ImageHeight: 2473
- ImageWidth: 3048
- XMP-xmp
- ModifyDate: 2008:03:30 17:51:20+03:00
- Просмотров: 610
- Рейтинг: голосов еще нет
- Отзывов: 0