- Раздел: Пейзаж
- Дата съёмки: 01.04.2008 16:12
- Дата загрузки фото: 03.04.2008 16:13
- Оригинальная фотография: 683 x 1024 (229 Кб)
- Технические характеристики:
- Фотоаппарат: FujiFilm FinePix S9500
- Выдержка: 1/450
- Гиперфокальное расстояние: 1,85 m
- Диафрагма: 5,0
- Светочувствительность: 200
- Фокусное расстояние: 6,2mm (35mm эквивалент: 44,8mm)
- Полный EXIF
- Adobe
- ColorTransform: YCbCr
- Composite
- Aperture: 5,0
- CircleOfConfusion: 0,004 mm
- FocalLength35efl: 6,2mm (35mm equivalent: 44,8mm)
- HyperfocalDistance: 1,85 m
- LightValue: 12,5
- ScaleFactor35efl: 7,2
- ShutterSpeed: 1/450
- ExifIFD
- ApertureValue: 5,0
- BrightnessValue: 7,51
- ColorSpace: Uncalibrated
- Contrast: Low
- CreateDate: 2008:03:29 13:27:41
- CustomRendered: Normal
- DateTimeOriginal: 2008:03:29 13:27:41
- ExifImageLength: 1024
- ExifImageWidth: 683
- ExposureCompensation: 0
- ExposureMode: Auto
- ExposureProgram: Program AE
- ExposureTime: 1/450
- FNumber: 5,0
- Flash: Off
- FocalLength: 6,2mm
- ISO: 200
- LightSource: Unknown (0)
- MaxApertureValue: 2,8
- MeteringMode: Spot
- Saturation: Normal
- SceneCaptureType: Standard
- SceneType: Directly photographed
- SensingMethod: One-chip color area
- Sharpness: Soft
- ShutterSpeedValue: 1/450
- WhiteBalance: Manual
- ICC-header
- IFD0
- Make: FUJIFILM
- Model: FinePix S9500
- ModifyDate: 2008:04:01 16:12:48
- Orientation: Horizontal (normal)
- TimeZoneOffset: 2 2
- IFD1
- IPTC
- XMP-crs
- AlreadyApplied: True
- BlueHue: 0
- BlueSaturation: 0
- Brightness: +50
- CameraProfile: ACR 3.3
- ChromaticAberrationB: +47
- ChromaticAberrationR: -56
- Clarity: 30
- ColorNoiseReduction: 37
- Contrast: +25
- ConvertToGrayscale: False
- Defringe: 0
- Exposure: 0.00
- FillLight: 19
- GreenHue: 0
- GreenSaturation: 0
- HasCrop: False
- HasSettings: True
- HighlightRecovery: 29
- HueAdjustmentAqua: -17
- HueAdjustmentBlue: 0
- HueAdjustmentGreen: 0
- HueAdjustmentMagenta: 0
- HueAdjustmentOrange: 0
- HueAdjustmentPurple: 0
- HueAdjustmentRed: 0
- HueAdjustmentYellow: 0
- LuminanceAdjustmentAqua: +14
- LuminanceAdjustmentBlue: 0
- LuminanceAdjustmentGreen: 0
- LuminanceAdjustmentMagenta: 0
- LuminanceAdjustmentOrange: 0
- LuminanceAdjustmentPurple: 0
- LuminanceAdjustmentRed: 0
- LuminanceAdjustmentYellow: 0
- LuminanceSmoothing: 35
- ParametricDarks: 0
- ParametricHighlightSplit: 75
- ParametricHighlights: +11
- ParametricLights: +12
- ParametricMidtoneSplit: 50
- ParametricShadowSplit: 25
- ParametricShadows: -30
- RawFileName: DSCF0563.RAF
- RedHue: 0
- RedSaturation: 0
- Saturation: 0
- SaturationAdjustmentAqua: +34
- SaturationAdjustmentBlue: 0
- SaturationAdjustmentGreen: 0
- SaturationAdjustmentMagenta: 0
- SaturationAdjustmentOrange: 0
- SaturationAdjustmentPurple: 0
- SaturationAdjustmentRed: 0
- SaturationAdjustmentYellow: 0
- ShadowTint: 0
- Shadows: 11
- SharpenDetail: 25
- SharpenEdgeMasking: 18
- SharpenRadius: +1.0
- Sharpness: 25
- SplitToningBalance: 0
- SplitToningHighlightHue: 0
- SplitToningHighlightSaturation: 0
- SplitToningShadowHue: 0
- SplitToningShadowSaturation: 0
- Temperature: 4700
- Tint: +3
- ToneCurve: 0, 0, 32, 22, 64, 56, 128, 120, 194, 188, 255, 255
- ToneCurveName: Custom
- Version: 4.1
- Vibrance: +16
- VignetteAmount: 0
- WhiteBalance: As Shot
- XMP-dc
- XMP-exif
- ColorSpace: Unknown (-1)
- DateTimeDigitized: 2008:03:29 13:27:41+02:00
- DateTimeOriginal: 2008:03:29 13:27:41+02:00
- FlashFired: False
- FlashFunction: False
- FlashMode: Off
- FlashRedEyeMode: False
- FlashReturn: No return detection
- SubjectDistanceRange: Unknown
- XMP-tiff
- XMP-xmp
- CreateDate: 2008:04:01 16:12:48+03:00
- ModifyDate: 2008:04:01 16:12:48+03:00
- Rating: 0
- XMP-xmpMM