- Раздел: Другое, разное
- Дата съёмки: 28.10.2007 06:32
- Дата загрузки фото: 03.04.2008 21:43
- Оригинальная фотография: 3504 x 2336 (3,7 Мб)
- Технические характеристики:
- Фотоаппарат: Canon EOS 30D
- Выдержка: 1/50
- Гиперфокальное расстояние: 20,15 m
- Диафрагма: 8,0
- Светочувствительность: 200
- Фокусное расстояние: 55,0mm (35mm эквивалент: 88,1mm)
- Полный EXIF
- Adobe
- ColorTransform: YCbCr
- Composite
- Aperture: 8,0
- CircleOfConfusion: 0,019 mm
- FocalLength35efl: 55,0mm (35mm equivalent: 88,1mm)
- HyperfocalDistance: 20,15 m
- LightValue: 10,6
- ScaleFactor35efl: 1,6
- ShutterSpeed: 1/50
- ExifIFD
- ApertureValue: 8,0
- CreateDate: 2007:10:28 06:32:24
- CustomRendered: Normal
- DateTimeOriginal: 2007:10:28 06:32:24
- ExposureCompensation: 0
- ExposureMode: Auto
- ExposureProgram: Aperture-priority AE
- ExposureTime: 1/50
- FNumber: 8,0
- Flash: Off
- FocalLength: 55,0mm
- ISO: 200
- MaxApertureValue: 2,8
- MeteringMode: Multi-segment
- SceneCaptureType: Standard
- ShutterSpeedValue: 1/50
- WhiteBalance: Auto
- ICC-header
- ICC-meas
- ICC-view
- IFD0
- Artist: Leonid Liss
- Make: Canon
- Model: Canon EOS 30D
- ModifyDate: 2008:04:03 21:42:48
- IPTC
- By-line: Leonid Liss
- XMP-aux
- Firmware: 1.0.5
- FlashCompensation: 0
- ImageNumber: 0
- Lens: EF-S17-55mm f/2.8 IS USM
- LensInfo: 17/1 55/1 0/0 0/0
- OwnerName: Leonid Liss
- SerialNumber: 1530901649
- XMP-crs
- AlreadyApplied: True
- BlueHue: +5
- BlueSaturation: -15
- Brightness: +56
- CameraProfile: ACR 3.4
- ChromaticAberrationB: 0
- ChromaticAberrationR: +15
- Clarity: 0
- ColorNoiseReduction: 0
- Contrast: 0
- ConvertToGrayscale: False
- Defringe: 0
- Exposure: +0.63
- FillLight: 0
- GreenHue: -10
- GreenSaturation: -10
- HasCrop: False
- HasSettings: True
- HighlightRecovery: 8
- HueAdjustmentAqua: 0
- HueAdjustmentBlue: 0
- HueAdjustmentGreen: 0
- HueAdjustmentMagenta: 0
- HueAdjustmentOrange: -18
- HueAdjustmentPurple: 0
- HueAdjustmentRed: 0
- HueAdjustmentYellow: 0
- LuminanceAdjustmentAqua: 0
- LuminanceAdjustmentBlue: 0
- LuminanceAdjustmentGreen: 0
- LuminanceAdjustmentMagenta: 0
- LuminanceAdjustmentOrange: -34
- LuminanceAdjustmentPurple: 0
- LuminanceAdjustmentRed: 0
- LuminanceAdjustmentYellow: -26
- LuminanceSmoothing: 0
- ParametricDarks: 0
- ParametricHighlightSplit: 75
- ParametricHighlights: 0
- ParametricLights: 0
- ParametricMidtoneSplit: 50
- ParametricShadowSplit: 25
- ParametricShadows: 0
- RedHue: 0
- RedSaturation: +20
- Saturation: 0
- SaturationAdjustmentAqua: 0
- SaturationAdjustmentBlue: 0
- SaturationAdjustmentGreen: 0
- SaturationAdjustmentMagenta: 0
- SaturationAdjustmentOrange: 0
- SaturationAdjustmentPurple: 0
- SaturationAdjustmentRed: 0
- SaturationAdjustmentYellow: 0
- ShadowTint: 0
- Shadows: 5
- SharpenDetail: 35
- SharpenEdgeMasking: 0
- SharpenRadius: +1.0
- Sharpness: 30
- SplitToningBalance: 0
- SplitToningHighlightHue: 0
- SplitToningHighlightSaturation: 0
- SplitToningShadowHue: 0
- SplitToningShadowSaturation: 0
- Temperature: 4050
- Tint: -10
- ToneCurve: 0, 0, 32, 22, 64, 56, 128, 128, 192, 196, 255, 255
- ToneCurveName: Medium Contrast
- Version: 1.0
- Vibrance: 0
- VignetteAmount: 0
- WhiteBalance: As Shot
- XMP-dc
- XMP-exif
- DateTimeDigitized: 2007:10:28 06:32:24+03:00
- DateTimeOriginal: 2007:10:28 06:32:24+03:00
- FlashFired: False
- FlashFunction: False
- FlashMode: Off
- FlashRedEyeMode: False
- FlashReturn: No return detection
- XMP-tiff
- ImageHeight: 2336
- ImageWidth: 3504
- XMP-xmp
- ModifyDate: 2008:04:03 21:42:48+04:00
- Просмотров: 643
- Рейтинг: голосов еще нет
- Отзывов: 0