- Раздел: Другое, разное
- Дата съёмки: 30.10.2007 10:39
- Дата загрузки фото: 03.04.2008 22:06
- Оригинальная фотография: 3217 x 2167 (2,5 Мб)
- Технические характеристики:
- Фотоаппарат: Canon EOS 30D
- Выдержка: 1/320
- Гиперфокальное расстояние: 20,01 m
- Диафрагма: 5,6
- Светочувствительность: 400
- Фокусное расстояние: 44,0mm (35mm эквивалент: 76,5mm)
- Полный EXIF
- Adobe
- ColorTransform: YCbCr
- Composite
- Aperture: 5,6
- CircleOfConfusion: 0,017 mm
- FocalLength35efl: 44,0mm (35mm equivalent: 76,5mm)
- HyperfocalDistance: 20,01 m
- LightValue: 11,3
- ScaleFactor35efl: 1,7
- ShutterSpeed: 1/320
- ExifIFD
- ApertureValue: 5,6
- CreateDate: 2007:10:30 10:39:36
- CustomRendered: Normal
- DateTimeOriginal: 2007:10:30 10:39:36
- ExposureCompensation: 0
- ExposureMode: Auto
- ExposureProgram: Aperture-priority AE
- ExposureTime: 1/320
- FNumber: 5,6
- Flash: Off
- FocalLength: 44,0mm
- ISO: 400
- MaxApertureValue: 2,8
- MeteringMode: Average
- SceneCaptureType: Standard
- ShutterSpeedValue: 1/320
- WhiteBalance: Auto
- ICC-header
- ICC-meas
- ICC-view
- IFD0
- Artist: Leonid Liss
- Make: Canon
- Model: Canon EOS 30D
- ModifyDate: 2008:04:03 22:04:37
- IPTC
- By-line: Leonid Liss
- XMP-aux
- Firmware: 1.0.5
- FlashCompensation: 0
- ImageNumber: 192
- Lens: EF-S17-55mm f/2.8 IS USM
- LensInfo: 17/1 55/1 0/0 0/0
- OwnerName: Leonid Liss
- SerialNumber: 1530901649
- XMP-crs
- AlreadyApplied: True
- BlueHue: +5
- BlueSaturation: -15
- Brightness: +40
- CameraProfile: ACR 3.4
- ChromaticAberrationB: 0
- ChromaticAberrationR: 0
- Clarity: 25
- ColorNoiseReduction: 0
- Contrast: +25
- ConvertToGrayscale: False
- CropAngle: -0.715973
- CropBottom: 0.968903
- CropHeight: 2167
- CropLeft: 0.063831
- CropRight: 0.989673
- CropTop: 0.058476
- CropUnit: 0
- CropWidth: 3217
- Defringe: 0
- Exposure: 0.00
- FillLight: 0
- GreenHue: -10
- GreenSaturation: -10
- HasCrop: True
- HasSettings: True
- HighlightRecovery: 100
- HueAdjustmentAqua: 0
- HueAdjustmentBlue: 0
- HueAdjustmentGreen: 0
- HueAdjustmentMagenta: -2
- HueAdjustmentOrange: -18
- HueAdjustmentPurple: -7
- HueAdjustmentRed: 0
- HueAdjustmentYellow: 0
- LuminanceAdjustmentAqua: 0
- LuminanceAdjustmentBlue: 0
- LuminanceAdjustmentGreen: 0
- LuminanceAdjustmentMagenta: 0
- LuminanceAdjustmentOrange: 0
- LuminanceAdjustmentPurple: 0
- LuminanceAdjustmentRed: 0
- LuminanceAdjustmentYellow: 0
- LuminanceSmoothing: 0
- ParametricDarks: 0
- ParametricHighlightSplit: 75
- ParametricHighlights: 0
- ParametricLights: 0
- ParametricMidtoneSplit: 50
- ParametricShadowSplit: 25
- ParametricShadows: 0
- RedHue: 0
- RedSaturation: +20
- Saturation: 0
- SaturationAdjustmentAqua: -35
- SaturationAdjustmentBlue: 0
- SaturationAdjustmentGreen: 0
- SaturationAdjustmentMagenta: +10
- SaturationAdjustmentOrange: -5
- SaturationAdjustmentPurple: 0
- SaturationAdjustmentRed: 0
- SaturationAdjustmentYellow: -10
- ShadowTint: 0
- Shadows: 4
- SharpenDetail: 35
- SharpenEdgeMasking: 58
- SharpenRadius: +1.0
- Sharpness: 35
- SplitToningBalance: 0
- SplitToningHighlightHue: 0
- SplitToningHighlightSaturation: 0
- SplitToningShadowHue: 0
- SplitToningShadowSaturation: 0
- Temperature: 6050
- Tint: +4
- ToneCurve: 0, 0, 32, 22, 64, 56, 128, 128, 192, 196, 255, 255
- ToneCurveName: Medium Contrast
- Version: 1.0
- Vibrance: 0
- VignetteAmount: 0
- WhiteBalance: As Shot
- XMP-dc
- XMP-exif
- DateTimeDigitized: 2007:10:30 10:39:36+03:00
- DateTimeOriginal: 2007:10:30 10:39:36+03:00
- FlashFired: False
- FlashFunction: False
- FlashMode: Off
- FlashRedEyeMode: False
- FlashReturn: No return detection
- XMP-tiff
- ImageHeight: 2167
- ImageWidth: 3217
- XMP-xmp
- ModifyDate: 2008:04:03 22:04:37+04:00