панорама
Ялта, Крым, вид на летнюю резиденцию Екатерины 3 и побережье
- Раздел: Другое, разное
- Дата съёмки: 04.03.2008 00:38
- Дата загрузки фото: 22.04.2008 17:54
- Оригинальная фотография: 2000 x 659 (479 Кб)
- Технические характеристики:
- Фотоаппарат: Canon EOS 40D
- Выдержка: 1/100
- Диафрагма: 11,0
- Светочувствительность: 100
- Фокусное расстояние: 12,0mm
- Полный EXIF
- Adobe
- ColorTransform: YCbCr
- Composite
- Aperture: 11,0
- FocalLength35efl: 12,0mm
- LightValue: 13,6
- ShutterSpeed: 1/100
- ExifIFD
- ApertureValue: 11,0
- ColorSpace: sRGB
- CreateDate: 2008:04:17 15:40:22
- CustomRendered: Normal
- DateTimeOriginal: 2008:04:17 15:40:22
- ExifImageLength: 659
- ExifImageWidth: 2000
- ExposureCompensation: 0
- ExposureMode: Auto
- ExposureProgram: Aperture-priority AE
- ExposureTime: 1/100
- FNumber: 11,0
- Flash: Off
- FocalLength: 12,0mm
- ISO: 100
- MaxApertureValue: 4,0
- MeteringMode: Center-weighted average
- SceneCaptureType: Standard
- ShutterSpeedValue: 1/100
- WhiteBalance: Auto
- ICC-header
- ICC-meas
- ICC-view
- IFD0
- Artist: Rylov Ilya
- Copyright: FotoEpic.ru (c)2008
- Make: Canon
- Model: Canon EOS 40D
- ModifyDate: 2008:04:20 16:57:39
- Orientation: Horizontal (normal)
- IFD1
- IPTC
- By-line: Rylov Ilya
- By-lineTitle: FotoEpic.ru
- CopyrightNotice: FotoEpic.ru (c)2008
- XMP-aux
- Firmware: 1.0.5
- FlashCompensation: 0
- ImageNumber: 0
- Lens: 12-24mm
- LensInfo: 12/1 24/1 0/0 0/0
- SerialNumber: 430117634
- XMP-crs
- AlreadyApplied: True
- BlueHue: 0
- BlueSaturation: 0
- Brightness: +13
- CameraProfile: ACR 4.2
- ChromaticAberrationB: 0
- ChromaticAberrationR: 0
- Clarity: 0
- ColorNoiseReduction: 0
- Contrast: +3
- ConvertToGrayscale: False
- Defringe: 0
- Exposure: +0.50
- FillLight: 0
- GreenHue: 0
- GreenSaturation: 0
- HasCrop: False
- HasSettings: True
- HighlightRecovery: 0
- HueAdjustmentAqua: 0
- HueAdjustmentBlue: 0
- HueAdjustmentGreen: 0
- HueAdjustmentMagenta: 0
- HueAdjustmentOrange: 0
- HueAdjustmentPurple: 0
- HueAdjustmentRed: 0
- HueAdjustmentYellow: 0
- LuminanceAdjustmentAqua: 0
- LuminanceAdjustmentBlue: 0
- LuminanceAdjustmentGreen: 0
- LuminanceAdjustmentMagenta: 0
- LuminanceAdjustmentOrange: 0
- LuminanceAdjustmentPurple: 0
- LuminanceAdjustmentRed: 0
- LuminanceAdjustmentYellow: 0
- LuminanceSmoothing: 0
- ParametricDarks: 0
- ParametricHighlightSplit: 75
- ParametricHighlights: 0
- ParametricLights: 0
- ParametricMidtoneSplit: 50
- ParametricShadowSplit: 25
- ParametricShadows: 0
- RawFileName: IMG_2373.CR2
- RedHue: 0
- RedSaturation: 0
- Saturation: +13
- SaturationAdjustmentAqua: 0
- SaturationAdjustmentBlue: +100
- SaturationAdjustmentGreen: 0
- SaturationAdjustmentMagenta: 0
- SaturationAdjustmentOrange: -27
- SaturationAdjustmentPurple: 0
- SaturationAdjustmentRed: 0
- SaturationAdjustmentYellow: 0
- ShadowTint: 0
- Shadows: 3
- SharpenDetail: 25
- SharpenEdgeMasking: 0
- SharpenRadius: +1.0
- Sharpness: 25
- SplitToningBalance: 0
- SplitToningHighlightHue: 0
- SplitToningHighlightSaturation: 0
- SplitToningShadowHue: 0
- SplitToningShadowSaturation: 0
- Temperature: 4850
- Tint: +2
- ToneCurve: 0, 0, 32, 22, 64, 56, 128, 128, 192, 196, 255, 255
- ToneCurveName: Medium Contrast
- Version: 4.3.1
- Vibrance: +8
- VignetteAmount: 0
- WhiteBalance: Custom
- XMP-dc
- Creator: Rylov Ilya
- Format: image/jpeg
- Rights: FotoEpic.ru (c)2008
- XMP-exif
- DateTimeDigitized: 2008:04:17 15:40:22.62+04:00
- DateTimeOriginal: 2008:04:17 15:40:22.62+04:00
- FlashFired: False
- FlashFunction: False
- FlashMode: Off
- FlashRedEyeMode: False
- FlashReturn: No return detection
- XMP-pmtm
- BlackClip: 0.000000
- ColorSaturation: 61
- ColorTemperature: 2
- Gamma: 1.071773
- HighlightsSmoothing: 32
- Luminosity: 4
- Method: Details Enhancer
- Microcontrast: 2
- Microsmoothing: 10
- SaturationHighlights: -1
- SaturationShadows: 2
- ShadowsClipping: 18
- ShadowsSmoothing: 6
- Smoothing: Very High
- Strength: 80
- Version: 2.5
- WhiteClip: 0.000000
- XMP-tiff
- XMP-xmp
- CreateDate: 2008:03:04 00:38:13+03:00
- ModifyDate: 2008:04:20 16:57:39+04:00
- Rating: 0
- XMP-xmpMM
- XMP-xmpRights
- Marked: True
- WebStatement: www.fotoepic.ru
- Просмотров: 492
- Рейтинг: голосов еще нет
- Отзывов: 0
Получить код для блога
Вставка фотографии в текущем разрешении |
Вставка миниатюры |
HTML (для вставки в блог):
BBCode (для вставки в форум):
Ссылка на фото:
Ссылка на миниатюру:
- Послать ссылку другу
Комментарии к фотографии |