- Раздел: Портрет
- Дата съёмки: 02.05.2008 19:30
- Дата загрузки фото: 04.05.2008 19:44
- Оригинальная фотография: 3072 x 2048 (2,2 Мб)
- Технические характеристики:
- Фотоаппарат: Canon EOS 10D
- Выдержка: 1/180
- Гиперфокальное расстояние: 18,51 m
- Диафрагма: 3,5
- Светочувствительность: 400
- Фокусное расстояние: 35,0mm (35mm эквивалент: 55,6mm)
- Полный EXIF
- Adobe
- ColorTransform: YCbCr
- Composite
- Aperture: 3,5
- CircleOfConfusion: 0,019 mm
- FocalLength35efl: 35,0mm (35mm equivalent: 55,6mm)
- HyperfocalDistance: 18,51 m
- LightValue: 9,1
- ScaleFactor35efl: 1,6
- ShutterSpeed: 1/180
- ExifIFD
- ApertureValue: 3,5
- CreateDate: 2008:05:02 19:30:48
- CustomRendered: Normal
- DateTimeOriginal: 2008:05:02 19:30:48
- ExposureCompensation: 0
- ExposureMode: Auto
- ExposureTime: 1/180
- FNumber: 3,5
- Flash: No Flash
- FocalLength: 35,0mm
- ISO: 400
- MaxApertureValue: 1,4
- MeteringMode: Multi-segment
- SceneCaptureType: Standard
- SensingMethod: One-chip color area
- ShutterSpeedValue: 1/180
- WhiteBalance: Auto
- ICC-header
- ICC-meas
- ICC-view
- IFD0
- Make: Canon
- Model: Canon EOS 10D
- ModifyDate: 2008:05:04 19:28:45
- XMP-aux
- Firmware: 2.0.1
- FlashCompensation: 0
- ImageNumber: 0
- Lens: 35.0 mm
- LensInfo: 35/1 35/1 0/0 0/0
- SerialNumber: 1720511286
- XMP-crs
- AlreadyApplied: True
- BlueHue: 0
- BlueSaturation: 0
- Brightness: 0
- CameraProfile: Embedded
- ChromaticAberrationB: 0
- ChromaticAberrationR: 0
- Clarity: 0
- Contrast: 0
- ConvertToGrayscale: True
- Defringe: 0
- Exposure: +1.22
- FillLight: 14
- GrayMixerAqua: -18
- GrayMixerBlue: +7
- GrayMixerGreen: -24
- GrayMixerMagenta: +4
- GrayMixerOrange: -16
- GrayMixerPurple: +13
- GrayMixerRed: -8
- GrayMixerYellow: -19
- GreenHue: 0
- GreenSaturation: 0
- HasCrop: False
- HasSettings: True
- HighlightRecovery: 0
- IncrementalTemperature: 0
- IncrementalTint: 0
- LuminanceSmoothing: 0
- ParametricDarks: 0
- ParametricHighlightSplit: 75
- ParametricHighlights: 0
- ParametricLights: 0
- ParametricMidtoneSplit: 50
- ParametricShadowSplit: 25
- ParametricShadows: 0
- RedHue: 0
- RedSaturation: 0
- ShadowTint: 0
- Shadows: 15
- SharpenDetail: 25
- SharpenEdgeMasking: 0
- SharpenRadius: +1.0
- Sharpness: 0
- SplitToningBalance: 0
- SplitToningHighlightHue: 0
- SplitToningHighlightSaturation: 0
- SplitToningShadowHue: 0
- SplitToningShadowSaturation: 0
- ToneCurve: 0, 0, 255, 255
- ToneCurveName: Linear
- Version: 1.0
- VignetteAmount: 0
- WhiteBalance: As Shot
- XMP-exif
- DateTimeDigitized: 2008:05:02 19:30:48+04:00
- DateTimeOriginal: 2008:05:02 19:30:48+04:00
- FlashFired: False
- FlashFunction: False
- FlashMode: Unknown
- FlashRedEyeMode: False
- FlashReturn: No return detection
- XMP-tiff
- ImageHeight: 2048
- ImageWidth: 3072
- XMP-xmp
- ModifyDate: 2008:05:04 19:28:45+04:00
- Просмотров: 763
- Рейтинг: голосов еще нет
- Отзывов: 1