- Раздел: Природа
- Дата съёмки: 04.05.2008 15:16
- Дата загрузки фото: 06.05.2008 00:18
- Оригинальная фотография: 3490 x 2592 (2,0 Мб)
- Технические характеристики:
- Фотоаппарат: Nikon D80
- Выдержка: 1/400
- Гиперфокальное расстояние: 123,49 m
- Диафрагма: 6,3
- Светочувствительность: 200
- Фокусное расстояние: 125,0mm (35mm эквивалент: 187,0mm)
- Полный EXIF
- Adobe
- ColorTransform: YCbCr
- Composite
- Aperture: 6,3
- CircleOfConfusion: 0,020 mm
- FocalLength35efl: 125,0mm (35mm equivalent: 187,0mm)
- HyperfocalDistance: 123,49 m
- LightValue: 13,0
- ScaleFactor35efl: 1,5
- ShutterSpeed: 1/400
- ExifIFD
- ApertureValue: 6,3
- CFAPattern: [Green,Blue][Red,Green]
- Contrast: High
- CreateDate: 2008:05:04 15:16:33
- CustomRendered: Normal
- DateTimeOriginal: 2008:05:04 15:16:33
- DigitalZoomRatio: 1
- ExposureCompensation: 0
- ExposureMode: Auto
- ExposureProgram: Aperture-priority AE
- ExposureTime: 1/400
- FNumber: 6,3
- Flash: No Flash
- FocalLength: 125,0mm
- FocalLengthIn35mmFormat: 187mm
- GainControl: None
- ISO: 200
- LightSource: Unknown (0)
- MaxApertureValue: 5,7
- MeteringMode: Spot
- Saturation: Normal
- SceneCaptureType: Standard
- SceneType: Directly photographed
- SensingMethod: One-chip color area
- Sharpness: Normal
- ShutterSpeedValue: 1/400
- UserComment: Tsemenko Ilya ilya@topmods.net 80508
- WhiteBalance: Auto
- ICC-header
- IFD0
- Make: NIKON CORPORATION
- Model: NIKON D80
- ModifyDate: 2008:05:05 22:08:27
- Software: Ver.1.10
- XMP-aux
- ImageNumber: 4621
- Lens: 18.0-135.0 mm f/3.5-5.6
- LensInfo: 180/10 1350/10 35/10 56/10
- XMP-crs
- AlreadyApplied: True
- BlueHue: 0
- BlueSaturation: 0
- Brightness: +44
- CameraProfile: ACR 3.6
- ChromaticAberrationB: 0
- ChromaticAberrationR: 0
- Clarity: 0
- ColorNoiseReduction: 25
- Contrast: 0
- ConvertToGrayscale: False
- CropAngle: 0
- CropBottom: 1
- CropHeight: 2592
- CropLeft: 0.098601
- CropRight: 1
- CropTop: 0
- CropUnit: 0
- CropWidth: 3490
- Defringe: 0
- Exposure: 0.00
- FillLight: 0
- GreenHue: 0
- GreenSaturation: 0
- HasCrop: True
- HasSettings: True
- HighlightRecovery: 10
- HueAdjustmentAqua: 0
- HueAdjustmentBlue: 0
- HueAdjustmentGreen: 0
- HueAdjustmentMagenta: 0
- HueAdjustmentOrange: 0
- HueAdjustmentPurple: 0
- HueAdjustmentRed: 0
- HueAdjustmentYellow: 0
- LuminanceAdjustmentAqua: 0
- LuminanceAdjustmentBlue: 0
- LuminanceAdjustmentGreen: 0
- LuminanceAdjustmentMagenta: 0
- LuminanceAdjustmentOrange: 0
- LuminanceAdjustmentPurple: 0
- LuminanceAdjustmentRed: 0
- LuminanceAdjustmentYellow: 0
- LuminanceSmoothing: 0
- ParametricDarks: +14
- ParametricHighlightSplit: 75
- ParametricHighlights: +43
- ParametricLights: 0
- ParametricMidtoneSplit: 50
- ParametricShadowSplit: 25
- ParametricShadows: +50
- RedHue: 0
- RedSaturation: 0
- Saturation: 0
- SaturationAdjustmentAqua: 0
- SaturationAdjustmentBlue: 0
- SaturationAdjustmentGreen: 0
- SaturationAdjustmentMagenta: 0
- SaturationAdjustmentOrange: 0
- SaturationAdjustmentPurple: 0
- SaturationAdjustmentRed: 0
- SaturationAdjustmentYellow: 0
- ShadowTint: 0
- Shadows: 5
- SharpenDetail: 25
- SharpenEdgeMasking: 0
- SharpenRadius: +1.0
- Sharpness: 25
- SplitToningBalance: 0
- SplitToningHighlightHue: 0
- SplitToningHighlightSaturation: 0
- SplitToningShadowHue: 0
- SplitToningShadowSaturation: 0
- Temperature: 5450
- Tint: -1
- ToneCurve: 0, 0, 32, 22, 64, 56, 128, 128, 192, 196, 255, 255
- ToneCurveName: Medium Contrast
- Version: 1.0
- Vibrance: 0
- VignetteAmount: 0
- WhiteBalance: As Shot
- XMP-exif
- DateTimeDigitized: 2008:05:04 15:16:33.00+03:00
- DateTimeOriginal: 2008:05:04 15:16:33.00+03:00
- FlashFired: False
- FlashFunction: False
- FlashMode: Unknown
- FlashRedEyeMode: False
- FlashReturn: No return detection
- FocalLengthIn35mmFormat: 187
- SubjectDistanceRange: Unknown
- XMP-tiff
- ImageHeight: 2592
- ImageWidth: 3490
- XMP-xmp
- ModifyDate: 2008:05:05 22:08:27+03:00
- Просмотров: 161
- Рейтинг: голосов еще нет
- Отзывов: отключены