- Раздел: Природа
- Дата съёмки: 04.05.2008 16:31
- Дата загрузки фото: 06.05.2008 11:34
- Оригинальная фотография: 3605 x 2413 (4,1 Мб)
- Технические характеристики:
- Фотоаппарат: Nikon D80
- Выдержка: 1/320
- Гиперфокальное расстояние: 4,62 m
- Диафрагма: 3,5
- Светочувствительность: 400
- Фокусное расстояние: 18,0mm (35mm эквивалент: 27,0mm)
- Полный EXIF
- Adobe
- ColorTransform: YCbCr
- Composite
- Aperture: 3,5
- CircleOfConfusion: 0,020 mm
- FocalLength35efl: 18,0mm (35mm equivalent: 27,0mm)
- HyperfocalDistance: 4,62 m
- LightValue: 9,9
- ScaleFactor35efl: 1,5
- ShutterSpeed: 1/320
- ExifIFD
- ApertureValue: 3,5
- CFAPattern: [Green,Blue][Red,Green]
- Contrast: High
- CreateDate: 2008:05:04 16:31:53
- CustomRendered: Normal
- DateTimeOriginal: 2008:05:04 16:31:53
- DigitalZoomRatio: 1
- ExposureCompensation: 0
- ExposureMode: Auto
- ExposureProgram: Aperture-priority AE
- ExposureTime: 1/320
- FNumber: 3,5
- Flash: No Flash
- FocalLength: 18,0mm
- FocalLengthIn35mmFormat: 27mm
- GainControl: Low gain up
- ISO: 400
- LightSource: Unknown (0)
- MaxApertureValue: 3,5
- MeteringMode: Spot
- Saturation: Normal
- SceneCaptureType: Standard
- SceneType: Directly photographed
- SensingMethod: One-chip color area
- Sharpness: Normal
- ShutterSpeedValue: 1/320
- UserComment: Tsemenko Ilya ilya@topmods.net 80508
- WhiteBalance: Auto
- ICC-header
- IFD0
- Make: NIKON CORPORATION
- Model: NIKON D80
- ModifyDate: 2008:05:05 22:34:04
- Software: Ver.1.10
- XMP-aux
- ImageNumber: 4827
- Lens: 18.0-135.0 mm f/3.5-5.6
- LensInfo: 180/10 1350/10 35/10 56/10
- XMP-crs
- AlreadyApplied: True
- BlueHue: 0
- BlueSaturation: 0
- Brightness: +54
- CameraProfile: ACR 3.6
- ChromaticAberrationB: 0
- ChromaticAberrationR: 0
- Clarity: 0
- ColorNoiseReduction: 25
- Contrast: +1
- ConvertToGrayscale: False
- CropAngle: -2.891865
- CropBottom: 0.929833
- CropHeight: 2413
- CropLeft: 0.019362
- CropRight: 0.980638
- CropTop: 0.070167
- CropUnit: 0
- CropWidth: 3605
- Defringe: 0
- Exposure: 0.00
- FillLight: 0
- GreenHue: 0
- GreenSaturation: 0
- HasCrop: True
- HasSettings: True
- HighlightRecovery: 25
- HueAdjustmentAqua: 0
- HueAdjustmentBlue: 0
- HueAdjustmentGreen: 0
- HueAdjustmentMagenta: 0
- HueAdjustmentOrange: 0
- HueAdjustmentPurple: 0
- HueAdjustmentRed: 0
- HueAdjustmentYellow: 0
- LuminanceAdjustmentAqua: 0
- LuminanceAdjustmentBlue: 0
- LuminanceAdjustmentGreen: 0
- LuminanceAdjustmentMagenta: 0
- LuminanceAdjustmentOrange: 0
- LuminanceAdjustmentPurple: 0
- LuminanceAdjustmentRed: 0
- LuminanceAdjustmentYellow: 0
- LuminanceSmoothing: 0
- ParametricDarks: 0
- ParametricHighlightSplit: 75
- ParametricHighlights: 0
- ParametricLights: 0
- ParametricMidtoneSplit: 50
- ParametricShadowSplit: 25
- ParametricShadows: 0
- RedHue: 0
- RedSaturation: 0
- Saturation: 0
- SaturationAdjustmentAqua: 0
- SaturationAdjustmentBlue: 0
- SaturationAdjustmentGreen: 0
- SaturationAdjustmentMagenta: 0
- SaturationAdjustmentOrange: 0
- SaturationAdjustmentPurple: 0
- SaturationAdjustmentRed: 0
- SaturationAdjustmentYellow: 0
- ShadowTint: 0
- Shadows: 5
- SharpenDetail: 25
- SharpenEdgeMasking: 0
- SharpenRadius: +1.0
- Sharpness: 25
- SplitToningBalance: 0
- SplitToningHighlightHue: 0
- SplitToningHighlightSaturation: 0
- SplitToningShadowHue: 0
- SplitToningShadowSaturation: 0
- Temperature: 5750
- Tint: +13
- ToneCurve: 0, 0, 32, 22, 64, 56, 128, 128, 192, 196, 255, 255
- ToneCurveName: Medium Contrast
- Version: 1.0
- Vibrance: 0
- VignetteAmount: 0
- WhiteBalance: As Shot
- XMP-exif
- DateTimeDigitized: 2008:05:04 16:31:53.20+03:00
- DateTimeOriginal: 2008:05:04 16:31:53.20+03:00
- FlashFired: False
- FlashFunction: False
- FlashMode: Unknown
- FlashRedEyeMode: False
- FlashReturn: No return detection
- FocalLengthIn35mmFormat: 27
- SubjectDistanceRange: Unknown
- XMP-tiff
- ImageHeight: 2413
- ImageWidth: 3605
- XMP-xmp
- ModifyDate: 2008:05:05 22:34:04+03:00
- Просмотров: 118
- Рейтинг: голосов еще нет
- Отзывов: отключены