| » Участники » VasilIII » Фотосессия ДЕВУШКА и КОТ » 080422 StKiselevPortfolio-9625.jpg |
Уважаемые друзья и участники проекта iXBT.photo! К сожалению, 1 марта 2026 года проект iXBT.photo прекратит свою работу и будет закрыт. Мы высоко ценим ваше участие и тот вклад, который вы внесли в развитие нашего сообщества. Пожалуйста, не забудьте сохранить ваши фотографии до этой даты.
С уважением, команда iXBT.com
| 080422 StKiselevPortfolio-9625.jpg |
080422 StKiselevPortfolio-9625.jpg
- Раздел: Портрет
- Дата съёмки: 22.04.2008 17:59
- Дата загрузки фото: 13.05.2008 00:17
- Оригинальная фотография: 525 x 700 ( 49 Кб)
- Технические характеристики:
- Фотоаппарат: Canon EOS 5D
- Выдержка: 1/30
- Гиперфокальное расстояние: 32,53 m
- Диафрагма: 4,0
- Светочувствительность: 200
- Фокусное расстояние: 60,0mm (35mm эквивалент: 65,2mm)
- Экспокоррекция: -2/3
- Полный EXIF
- Composite
- Aperture: 4,0
- CircleOfConfusion: 0,028 mm
- FocalLength35efl: 60,0mm (35mm equivalent: 65,2mm)
- HyperfocalDistance: 32,53 m
- LightValue: 7,9
- ScaleFactor35efl: 1,1
- ShutterSpeed: 1/30
- ExifIFD
- ApertureValue: 4,0
- CreateDate: 2008:04:22 17:59:03
- CustomRendered: Normal
- DateTimeOriginal: 2008:04:22 17:59:03
- ExifImageLength: 700
- ExifImageWidth: 525
- ExposureCompensation: -2/3
- ExposureMode: Auto
- ExposureProgram: Aperture-priority AE
- ExposureTime: 1/30
- FNumber: 4,0
- Flash: Off
- FocalLength: 60,0mm
- ISO: 200
- MaxApertureValue: 2,8
- MeteringMode: Unknown (0)
- SceneCaptureType: Standard
- ShutterSpeedValue: 1/30
- WhiteBalance: Auto
- ICC-header
- ICC-meas
- ICC-view
- IFD0
- Make: Canon
- Model: Canon EOS 5D
- ModifyDate: 2008:05:12 23:39:16
- Orientation: Horizontal (normal)
- Software: ACD Systems Digital Imaging
- IPTC
- XMP-aux
- Firmware: 1.1.0
- FlashCompensation: 0
- ImageNumber: 69
- Lens: EF24-70mm f/2.8L USM
- LensInfo: 24/1 70/1 0/0 0/0
- SerialNumber: 2531202326
- XMP-crs
- AlreadyApplied: True
- BlueHue: 0
- BlueSaturation: 0
- Brightness: +50
- CameraProfile: ACR 3.3
- ChromaticAberrationB: 0
- ChromaticAberrationR: 0
- Clarity: 23
- ColorNoiseReduction: 57
- Contrast: +2
- ConvertToGrayscale: False
- Defringe: 0
- Exposure: +0.76
- FillLight: 31
- GreenHue: 0
- GreenSaturation: 0
- HasCrop: False
- HasSettings: True
- HighlightRecovery: 0
- HueAdjustmentAqua: 0
- HueAdjustmentBlue: 0
- HueAdjustmentGreen: 0
- HueAdjustmentMagenta: 0
- HueAdjustmentOrange: 0
- HueAdjustmentPurple: 0
- HueAdjustmentRed: 0
- HueAdjustmentYellow: 0
- LuminanceAdjustmentAqua: 0
- LuminanceAdjustmentBlue: 0
- LuminanceAdjustmentGreen: 0
- LuminanceAdjustmentMagenta: 0
- LuminanceAdjustmentOrange: 0
- LuminanceAdjustmentPurple: 0
- LuminanceAdjustmentRed: 0
- LuminanceAdjustmentYellow: 0
- LuminanceSmoothing: 44
- ParametricDarks: 0
- ParametricHighlightSplit: 75
- ParametricHighlights: 0
- ParametricLights: 0
- ParametricMidtoneSplit: 50
- ParametricShadowSplit: 25
- ParametricShadows: 0
- RedHue: 0
- RedSaturation: 0
- Saturation: 0
- SaturationAdjustmentAqua: 0
- SaturationAdjustmentBlue: 0
- SaturationAdjustmentGreen: 0
- SaturationAdjustmentMagenta: 0
- SaturationAdjustmentOrange: 0
- SaturationAdjustmentPurple: 0
- SaturationAdjustmentRed: 0
- SaturationAdjustmentYellow: 0
- ShadowTint: 0
- Shadows: 7
- SharpenDetail: 25
- SharpenEdgeMasking: 0
- SharpenRadius: +1.7
- Sharpness: 73
- SplitToningBalance: 0
- SplitToningHighlightHue: 0
- SplitToningHighlightSaturation: 0
- SplitToningShadowHue: 0
- SplitToningShadowSaturation: 0
- Temperature: 3239
- Tint: +9
- ToneCurve: 0, 0, 32, 22, 64, 56, 128, 128, 192, 196, 255, 255
- ToneCurveName: Medium Contrast
- Version: 1.0
- Vibrance: 0
- VignetteAmount: 0
- WhiteBalance: Custom
- XMP-dc
- XMP-exif
- DateTimeDigitized: 2008:04:22 17:59:03.0+3:00
- DateTimeOriginal: 2008:04:22 17:59:03.0+3:00
- ExifImageLength: 3877
- ExifImageWidth: 2907
- FlashFired: False
- FlashFunction: False
- FlashMode: Off
- FlashRedEyeMode: False
- FlashReturn: No return detection
- XMP-tiff
- ImageHeight: 4368
- ImageWidth: 2912
- XMP-xmp
- ModifyDate: 2008:04:27 01:25:13.0+3:00
- Просмотров: 246
- Рейтинг: голосов еще нет
- Отзывов: 0
Получить код для блога
| Вставка фотографии в текущем разрешении |
Вставка миниатюры |
HTML (для вставки в блог):
BBCode (для вставки в форум):
Ссылка на фото:
Ссылка на миниатюру:
- Послать ссылку другу
| Комментарии к фотографии |