- Раздел: Натюрморт
- Дата съёмки: 12.03.2008 14:07
- Дата загрузки фото: 15.05.2008 06:20
- Оригинальная фотография: 820 x 631 (169 Кб)
- Технические характеристики:
- Фотоаппарат: Canon EOS DIGITAL REBEL XT
- Выдержка: 1/125
- Гиперфокальное расстояние: 67,74 m
- Диафрагма: 8,0
- Светочувствительность: 100
- Фокусное расстояние: 50,0mm (35mm эквивалент: 325,6mm)
- Полный EXIF
- Adobe
- ColorTransform: YCbCr
- Composite
- Aperture: 8,0
- CircleOfConfusion: 0,005 mm
- FocalLength35efl: 50,0mm (35mm equivalent: 325,6mm)
- HyperfocalDistance: 67,74 m
- LightValue: 13,0
- ScaleFactor35efl: 6,5
- ShutterSpeed: 1/125
- ExifIFD
- ApertureValue: 8,0
- ColorSpace: sRGB
- CreateDate: 2008:03:12 13:42:08
- CustomRendered: Normal
- DateTimeOriginal: 2008:03:12 13:42:08
- ExifImageLength: 631
- ExifImageWidth: 820
- ExposureCompensation: 0
- ExposureMode: Manual
- ExposureProgram: Manual
- ExposureTime: 1/125
- FNumber: 8,0
- Flash: On, Red-eye reduction
- FocalLength: 50,0mm
- ISO: 100
- MaxApertureValue: 2,8
- MeteringMode: Partial
- SceneCaptureType: Standard
- ShutterSpeedValue: 1/125
- WhiteBalance: Auto
- ICC-header
- ICC-meas
- ICC-view
- IFD0
- Artist: unknown
- Make: Canon
- Model: Canon EOS DIGITAL REBEL XT
- ModifyDate: 2008:05:14 02:20:37
- Orientation: Horizontal (normal)
- TimeZoneOffset: 10 10
- IFD1
- IPTC
- By-line: unknown
- XMP-aux
- Firmware: 1.0.3
- FlashCompensation: 0
- ImageNumber: 231
- Lens: 50.0 mm
- LensInfo: 50/1 50/1 0/0 0/0
- OwnerName: unknown
- SerialNumber: 1420722069
- XMP-crs
- AlreadyApplied: True
- BlueHue: 0
- BlueSaturation: 0
- Brightness: +50
- CameraProfile: ACR 3.1
- ChromaticAberrationB: 0
- ChromaticAberrationR: 0
- ColorNoiseReduction: 25
- Contrast: +25
- ConvertToGrayscale: False
- Exposure: +0.35
- FillLight: 0
- GreenHue: 0
- GreenSaturation: 0
- HasCrop: False
- HasSettings: True
- HighlightRecovery: 0
- HueAdjustmentAqua: 0
- HueAdjustmentBlue: 0
- HueAdjustmentGreen: 0
- HueAdjustmentMagenta: 0
- HueAdjustmentOrange: 0
- HueAdjustmentPurple: 0
- HueAdjustmentRed: 0
- HueAdjustmentYellow: 0
- LuminanceAdjustmentAqua: 0
- LuminanceAdjustmentBlue: 0
- LuminanceAdjustmentGreen: 0
- LuminanceAdjustmentMagenta: 0
- LuminanceAdjustmentOrange: 0
- LuminanceAdjustmentPurple: 0
- LuminanceAdjustmentRed: 0
- LuminanceAdjustmentYellow: 0
- LuminanceSmoothing: 0
- ParametricDarks: 0
- ParametricHighlightSplit: 75
- ParametricHighlights: 0
- ParametricLights: 0
- ParametricMidtoneSplit: 50
- ParametricShadowSplit: 25
- ParametricShadows: 0
- RawFileName: _MG_4839.CR2
- RedHue: 0
- RedSaturation: 0
- Saturation: 0
- SaturationAdjustmentAqua: 0
- SaturationAdjustmentBlue: 0
- SaturationAdjustmentGreen: 0
- SaturationAdjustmentMagenta: 0
- SaturationAdjustmentOrange: 0
- SaturationAdjustmentPurple: 0
- SaturationAdjustmentRed: 0
- SaturationAdjustmentYellow: 0
- ShadowTint: 0
- Shadows: 5
- Sharpness: 93
- SplitToningBalance: 0
- SplitToningHighlightHue: 0
- SplitToningHighlightSaturation: 0
- SplitToningShadowHue: 0
- SplitToningShadowSaturation: 0
- Temperature: 5350
- Tint: +4
- ToneCurve: 0, 0, 32, 22, 64, 56, 128, 128, 192, 196, 255, 255
- ToneCurveName: Medium Contrast
- Version: 4.0
- Vibrance: +73
- VignetteAmount: 0
- WhiteBalance: As Shot
- XMP-dc
- Creator: unknown
- Format: image/jpeg
- XMP-exif
- DateTimeDigitized: 2008:03:12 13:42:08+10:00
- DateTimeOriginal: 2008:03:12 13:42:08+10:00
- FlashFired: True
- FlashFunction: False
- FlashMode: On
- FlashRedEyeMode: True
- FlashReturn: No return detection
- XMP-tiff
- XMP-xmp
- CreateDate: 2008:03:12 14:07:52+10:00
- ModifyDate: 2008:05:14 02:20:37+11:00
- Rating: 0
- XMP-xmpMM
- DerivedFrom: