- Раздел: Животные
- Дата съёмки: 24.05.2008 23:26
- Дата загрузки фото: 24.05.2008 23:27
- Оригинальная фотография: 700 x 700 (546 Кб)
- Технические характеристики:
- Фотоаппарат: Olympus E-510
- Выдержка: 1/6
- Диафрагма: 3,3
- Светочувствительность: 400
- Фокусное расстояние: 42,0mm
- Полный EXIF
- Adobe
- ColorTransform: YCbCr
- Composite
- Aperture: 3,3
- FocalLength35efl: 42,0mm
- LightValue: 4,0
- ShutterSpeed: 1/6
- ExifIFD
- ApertureValue: 3,3
- CFAPattern: [Red,Green][Green,Blue]
- ColorSpace: sRGB
- Contrast: Normal
- CreateDate: 2008:03:14 23:00:59
- CustomRendered: Normal
- DateTimeOriginal: 2008:03:14 23:00:59
- DigitalZoomRatio: 1
- ExifImageLength: 700
- ExifImageWidth: 700
- ExposureCompensation: 0
- ExposureMode: Auto
- ExposureProgram: Aperture-priority AE
- ExposureTime: 1/6
- FNumber: 3,3
- Flash: Auto, Did not fire
- FocalLength: 42,0mm
- GainControl: High gain up
- ISO: 400
- LightSource: Unknown (0)
- MaxApertureValue: 2,8
- MeteringMode: Center-weighted average
- Saturation: Normal
- SceneCaptureType: Standard
- Sharpness: Soft
- ShutterSpeedValue: 1/6
- WhiteBalance: Auto
- ICC-header
- ICC-meas
- ICC-view
- IFD0
- ImageDescription: OLYMPUS DIGITAL CAMERA
- Make: OLYMPUS IMAGING CORP.
- Model: E-510
- ModifyDate: 2008:05:24 23:26:33
- Orientation: Horizontal (normal)
- TimeZoneOffset: 3 3
- IFD1
- IPTC
- Caption-Abstract: OLYMPUS DIGITAL CAMERA
- XMP-aux
- FlashCompensation: 0
- Lens: 14.0-54.0 mm f/2.8-3.5
- LensInfo: 14/1 54/1 28/10 35/10
- LensSerialNumber: 050219969
- SerialNumber: D63562186
- XMP-crs
- AlreadyApplied: True
- BlueHue: 0
- BlueSaturation: 0
- Brightness: +8
- CameraProfile: Beta
- ChromaticAberrationB: 0
- ChromaticAberrationR: 0
- Clarity: 15
- ColorNoiseReduction: 5
- Contrast: 0
- ConvertToGrayscale: False
- CropAngle: 0
- CropBottom: 0.90424
- CropHeight: 1
- CropLeft: 0.110288
- CropRight: 0.785179
- CropTop: 0.004386
- CropUnit: 3
- CropWidth: 1
- Defringe: 0
- Exposure: +1.40
- FillLight: 27
- GreenHue: 0
- GreenSaturation: 0
- HasCrop: True
- HasSettings: True
- HighlightRecovery: 5
- HueAdjustmentAqua: 0
- HueAdjustmentBlue: 0
- HueAdjustmentGreen: 0
- HueAdjustmentMagenta: 0
- HueAdjustmentOrange: 0
- HueAdjustmentPurple: 0
- HueAdjustmentRed: 0
- HueAdjustmentYellow: 0
- LuminanceAdjustmentAqua: 0
- LuminanceAdjustmentBlue: 0
- LuminanceAdjustmentGreen: 0
- LuminanceAdjustmentMagenta: 0
- LuminanceAdjustmentOrange: 0
- LuminanceAdjustmentPurple: 0
- LuminanceAdjustmentRed: 0
- LuminanceAdjustmentYellow: 0
- LuminanceSmoothing: 0
- ParametricDarks: 0
- ParametricHighlightSplit: 75
- ParametricHighlights: 0
- ParametricLights: 0
- ParametricMidtoneSplit: 50
- ParametricShadowSplit: 25
- ParametricShadows: 0
- RawFileName: P3143943.ORF
- RedHue: 0
- RedSaturation: 0
- Saturation: 0
- SaturationAdjustmentAqua: 0
- SaturationAdjustmentBlue: 0
- SaturationAdjustmentGreen: 0
- SaturationAdjustmentMagenta: 0
- SaturationAdjustmentOrange: 0
- SaturationAdjustmentPurple: 0
- SaturationAdjustmentRed: 0
- SaturationAdjustmentYellow: 0
- ShadowTint: 0
- Shadows: 2
- SharpenDetail: 0
- SharpenEdgeMasking: 0
- SharpenRadius: +0.5
- Sharpness: 0
- SplitToningBalance: +89
- SplitToningHighlightHue: 0
- SplitToningHighlightSaturation: 0
- SplitToningShadowHue: 113
- SplitToningShadowSaturation: 20
- Temperature: 2520
- Tint: -7
- ToneCurve: 0, 0, 33, 12, 69, 61, 137, 138, 194, 200, 255, 255
- ToneCurveName: Custom
- Version: 4.1
- Vibrance: 0
- VignetteAmount: 0
- WhiteBalance: Custom
- XMP-dc
- Description: OLYMPUS DIGITAL CAMERA
- Format: image/jpeg
- XMP-exif
- DateTimeDigitized: 2008:03:14 23:00:59+03:00
- DateTimeOriginal: 2008:03:14 23:00:59+03:00
- FlashFired: False
- FlashFunction: False
- FlashMode: Auto
- FlashRedEyeMode: False
- FlashReturn: No return detection
- XMP-tiff
- XMP-xmp
- CreateDate: 2008:05:24 23:26:33+04:00
- ModifyDate: 2008:05:24 23:26:33+04:00
- Rating: 0
- XMP-xmpMM