- Раздел: Натюрморт
- Дата съёмки: 19.05.2008 02:22
- Дата загрузки фото: 25.05.2008 06:38
- Оригинальная фотография: 516 x 800 (154 Кб)
- Технические характеристики:
- Фотоаппарат: Minolta DYNAX 5D
- Выдержка: 10,0
- Диафрагма: 1,0
- Светочувствительность: 100
- Полный EXIF
- Adobe
- ColorTransform: YCbCr
- Composite
- Aperture: 1,0
- LightValue: -3,3
- ShutterSpeed: 10,0
- ExifIFD
- ApertureValue: 1,0
- BrightnessValue: -7,5
- ColorSpace: sRGB
- Contrast: Normal
- CreateDate: 2008:05:18 14:40:38
- CustomRendered: Normal
- DateTimeOriginal: 2008:05:18 14:40:38
- DigitalZoomRatio: 0
- ExifImageLength: 800
- ExifImageWidth: 516
- ExposureCompensation: 0
- ExposureMode: Manual
- ExposureProgram: Manual
- ExposureTime: 10,0
- FNumber: 1,0
- Flash: Off
- GainControl: None
- ISO: 100
- LightSource: Unknown (0)
- MaxApertureValue: 1,0
- MeteringMode: Spot
- Saturation: Normal
- SceneCaptureType: Standard
- Sharpness: Hard
- ShutterSpeedValue: 10,0
- SubjectLocation: 893 1000 256 304
- WhiteBalance: Auto
- ICC-header
- ICC-meas
- ICC-view
- IFD0
- ImageDescription: KONICA MINOLTA DIGITAL CAMERA
- Make: KONICA MINOLTA
- Model: DYNAX 5D
- ModifyDate: 2008:05:26 13:31:06
- Orientation: Horizontal (normal)
- TimeZoneOffset: 11 11
- IFD1
- IPTC
- Caption-Abstract: KONICA MINOLTA DIGITAL CAMERA
- XMP-aux
- XMP-crs
- AlreadyApplied: True
- BlueHue: 0
- BlueSaturation: 0
- Brightness: +44
- CameraProfile: ACR 3.2
- ChromaticAberrationB: 0
- ChromaticAberrationR: 0
- Contrast: +98
- ConvertToGrayscale: True
- Exposure: -0.65
- FillLight: 0
- GrayMixerAqua: -18
- GrayMixerBlue: +9
- GrayMixerGreen: -26
- GrayMixerMagenta: +3
- GrayMixerOrange: -18
- GrayMixerPurple: +15
- GrayMixerRed: -10
- GrayMixerYellow: -22
- GreenHue: 0
- GreenSaturation: 0
- HasCrop: False
- HasSettings: True
- HighlightRecovery: 100
- LuminanceSmoothing: 0
- ParametricDarks: 0
- ParametricHighlightSplit: 75
- ParametricHighlights: 0
- ParametricLights: 0
- ParametricMidtoneSplit: 50
- ParametricShadowSplit: 25
- ParametricShadows: 0
- RawFileName: PICT2441.MRW
- RedHue: 0
- RedSaturation: 0
- ShadowTint: 0
- Shadows: 32
- Sharpness: 18
- SplitToningBalance: 0
- SplitToningHighlightHue: 0
- SplitToningHighlightSaturation: 0
- SplitToningShadowHue: 0
- SplitToningShadowSaturation: 0
- Temperature: 5700
- Tint: +10
- ToneCurve: 0, 0, 32, 22, 64, 56, 128, 128, 192, 196, 255, 255
- ToneCurveName: Medium Contrast
- Version: 4.0
- VignetteAmount: -100
- VignetteMidpoint: 50
- WhiteBalance: As Shot
- XMP-dc
- Description: KONICA MINOLTA DIGITAL CAMERA
- Format: image/jpeg
- XMP-exif
- BrightnessValue: -7.5
- DateTimeDigitized: 2008:05:18 14:40:38+11:00
- DateTimeOriginal: 2008:05:18 14:40:38+11:00
- FlashFired: False
- FlashFunction: False
- FlashMode: Off
- FlashRedEyeMode: False
- FlashReturn: No return detection
- SubjectArea: 893, 1000, 256, 304
- XMP-tiff
- XMP-xmp
- CreateDate: 2008:05:19 02:22:39+11:00
- ModifyDate: 2008:05:26 13:31:06+11:00
- Rating: 0
- XMP-xmpMM