Уважаемые друзья и участники проекта iXBT.photo! К сожалению, 1 марта 2026 года проект iXBT.photo прекратит свою работу и будет закрыт. Мы высоко ценим ваше участие и тот вклад, который вы внесли в развитие нашего сообщества. Пожалуйста, не забудьте сохранить ваши фотографии до этой даты.
С уважением, команда iXBT.com
| Wed-63.jpg |
Wed-63.jpg
- Раздел: Активный отдых, туризм
- Дата съёмки: 10.09.2007 16:43
- Дата загрузки фото: 27.05.2008 10:53
- Оригинальная фотография: 368 x 550 ( 72 Кб)
- Технические характеристики:
- Фотоаппарат: Nikon D200
- Выдержка: 1/2500
- Гиперфокальное расстояние: 69,34 m
- Диафрагма: 1,8
- Светочувствительность: 100
- Фокусное расстояние: 50,0mm (35mm эквивалент: 75,0mm)
- Полный EXIF
- Composite
- Aperture: 1,8
- CircleOfConfusion: 0,020 mm
- FocalLength35efl: 50,0mm (35mm equivalent: 75,0mm)
- HyperfocalDistance: 69,34 m
- LightValue: 13,0
- ScaleFactor35efl: 1,5
- ShutterSpeed: 1/2500
- ExifIFD
- ApertureValue: 1,8
- CFAPattern: [Green,Red][Blue,Green]
- Contrast: Normal
- CreateDate: 2007:09:10 16:43:36
- CustomRendered: Normal
- DateTimeOriginal: 2007:09:10 16:43:36
- DigitalZoomRatio: 1
- ExposureCompensation: 0
- ExposureMode: Auto
- ExposureProgram: Aperture-priority AE
- ExposureTime: 1/2500
- FNumber: 1,8
- Flash: No Flash
- FocalLength: 50,0mm
- FocalLengthIn35mmFormat: 75mm
- GainControl: None
- ISO: 100
- LightSource: Unknown (0)
- MaxApertureValue: 1,7
- MeteringMode: Center-weighted average
- Saturation: Normal
- SceneCaptureType: Standard
- SceneType: Directly photographed
- SensingMethod: One-chip color area
- Sharpness: Soft
- ShutterSpeedValue: 1/2500
- WhiteBalance: Auto
- ICC-header
- ICC-meas
- ICC-view
- IFD0
- Make: NIKON CORPORATION
- Model: NIKON D200
- ModifyDate: 2007:09:11 16:12:57
- Software: Ver.2.00
- TimeZoneOffset: 4 4
- XMP-aux
- ImageNumber: 2399
- Lens: 50.0 mm f/1.8
- LensInfo: 500/10 500/10 18/10 18/10
- XMP-crs
- AlreadyApplied: True
- BlueHue: 0
- BlueSaturation: 0
- Brightness: +50
- CameraProfile: ACR 2.4
- ChromaticAberrationB: 0
- ChromaticAberrationR: 0
- Clarity: 0
- Contrast: +36
- ConvertToGrayscale: True
- Defringe: 0
- Exposure: 0.00
- FillLight: 13
- GrayMixerAqua: -10
- GrayMixerBlue: +20
- GrayMixerGreen: -19
- GrayMixerMagenta: +28
- GrayMixerOrange: +4
- GrayMixerPurple: +25
- GrayMixerRed: +29
- GrayMixerYellow: -13
- GreenHue: 0
- GreenSaturation: 0
- HasCrop: False
- HasSettings: True
- HighlightRecovery: 0
- LuminanceSmoothing: 0
- ParametricDarks: -17
- ParametricHighlightSplit: 75
- ParametricHighlights: 0
- ParametricLights: +28
- ParametricMidtoneSplit: 50
- ParametricShadowSplit: 25
- ParametricShadows: 0
- RedHue: 0
- RedSaturation: 0
- ShadowTint: 0
- Shadows: 0
- SharpenDetail: 25
- SharpenEdgeMasking: 0
- SharpenRadius: +1.0
- Sharpness: 25
- SplitToningBalance: 0
- SplitToningHighlightHue: 52
- SplitToningHighlightSaturation: 64
- SplitToningShadowHue: 37
- SplitToningShadowSaturation: 22
- Temperature: 5550
- Tint: -4
- ToneCurve: 0, 0, 32, 22, 64, 56, 128, 128, 192, 196, 255, 255
- ToneCurveName: Medium Contrast
- Version: 1.0
- VignetteAmount: 0
- WhiteBalance: Custom
- XMP-exif
- DateTimeDigitized: 2007:09:10 16:43:36.41+04:00
- DateTimeOriginal: 2007:09:10 16:43:36.41+04:00
- FlashFired: False
- FlashFunction: False
- FlashMode: Unknown
- FlashRedEyeMode: False
- FlashReturn: No return detection
- FocalLengthIn35mmFormat: 75
- SubjectDistanceRange: Unknown
- XMP-tiff
- ImageHeight: 3872
- ImageWidth: 2592
- XMP-xmp
- ModifyDate: 2007:09:11 16:12:57+04:00
- Просмотров: 327
- Рейтинг: голосов еще нет
- Отзывов: 0
Получить код для блога
| Вставка фотографии в текущем разрешении |
Вставка миниатюры |
HTML (для вставки в блог):
BBCode (для вставки в форум):
Ссылка на фото:
Ссылка на миниатюру:
- Послать ссылку другу
| Комментарии к фотографии |