- Раздел: Пейзаж
- Дата съёмки: 29.05.2008 01:36
- Дата загрузки фото: 27.05.2008 18:50
- Оригинальная фотография: 466 x 700 (105 Кб)
- Технические характеристики:
- Фотоаппарат: Minolta DYNAX 5D
- Выдержка: 30,0
- Гиперфокальное расстояние: 1,80 m
- Диафрагма: 9,0
- Светочувствительность: 100
- Фокусное расстояние: 18,0mm (35mm эквивалент: 27,0mm)
- Полный EXIF
- Adobe
- ColorTransform: YCbCr
- Composite
- Aperture: 9,0
- CircleOfConfusion: 0,020 mm
- FocalLength35efl: 18,0mm (35mm equivalent: 27,0mm)
- HyperfocalDistance: 1,80 m
- LightValue: 1,4
- ScaleFactor35efl: 1,5
- ShutterSpeed: 30,0
- ExifIFD
- ApertureValue: 9,0
- BrightnessValue: -5
- ColorSpace: sRGB
- Contrast: Normal
- CreateDate: 2005:01:04 04:43:14
- CustomRendered: Normal
- DateTimeOriginal: 2005:01:04 04:43:14
- DigitalZoomRatio: 0
- ExifImageLength: 700
- ExifImageWidth: 466
- ExposureCompensation: 0
- ExposureMode: Manual
- ExposureProgram: Manual
- ExposureTime: 30,0
- FNumber: 9,0
- Flash: Off
- FocalLength: 18,0mm
- FocalLengthIn35mmFormat: 27mm
- GainControl: None
- ISO: 100
- LightSource: Unknown (0)
- MaxApertureValue: 3,5
- MeteringMode: Spot
- Saturation: Normal
- SceneCaptureType: Standard
- Sharpness: Normal
- ShutterSpeedValue: 30,0
- SubjectLocation: 1504 1000 3008 2000
- WhiteBalance: Auto
- ICC-header
- ICC-meas
- ICC-view
- IFD0
- ImageDescription: KONICA MINOLTA DIGITAL CAMERA
- Make: KONICA MINOLTA
- Model: DYNAX 5D
- ModifyDate: 2008:05:29 01:37:22
- Orientation: Horizontal (normal)
- TimeZoneOffset: 10 10
- IFD1
- IPTC
- Caption-Abstract: KONICA MINOLTA DIGITAL CAMERA
- XMP-aux
- XMP-crs
- AlreadyApplied: True
- BlueHue: 0
- BlueSaturation: 0
- Brightness: +50
- CameraProfile: ACR 3.2
- ChromaticAberrationB: 0
- ChromaticAberrationR: 0
- Contrast: +25
- ConvertToGrayscale: True
- CropAngle: -1.442395
- CropBottom: 0.963511
- CropLeft: 0.010179
- CropRight: 0.989821
- CropTop: 0.036489
- Exposure: +1.50
- FillLight: 42
- GrayMixerAqua: -12
- GrayMixerBlue: +27
- GrayMixerGreen: -31
- GrayMixerMagenta: +8
- GrayMixerOrange: -25
- GrayMixerPurple: +29
- GrayMixerRed: -14
- GrayMixerYellow: -30
- GreenHue: 0
- GreenSaturation: 0
- HasCrop: True
- HasSettings: True
- HighlightRecovery: 0
- LuminanceSmoothing: 100
- ParametricDarks: 0
- ParametricHighlightSplit: 75
- ParametricHighlights: 0
- ParametricLights: 0
- ParametricMidtoneSplit: 50
- ParametricShadowSplit: 25
- ParametricShadows: 0
- RawFileName: PICT0002.MRW
- RedHue: 0
- RedSaturation: 0
- ShadowTint: 0
- Shadows: 19
- Sharpness: 25
- SplitToningBalance: 0
- SplitToningHighlightHue: 0
- SplitToningHighlightSaturation: 0
- SplitToningShadowHue: 0
- SplitToningShadowSaturation: 0
- Temperature: 7400
- Tint: +9
- ToneCurve: 0, 0, 32, 22, 64, 56, 128, 128, 192, 196, 255, 255
- ToneCurveName: Medium Contrast
- Version: 4.0
- VignetteAmount: -3
- VignetteMidpoint: 50
- WhiteBalance: Custom
- XMP-dc
- Description: KONICA MINOLTA DIGITAL CAMERA
- Format: image/jpeg
- XMP-exif
- DateTimeDigitized: 2005:01:04 04:43:14+10:00
- DateTimeOriginal: 2005:01:04 04:43:14+10:00
- FlashFired: False
- FlashFunction: False
- FlashMode: Off
- FlashRedEyeMode: False
- FlashReturn: No return detection
- FocalLengthIn35mmFormat: 27
- SubjectArea: 1504, 1000, 3008, 2000
- XMP-tiff
- XMP-xmp
- CreateDate: 2008:05:29 01:36:03+11:00
- ModifyDate: 2008:05:29 01:37:22+11:00
- Rating: 0
- XMP-xmpMM
- DerivedFrom: