Вжжж..... |
Вжжж.....
- Раздел: Друзья, встречи
- Дата съёмки: 01.06.2008 11:54
- Дата загрузки фото: 01.06.2008 18:37
- Оригинальная фотография: 1261 x 2078 (937 Кб)
- Технические характеристики:
- Фотоаппарат: Nikon D80
- Выдержка: 1/200
- Светочувствительность: 400
- Полный EXIF
- Adobe
- ColorTransform: YCbCr
- Composite
- ShutterSpeed: 1/200
- ExifIFD
- CFAPattern: [Green,Blue][Red,Green]
- Contrast: Low
- CreateDate: 2008:06:01 11:54:52
- CustomRendered: Normal
- DateTimeOriginal: 2008:06:01 11:54:52
- DigitalZoomRatio: 1
- ExposureCompensation: 0
- ExposureMode: Manual
- ExposureProgram: Manual
- ExposureTime: 1/200
- Flash: Auto, Fired, Return not detected
- GainControl: Low gain up
- ISO: 400
- LightSource: Unknown (0)
- MaxApertureValue: 1,0
- MeteringMode: Center-weighted average
- Saturation: Normal
- SceneCaptureType: Standard
- SceneType: Directly photographed
- SensingMethod: One-chip color area
- Sharpness: Normal
- ShutterSpeedValue: 1/200
- UserComment: Tsemenko Ilya ilya@topmods.net 80508
- WhiteBalance: Auto
- ICC-header
- ICC-meas
- ICC-view
- IFD0
- Make: NIKON CORPORATION
- Model: NIKON D80
- ModifyDate: 2008:06:01 17:32:22
- Software: Ver.1.10
- XMP-aux
- ImageNumber: 6576
- Lens: 0.0 mm f/0.0
- LensInfo: 0/10 0/10 0/10 0/10
- XMP-crs
- AlreadyApplied: True
- BlueHue: 0
- BlueSaturation: 0
- Brightness: 0
- CameraProfile: Embedded
- ChromaticAberrationB: 0
- ChromaticAberrationR: 0
- Clarity: 92
- ColorNoiseReduction: 0
- Contrast: +30
- ConvertToGrayscale: False
- CropAngle: 0
- CropBottom: 0.884793
- CropHeight: 2078
- CropLeft: 0.316547
- CropRight: 0.642343
- CropTop: 0.082949
- CropUnit: 0
- CropWidth: 1261
- Defringe: 0
- Exposure: +0.67
- FillLight: 0
- GreenHue: 0
- GreenSaturation: 0
- HasCrop: True
- HasSettings: True
- HighlightRecovery: 55
- HueAdjustmentAqua: 0
- HueAdjustmentBlue: 0
- HueAdjustmentGreen: 0
- HueAdjustmentMagenta: 0
- HueAdjustmentOrange: 0
- HueAdjustmentPurple: 0
- HueAdjustmentRed: 0
- HueAdjustmentYellow: 0
- IncrementalTemperature: 0
- IncrementalTint: +25
- LuminanceAdjustmentAqua: 0
- LuminanceAdjustmentBlue: 0
- LuminanceAdjustmentGreen: 0
- LuminanceAdjustmentMagenta: 0
- LuminanceAdjustmentOrange: 0
- LuminanceAdjustmentPurple: 0
- LuminanceAdjustmentRed: 0
- LuminanceAdjustmentYellow: 0
- LuminanceSmoothing: 0
- ParametricDarks: 0
- ParametricHighlightSplit: 75
- ParametricHighlights: 0
- ParametricLights: 0
- ParametricMidtoneSplit: 50
- ParametricShadowSplit: 25
- ParametricShadows: 0
- RedHue: 0
- RedSaturation: 0
- Saturation: 0
- SaturationAdjustmentAqua: 0
- SaturationAdjustmentBlue: 0
- SaturationAdjustmentGreen: 0
- SaturationAdjustmentMagenta: 0
- SaturationAdjustmentOrange: 0
- SaturationAdjustmentPurple: 0
- SaturationAdjustmentRed: 0
- SaturationAdjustmentYellow: 0
- ShadowTint: 0
- Shadows: 4
- SharpenDetail: 25
- SharpenEdgeMasking: 0
- SharpenRadius: +1.0
- Sharpness: 0
- SplitToningBalance: 0
- SplitToningHighlightHue: 0
- SplitToningHighlightSaturation: 0
- SplitToningShadowHue: 0
- SplitToningShadowSaturation: 0
- ToneCurve: 0, 0, 255, 255
- ToneCurveName: Linear
- Version: 1.0
- Vibrance: 0
- VignetteAmount: 0
- WhiteBalance: Custom
- XMP-exif
- DateTimeDigitized: 2008:06:01 11:54:52.70+03:00
- DateTimeOriginal: 2008:06:01 11:54:52.70+03:00
- FlashFired: True
- FlashFunction: False
- FlashMode: Auto
- FlashRedEyeMode: False
- FlashReturn: Return not detected
- SubjectDistanceRange: Unknown
- XMP-tiff
- ImageHeight: 2078
- ImageWidth: 1261
- XMP-xmp
- ModifyDate: 2008:06:01 17:32:22+03:00
- Просмотров: 162
- Рейтинг: голосов еще нет
- Отзывов: 0
Получить код для блога
Вставка фотографии в текущем разрешении |
Вставка миниатюры |
HTML (для вставки в блог):
BBCode (для вставки в форум):
Ссылка на фото:
Ссылка на миниатюру:
- Послать ссылку другу
Комментарии к фотографии |