Уважаемые друзья и участники проекта iXBT.photo! К сожалению, 1 марта 2026 года проект iXBT.photo прекратит свою работу и будет закрыт. Мы высоко ценим ваше участие и тот вклад, который вы внесли в развитие нашего сообщества. Пожалуйста, не забудьте сохранить ваши фотографии до этой даты.
С уважением, команда iXBT.com
| Настя |
Настя
- Раздел: Портрет
- Дата съёмки: 11.06.2008 11:14
- Дата загрузки фото: 11.06.2008 18:25
- Оригинальная фотография: 1000 x 681 (235 Кб)
- Технические характеристики:
- Фотоаппарат: Canon EOS 400D DIGITAL
- Выдержка: 1/160
- Гиперфокальное расстояние: 92,76 m
- Диафрагма: 6,3
- Светочувствительность: 100
- Фокусное расстояние: 53,0mm (35mm эквивалент: 331,3mm)
- Полный EXIF
- Adobe
- ColorTransform: YCbCr
- Composite
- Aperture: 6,3
- CircleOfConfusion: 0,005 mm
- FocalLength35efl: 53,0mm (35mm equivalent: 331,3mm)
- HyperfocalDistance: 92,76 m
- LightValue: 12,6
- ScaleFactor35efl: 6,3
- ShutterSpeed: 1/160
- ExifIFD
- ApertureValue: 6,3
- ColorSpace: Uncalibrated
- CreateDate: 2008:06:10 13:44:03
- CustomRendered: Normal
- DateTimeOriginal: 2008:06:10 13:44:03
- ExifImageLength: 681
- ExifImageWidth: 1000
- ExposureCompensation: 0
- ExposureMode: Manual
- ExposureProgram: Manual
- ExposureTime: 1/160
- FNumber: 6,3
- Flash: Off
- FocalLength: 53,0mm
- ISO: 100
- MaxApertureValue: 4,0
- MeteringMode: Multi-segment
- SceneCaptureType: Standard
- ShutterSpeedValue: 1/160
- WhiteBalance: Auto
- ICC-header
- IFD0
- Artist: unknown
- BitsPerSample: 16 16 16
- ImageHeight: 1576
- ImageWidth: 2314
- Make: Canon
- Model: Canon EOS 400D DIGITAL
- ModifyDate: 2008:06:11 11:14:09
- Orientation: Horizontal (normal)
- PhotometricInterpretation: RGB
- PlanarConfiguration: Planar
- SamplesPerPixel: 3
- IFD1
- IPTC
- By-line: unknown
- XMP-aux
- Firmware: 1.0.4
- FlashCompensation: 0
- ImageNumber: 48
- Lens: 17.0-70.0 mm
- LensInfo: 17/1 70/1 0/0 0/0
- OwnerName: unknown
- SerialNumber: 430125772
- XMP-crs
- AlreadyApplied: True
- BlueHue: 0
- BlueSaturation: 0
- Brightness: +55
- CameraProfile: ACR 3.6
- ChromaticAberrationB: 0
- ChromaticAberrationR: 0
- ColorNoiseReduction: 25
- Contrast: +3
- ConvertToGrayscale: False
- CropAngle: 4.407918
- CropBottom: 1
- CropHeight: 2330
- CropLeft: 0.074853
- CropRight: 0.925147
- CropTop: 0
- CropUnit: 0
- CropWidth: 3495
- Exposure: +0.61
- FillLight: 0
- GreenHue: 0
- GreenSaturation: 0
- HasCrop: True
- HasSettings: True
- HighlightRecovery: 0
- HueAdjustmentAqua: 0
- HueAdjustmentBlue: +8
- HueAdjustmentGreen: 0
- HueAdjustmentMagenta: 0
- HueAdjustmentOrange: -11
- HueAdjustmentPurple: +4
- HueAdjustmentRed: 0
- HueAdjustmentYellow: -55
- LuminanceAdjustmentAqua: +13
- LuminanceAdjustmentBlue: +11
- LuminanceAdjustmentGreen: -74
- LuminanceAdjustmentMagenta: +13
- LuminanceAdjustmentOrange: +39
- LuminanceAdjustmentPurple: +8
- LuminanceAdjustmentRed: +41
- LuminanceAdjustmentYellow: -36
- LuminanceSmoothing: 0
- ParametricDarks: -11
- ParametricHighlightSplit: 75
- ParametricHighlights: +13
- ParametricLights: -8
- ParametricMidtoneSplit: 50
- ParametricShadowSplit: 25
- ParametricShadows: 0
- RedHue: 0
- RedSaturation: 0
- Saturation: 0
- SaturationAdjustmentAqua: +6
- SaturationAdjustmentBlue: +11
- SaturationAdjustmentGreen: 0
- SaturationAdjustmentMagenta: +18
- SaturationAdjustmentOrange: 0
- SaturationAdjustmentPurple: +13
- SaturationAdjustmentRed: +84
- SaturationAdjustmentYellow: -95
- ShadowTint: 0
- Shadows: 5
- Sharpness: 25
- SplitToningBalance: 0
- SplitToningHighlightHue: 0
- SplitToningHighlightSaturation: 0
- SplitToningShadowHue: 0
- SplitToningShadowSaturation: 0
- Temperature: 5059
- Tint: +5
- ToneCurve: 0, 0, 32, 22, 64, 56, 128, 128, 192, 196, 255, 255
- ToneCurveName: Medium Contrast
- Version: 1.0
- Vibrance: 0
- VignetteAmount: 0
- WhiteBalance: Custom
- XMP-dc
- Creator: unknown
- Format: image/jpeg
- XMP-exif
- ColorSpace: Unknown (-1)
- DateTimeDigitized: 2008:06:10 13:44:03+04:00
- DateTimeOriginal: 2008:06:10 13:44:03+04:00
- FlashFired: False
- FlashFunction: False
- FlashMode: Off
- FlashRedEyeMode: False
- FlashReturn: No return detection
- XMP-tiff
- BitsPerSample: 16, 16, 16
- XMP-xmp
- CreateDate: 2008:06:11 11:14:09+04:00
- ModifyDate: 2008:06:11 11:14:09+04:00
- XMP-xmpMM
Получить код для блога
| Вставка фотографии в текущем разрешении |
Вставка миниатюры |
HTML (для вставки в блог):
BBCode (для вставки в форум):
Ссылка на фото:
Ссылка на миниатюру:
- Послать ссылку другу
| Комментарии к фотографии |