Уважаемые друзья и участники проекта iXBT.photo! К сожалению, 1 марта 2026 года проект iXBT.photo прекратит свою работу и будет закрыт. Мы высоко ценим ваше участие и тот вклад, который вы внесли в развитие нашего сообщества. Пожалуйста, не забудьте сохранить ваши фотографии до этой даты.
С уважением, команда iXBT.com
| Настя 2 |
Настя 2
- Раздел: Портрет
- Дата съёмки: 11.06.2008 10:31
- Дата загрузки фото: 11.06.2008 18:26
- Оригинальная фотография: 1000 x 654 (204 Кб)
- Технические характеристики:
- Фотоаппарат: Canon EOS 400D DIGITAL
- Выдержка: 1/160
- Гиперфокальное расстояние: 14,74 m
- Диафрагма: 6,3
- Светочувствительность: 100
- Фокусное расстояние: 21,0mm (35mm эквивалент: 132,9mm)
- Полный EXIF
- Adobe
- ColorTransform: YCbCr
- Composite
- Aperture: 6,3
- CircleOfConfusion: 0,005 mm
- FocalLength35efl: 21,0mm (35mm equivalent: 132,9mm)
- HyperfocalDistance: 14,74 m
- LightValue: 12,6
- ScaleFactor35efl: 6,3
- ShutterSpeed: 1/160
- ExifIFD
- ApertureValue: 6,3
- ColorSpace: Uncalibrated
- CreateDate: 2008:06:10 13:51:55
- CustomRendered: Normal
- DateTimeOriginal: 2008:06:10 13:51:55
- ExifImageLength: 654
- ExifImageWidth: 1000
- ExposureCompensation: 0
- ExposureMode: Manual
- ExposureProgram: Manual
- ExposureTime: 1/160
- FNumber: 6,3
- Flash: Off
- FocalLength: 21,0mm
- ISO: 100
- MaxApertureValue: 2,8
- MeteringMode: Multi-segment
- SceneCaptureType: Standard
- ShutterSpeedValue: 1/160
- WhiteBalance: Auto
- ICC-header
- IFD0
- Artist: unknown
- BitsPerSample: 8 8 8
- ImageHeight: 2382
- ImageWidth: 3641
- Make: Canon
- Model: Canon EOS 400D DIGITAL
- ModifyDate: 2008:06:11 10:31:02
- Orientation: Horizontal (normal)
- PhotometricInterpretation: RGB
- PlanarConfiguration: Chunky
- SamplesPerPixel: 3
- IFD1
- IPTC
- By-line: unknown
- XMP-aux
- Firmware: 1.0.4
- FlashCompensation: 0
- ImageNumber: 208
- Lens: 17.0-70.0 mm
- LensInfo: 17/1 70/1 0/0 0/0
- OwnerName: unknown
- SerialNumber: 430125772
- XMP-crs
- AlreadyApplied: True
- BlueHue: 0
- BlueSaturation: 0
- Brightness: +50
- CameraProfile: ACR 3.6
- ChromaticAberrationB: 0
- ChromaticAberrationR: 0
- ColorNoiseReduction: 0
- Contrast: +25
- ConvertToGrayscale: False
- CropAngle: -1.464244
- CropBottom: 0.918558
- CropHeight: 2382
- CropLeft: 0.036997
- CropRight: 0.988884
- CropTop: 0.035991
- CropUnit: 0
- CropWidth: 3641
- Exposure: -0.14
- FillLight: 21
- GreenHue: 0
- GreenSaturation: 0
- HasCrop: True
- HasSettings: True
- HighlightRecovery: 0
- HueAdjustmentAqua: 0
- HueAdjustmentBlue: 0
- HueAdjustmentGreen: 0
- HueAdjustmentMagenta: 0
- HueAdjustmentOrange: 0
- HueAdjustmentPurple: 0
- HueAdjustmentRed: 0
- HueAdjustmentYellow: 0
- LuminanceAdjustmentAqua: 0
- LuminanceAdjustmentBlue: 0
- LuminanceAdjustmentGreen: 0
- LuminanceAdjustmentMagenta: 0
- LuminanceAdjustmentOrange: 0
- LuminanceAdjustmentPurple: 0
- LuminanceAdjustmentRed: 0
- LuminanceAdjustmentYellow: 0
- LuminanceSmoothing: 9
- ParametricDarks: 0
- ParametricHighlightSplit: 75
- ParametricHighlights: 0
- ParametricLights: 0
- ParametricMidtoneSplit: 50
- ParametricShadowSplit: 25
- ParametricShadows: 0
- RedHue: 0
- RedSaturation: 0
- Saturation: +6
- SaturationAdjustmentAqua: 0
- SaturationAdjustmentBlue: 0
- SaturationAdjustmentGreen: 0
- SaturationAdjustmentMagenta: 0
- SaturationAdjustmentOrange: 0
- SaturationAdjustmentPurple: 0
- SaturationAdjustmentRed: +74
- SaturationAdjustmentYellow: 0
- ShadowTint: 0
- Shadows: 5
- Sharpness: 100
- SplitToningBalance: 0
- SplitToningHighlightHue: 0
- SplitToningHighlightSaturation: 0
- SplitToningShadowHue: 0
- SplitToningShadowSaturation: 0
- Temperature: 4824
- Tint: +3
- ToneCurve: 0, 0, 32, 22, 64, 56, 128, 128, 192, 196, 255, 255
- ToneCurveName: Medium Contrast
- Version: 1.0
- Vibrance: 0
- VignetteAmount: +13
- VignetteMidpoint: 24
- WhiteBalance: Custom
- XMP-dc
- Creator: unknown
- Format: image/jpeg
- XMP-exif
- ColorSpace: Unknown (-1)
- DateTimeDigitized: 2008:06:10 13:51:55+04:00
- DateTimeOriginal: 2008:06:10 13:51:55+04:00
- FlashFired: False
- FlashFunction: False
- FlashMode: Off
- FlashRedEyeMode: False
- FlashReturn: No return detection
- XMP-tiff
- BitsPerSample: 8, 8, 8
- XMP-xmp
- CreateDate: 2008:06:11 10:31:02+04:00
- ModifyDate: 2008:06:11 10:31:02+04:00
- XMP-xmpMM
Получить код для блога
| Вставка фотографии в текущем разрешении |
Вставка миниатюры |
HTML (для вставки в блог):
BBCode (для вставки в форум):
Ссылка на фото:
Ссылка на миниатюру:
- Послать ссылку другу
| Комментарии к фотографии |