Уважаемые друзья и участники проекта iXBT.photo! К сожалению, 1 марта 2026 года проект iXBT.photo прекратит свою работу и будет закрыт. Мы высоко ценим ваше участие и тот вклад, который вы внесли в развитие нашего сообщества. Пожалуйста, не забудьте сохранить ваши фотографии до этой даты.
С уважением, команда iXBT.com
| *** |
***
- Раздел: Портрет
- Дата съёмки: 11.06.2008 13:48
- Дата загрузки фото: 11.06.2008 18:32
- Оригинальная фотография: 735 x 1000 (220 Кб)
- Технические характеристики:
- Фотоаппарат: Canon EOS 400D DIGITAL
- Выдержка: 1/100
- Гиперфокальное расстояние: 20,96 m
- Диафрагма: 2,8
- Светочувствительность: 800
- Фокусное расстояние: 17,0mm (35mm эквивалент: 103,8mm)
- Полный EXIF
- Adobe
- ColorTransform: YCbCr
- Composite
- Aperture: 2,8
- CircleOfConfusion: 0,005 mm
- FocalLength35efl: 17,0mm (35mm equivalent: 103,8mm)
- HyperfocalDistance: 20,96 m
- LightValue: 6,6
- ScaleFactor35efl: 6,1
- ShutterSpeed: 1/100
- ExifIFD
- ApertureValue: 2,8
- ColorSpace: Uncalibrated
- CreateDate: 2008:06:10 14:14:05
- CustomRendered: Normal
- DateTimeOriginal: 2008:06:10 14:14:05
- ExifImageLength: 1000
- ExifImageWidth: 735
- ExposureCompensation: 0
- ExposureMode: Manual
- ExposureProgram: Manual
- ExposureTime: 1/100
- FNumber: 2,8
- Flash: Off
- FocalLength: 17,0mm
- ISO: 800
- MaxApertureValue: 2,8
- MeteringMode: Multi-segment
- SceneCaptureType: Standard
- ShutterSpeedValue: 1/100
- WhiteBalance: Auto
- ICC-header
- IFD0
- Artist: unknown
- Make: Canon
- Model: Canon EOS 400D DIGITAL
- ModifyDate: 2008:06:11 13:48:34
- Orientation: Horizontal (normal)
- IFD1
- IPTC
- By-line: unknown
- XMP-aux
- Firmware: 1.0.4
- FlashCompensation: 0
- ImageNumber: 224
- Lens: 17.0-70.0 mm
- LensInfo: 17/1 70/1 0/0 0/0
- OwnerName: unknown
- SerialNumber: 430125772
- XMP-crs
- AlreadyApplied: True
- BlueHue: 0
- BlueSaturation: 0
- Brightness: +55
- CameraProfile: ACR 3.6
- ChromaticAberrationB: 0
- ChromaticAberrationR: 0
- ColorNoiseReduction: 51
- Contrast: +47
- ConvertToGrayscale: False
- CropAngle: -1.702182
- CropBottom: 0.965534
- CropHeight: 2453
- CropLeft: 0.195307
- CropRight: 0.677342
- CropTop: 0.040143
- CropUnit: 0
- CropWidth: 1802
- Exposure: -0.14
- FillLight: 0
- GreenHue: 0
- GreenSaturation: 0
- HasCrop: True
- HasSettings: True
- HighlightRecovery: 0
- HueAdjustmentAqua: 0
- HueAdjustmentBlue: 0
- HueAdjustmentGreen: 0
- HueAdjustmentMagenta: 0
- HueAdjustmentOrange: 0
- HueAdjustmentPurple: 0
- HueAdjustmentRed: 0
- HueAdjustmentYellow: 0
- LuminanceAdjustmentAqua: 0
- LuminanceAdjustmentBlue: -46
- LuminanceAdjustmentGreen: 0
- LuminanceAdjustmentMagenta: 0
- LuminanceAdjustmentOrange: +32
- LuminanceAdjustmentPurple: 0
- LuminanceAdjustmentRed: +48
- LuminanceAdjustmentYellow: +48
- LuminanceSmoothing: 86
- ParametricDarks: 0
- ParametricHighlightSplit: 75
- ParametricHighlights: 0
- ParametricLights: 0
- ParametricMidtoneSplit: 50
- ParametricShadowSplit: 25
- ParametricShadows: 0
- RedHue: 0
- RedSaturation: 0
- Saturation: 0
- SaturationAdjustmentAqua: 0
- SaturationAdjustmentBlue: -100
- SaturationAdjustmentGreen: 0
- SaturationAdjustmentMagenta: 0
- SaturationAdjustmentOrange: 0
- SaturationAdjustmentPurple: -11
- SaturationAdjustmentRed: 0
- SaturationAdjustmentYellow: 0
- ShadowTint: 0
- Shadows: 0
- Sharpness: 100
- SplitToningBalance: 0
- SplitToningHighlightHue: 0
- SplitToningHighlightSaturation: 0
- SplitToningShadowHue: 0
- SplitToningShadowSaturation: 0
- Temperature: 3059
- Tint: +16
- ToneCurve: 0, 0, 32, 22, 64, 56, 128, 128, 192, 196, 255, 255
- ToneCurveName: Medium Contrast
- Version: 1.0
- Vibrance: 0
- VignetteAmount: 0
- WhiteBalance: Custom
- XMP-dc
- Creator: unknown
- Format: image/jpeg
- XMP-exif
- ColorSpace: Unknown (-1)
- DateTimeDigitized: 2008:06:10 14:14:05+04:00
- DateTimeOriginal: 2008:06:10 14:14:05+04:00
- FlashFired: False
- FlashFunction: False
- FlashMode: Off
- FlashRedEyeMode: False
- FlashReturn: No return detection
- XMP-tiff
- ImageHeight: 2453
- ImageWidth: 1802
- XMP-xmp
- CreateDate: 2008:06:11 13:48:34+04:00
- ModifyDate: 2008:06:11 13:48:34+04:00
- XMP-xmpMM
- DerivedFrom:
Получить код для блога
| Вставка фотографии в текущем разрешении |
Вставка миниатюры |
HTML (для вставки в блог):
BBCode (для вставки в форум):
Ссылка на фото:
Ссылка на миниатюру:
- Послать ссылку другу
| Комментарии к фотографии |