- Раздел: Другое, разное
- Дата съёмки: 13.06.2008 21:09
- Дата загрузки фото: 15.06.2008 15:33
- Оригинальная фотография: 1280 x 880 (786 Кб)
- Технические характеристики:
- Фотоаппарат: Canon EOS 350D DIGITAL
- Выдержка: 1/160
- Гиперфокальное расстояние: 1,31 m
- Диафрагма: 11,0
- Светочувствительность: 200
- Фокусное расстояние: 10,0mm (35mm эквивалент: 43,4mm)
- Экспокоррекция: -2/3
- Полный EXIF
- Adobe
- ColorTransform: YCbCr
- Composite
- Aperture: 11,0
- CircleOfConfusion: 0,007 mm
- FocalLength35efl: 10,0mm (35mm equivalent: 43,4mm)
- HyperfocalDistance: 1,31 m
- LightValue: 13,2
- ScaleFactor35efl: 4,3
- ShutterSpeed: 1/160
- ExifIFD
- ApertureValue: 11,0
- ColorSpace: sRGB
- CreateDate: 2008:03:29 16:42:44
- CustomRendered: Normal
- DateTimeOriginal: 2008:03:29 16:42:44
- ExifImageLength: 880
- ExifImageWidth: 1280
- ExposureCompensation: -2/3
- ExposureMode: Auto
- ExposureProgram: Aperture-priority AE
- ExposureTime: 1/160
- FNumber: 11,0
- Flash: Off
- FocalLength: 10,0mm
- ISO: 200
- MaxApertureValue: 4,0
- MeteringMode: Multi-segment
- SceneCaptureType: Standard
- ShutterSpeedValue: 1/160
- WhiteBalance: Auto
- ICC-header
- ICC-meas
- ICC-view
- IFD0
- Artist: Yuras
- Make: Canon
- Model: Canon EOS 350D DIGITAL
- ModifyDate: 2008:06:15 14:32:44
- Orientation: Horizontal (normal)
- TimeZoneOffset: 2 2
- IFD1
- IPTC
- By-line: Yuras
- XMP-aux
- Firmware: 1.0.3
- FlashCompensation: 0
- ImageNumber: 176
- Lens: 10.0-20.0 mm
- LensInfo: 10/1 20/1 0/0 0/0
- OwnerName: Yuras
- SerialNumber: 230102161
- XMP-crs
- AlreadyApplied: True
- BlueHue: 0
- BlueSaturation: +19
- Brightness: +68
- CameraProfile: ACR 3.1
- ChromaticAberrationB: 0
- ChromaticAberrationR: 0
- ColorNoiseReduction: 30
- Contrast: +31
- ConvertToGrayscale: False
- Exposure: -0.15
- FillLight: 0
- GreenHue: -12
- GreenSaturation: +7
- HasCrop: False
- HasSettings: True
- HighlightRecovery: 0
- HueAdjustmentAqua: 0
- HueAdjustmentBlue: 0
- HueAdjustmentGreen: 0
- HueAdjustmentMagenta: 0
- HueAdjustmentOrange: 0
- HueAdjustmentPurple: 0
- HueAdjustmentRed: 0
- HueAdjustmentYellow: +22
- LuminanceAdjustmentAqua: 0
- LuminanceAdjustmentBlue: 0
- LuminanceAdjustmentGreen: 0
- LuminanceAdjustmentMagenta: 0
- LuminanceAdjustmentOrange: 0
- LuminanceAdjustmentPurple: 0
- LuminanceAdjustmentRed: 0
- LuminanceAdjustmentYellow: 0
- LuminanceSmoothing: 0
- ParametricDarks: 0
- ParametricHighlightSplit: 75
- ParametricHighlights: 0
- ParametricLights: 0
- ParametricMidtoneSplit: 50
- ParametricShadowSplit: 25
- ParametricShadows: 0
- RawFileName: IMG_5808.CR2
- RedHue: -20
- RedSaturation: +12
- Saturation: +20
- SaturationAdjustmentAqua: 0
- SaturationAdjustmentBlue: 0
- SaturationAdjustmentGreen: 0
- SaturationAdjustmentMagenta: 0
- SaturationAdjustmentOrange: 0
- SaturationAdjustmentPurple: 0
- SaturationAdjustmentRed: 0
- SaturationAdjustmentYellow: 0
- ShadowTint: 0
- Shadows: 4
- Sharpness: 0
- SplitToningBalance: 0
- SplitToningHighlightHue: 0
- SplitToningHighlightSaturation: 0
- SplitToningShadowHue: 0
- SplitToningShadowSaturation: 0
- Temperature: 5450
- Tint: +2
- ToneCurve: 0, 0, 32, 16, 64, 50, 128, 128, 192, 202, 255, 255
- ToneCurveName: Strong Contrast
- Version: 3.7
- Vibrance: 0
- VignetteAmount: 0
- WhiteBalance: As Shot
- XMP-dc
- Creator: Yuras
- Format: image/jpeg
- XMP-exif
- DateTimeDigitized: 2008:03:29 16:42:44+02:00
- DateTimeOriginal: 2008:03:29 16:42:44+02:00
- FlashFired: False
- FlashFunction: False
- FlashMode: Off
- FlashRedEyeMode: False
- FlashReturn: No return detection
- XMP-tiff
- XMP-xmp
- CreateDate: 2008:06:13 21:09:53+03:00
- ModifyDate: 2008:06:15 14:32:44+03:00
- Rating: 0
- XMP-xmpMM