Уважаемые друзья и участники проекта iXBT.photo! К сожалению, 1 марта 2026 года проект iXBT.photo прекратит свою работу и будет закрыт. Мы высоко ценим ваше участие и тот вклад, который вы внесли в развитие нашего сообщества. Пожалуйста, не забудьте сохранить ваши фотографии до этой даты.
С уважением, команда iXBT.com
| DSCF6194.jpg |
DSCF6194.jpg
- Раздел: Другое, разное
- Дата съёмки: 16.06.2008 23:20
- Дата загрузки фото: 20.06.2008 11:01
- Оригинальная фотография: 1000 x 750 (133 Кб)
- Технические характеристики:
- Фотоаппарат: FujiFilm FinePix S9100
- Выдержка: 1/280
- Гиперфокальное расстояние: 6,06 m
- Диафрагма: 6,4
- Светочувствительность: 200
- Фокусное расстояние: 12,8mm (35mm эквивалент: 91,1mm)
- Полный EXIF
- Adobe
- ColorTransform: YCbCr
- Composite
- Aperture: 6,4
- CircleOfConfusion: 0,004 mm
- FocalLength35efl: 12,8mm (35mm equivalent: 91,1mm)
- HyperfocalDistance: 6,06 m
- LightValue: 12,5
- ScaleFactor35efl: 7,1
- ShutterSpeed: 1/280
- ExifIFD
- ApertureValue: 6,4
- BrightnessValue: 7,47
- ColorSpace: sRGB
- Contrast: Normal
- CreateDate: 2008:06:15 14:02:30
- CustomRendered: Normal
- DateTimeOriginal: 2008:06:15 14:02:30
- ExifImageLength: 750
- ExifImageWidth: 1000
- ExposureCompensation: 0
- ExposureMode: Auto
- ExposureProgram: Aperture-priority AE
- ExposureTime: 1/280
- FNumber: 6,4
- Flash: Off
- FocalLength: 12,8mm
- ISO: 200
- LightSource: Unknown (0)
- MaxApertureValue: 2,8
- MeteringMode: Multi-segment
- Saturation: Normal
- SceneCaptureType: Standard
- SceneType: Directly photographed
- SensingMethod: One-chip color area
- Sharpness: Normal
- ShutterSpeedValue: 1/280
- SubjectDistanceRange: Macro
- WhiteBalance: Auto
- ICC-header
- ICC-meas
- ICC-view
- IFD0
- Make: FUJIFILM
- Model: FinePix S9100
- ModifyDate: 2008:06:20 11:17:00
- Orientation: Horizontal (normal)
- TimeZoneOffset: 4 4
- IFD1
- IPTC
- Keywords: nature, plant, tree, grow, foliage, green, sun, berry, cherries, sweet, delicious, tasty, color, yellow, afternoon, summer, orchard, gather, take, eat, fresh
- XMP-crs
- AlreadyApplied: True
- BlueHue: 0
- BlueSaturation: 0
- Brightness: +50
- CameraProfile: ACR 3.6
- ChromaticAberrationB: +42
- ChromaticAberrationR: 0
- ColorNoiseReduction: 0
- Contrast: +33
- ConvertToGrayscale: False
- Exposure: +0.50
- FillLight: 7
- GreenHue: 0
- GreenSaturation: 0
- HasCrop: False
- HasSettings: True
- HighlightRecovery: 13
- HueAdjustmentAqua: 0
- HueAdjustmentBlue: 0
- HueAdjustmentGreen: 0
- HueAdjustmentMagenta: 0
- HueAdjustmentOrange: 0
- HueAdjustmentPurple: 0
- HueAdjustmentRed: 0
- HueAdjustmentYellow: 0
- LuminanceAdjustmentAqua: 0
- LuminanceAdjustmentBlue: 0
- LuminanceAdjustmentGreen: 0
- LuminanceAdjustmentMagenta: 0
- LuminanceAdjustmentOrange: 0
- LuminanceAdjustmentPurple: 0
- LuminanceAdjustmentRed: 0
- LuminanceAdjustmentYellow: 0
- LuminanceSmoothing: 0
- ParametricDarks: 0
- ParametricHighlightSplit: 75
- ParametricHighlights: 0
- ParametricLights: 0
- ParametricMidtoneSplit: 50
- ParametricShadowSplit: 25
- ParametricShadows: 0
- RawFileName: DSCF6194.RAF
- RedHue: 0
- RedSaturation: 0
- Saturation: 0
- SaturationAdjustmentAqua: 0
- SaturationAdjustmentBlue: 0
- SaturationAdjustmentGreen: 0
- SaturationAdjustmentMagenta: 0
- SaturationAdjustmentOrange: 0
- SaturationAdjustmentPurple: 0
- SaturationAdjustmentRed: 0
- SaturationAdjustmentYellow: 0
- ShadowTint: 0
- Shadows: 0
- Sharpness: 0
- SplitToningBalance: 0
- SplitToningHighlightHue: 0
- SplitToningHighlightSaturation: 0
- SplitToningShadowHue: 0
- SplitToningShadowSaturation: 0
- Temperature: 4700
- Tint: +2
- ToneCurve: 0, 0, 32, 22, 64, 56, 128, 128, 192, 196, 255, 255
- ToneCurveName: Medium Contrast
- Version: 4.0
- Vibrance: 0
- VignetteAmount: 0
- WhiteBalance: As Shot
- XMP-dc
- Format: image/jpeg
- Subject: nature, plant, tree, grow, foliage, green, sun, berry, cherries, sweet, delicious, tasty, color, yellow, afternoon, summer, orchard, gather, take, eat, fresh
- XMP-exif
- DateTimeDigitized: 2008:06:15 14:02:30+04:00
- DateTimeOriginal: 2008:06:15 14:02:30+04:00
- FlashFired: False
- FlashFunction: False
- FlashMode: Off
- FlashRedEyeMode: False
- FlashReturn: No return detection
- XMP-tiff
- XMP-xmp
- CreateDate: 2008:06:16 23:20:47+04:00
- ModifyDate: 2008:06:20 11:17:00+05:00
- Rating: 0
- XMP-xmpMM
- DerivedFrom:
- Просмотров: 524
- Рейтинг: голосов еще нет
- Отзывов: 0
Получить код для блога
| Вставка фотографии в текущем разрешении |
Вставка миниатюры |
HTML (для вставки в блог):
BBCode (для вставки в форум):
Ссылка на фото:
Ссылка на миниатюру:
- Послать ссылку другу
| Комментарии к фотографии |