- Раздел: Портрет
- Дата съёмки: 15.02.2008 00:51
- Дата загрузки фото: 03.07.2008 12:43
- Оригинальная фотография: 2912 x 4368 (7,2 Мб)
- Технические характеристики:
- Фотоаппарат: Canon EOS 5D
- Выдержка: 1/160
- Гиперфокальное расстояние: 10,43 m
- Диафрагма: 8,0
- Светочувствительность: 100
- Фокусное расстояние: 50,0mm (35mm эквивалент: 50,1mm)
- Полный EXIF
- Adobe
- ColorTransform: YCbCr
- Composite
- Aperture: 8,0
- CircleOfConfusion: 0,030 mm
- FocalLength35efl: 50,0mm (35mm equivalent: 50,1mm)
- HyperfocalDistance: 10,43 m
- LightValue: 13,3
- ScaleFactor35efl: 1,0
- ShutterSpeed: 1/160
- ExifIFD
- ApertureValue: 8,0
- ColorSpace: Uncalibrated
- CreateDate: 2008:02:14 22:27:30
- CustomRendered: Normal
- DateTimeOriginal: 2008:02:14 22:27:30
- ExifImageLength: 4368
- ExifImageWidth: 2912
- ExposureCompensation: 0
- ExposureMode: Manual
- ExposureProgram: Manual
- ExposureTime: 1/160
- FNumber: 8,0
- Flash: Off
- FocalLength: 50,0mm
- ISO: 100
- MaxApertureValue: 1,4
- MeteringMode: Multi-segment
- SceneCaptureType: Standard
- ShutterSpeedValue: 1/160
- WhiteBalance: Auto
- ICC-header
- IFD0
- Make: Canon
- Model: Canon EOS 5D
- ModifyDate: 2008:02:15 00:51:52
- Orientation: Horizontal (normal)
- TimeZoneOffset: 2 2
- IFD1
- IPTC
- XMP-aux
- Firmware: 1.1.0
- FlashCompensation: 0
- ImageNumber: 9
- Lens: EF50mm f/1.4 USM
- LensInfo: 50/1 50/1 0/0 0/0
- SerialNumber: 2031203701
- XMP-crs
- AlreadyApplied: True
- BlueHue: -23
- BlueSaturation: -3
- Brightness: +58
- CameraProfile: ACR 3.3
- ChromaticAberrationB: 0
- ChromaticAberrationR: 0
- ColorNoiseReduction: 25
- Contrast: +31
- ConvertToGrayscale: False
- Exposure: +0.15
- FillLight: 11
- GreenHue: 0
- GreenSaturation: -7
- HasCrop: False
- HasSettings: True
- HighlightRecovery: 15
- HueAdjustmentAqua: 0
- HueAdjustmentBlue: -18
- HueAdjustmentGreen: 0
- HueAdjustmentMagenta: 0
- HueAdjustmentOrange: 0
- HueAdjustmentPurple: 0
- HueAdjustmentRed: 0
- HueAdjustmentYellow: 0
- LuminanceAdjustmentAqua: 0
- LuminanceAdjustmentBlue: +100
- LuminanceAdjustmentGreen: 0
- LuminanceAdjustmentMagenta: 0
- LuminanceAdjustmentOrange: +10
- LuminanceAdjustmentPurple: 0
- LuminanceAdjustmentRed: 0
- LuminanceAdjustmentYellow: -24
- LuminanceSmoothing: 0
- ParametricDarks: 0
- ParametricHighlightSplit: 75
- ParametricHighlights: 0
- ParametricLights: 0
- ParametricMidtoneSplit: 50
- ParametricShadowSplit: 25
- ParametricShadows: 0
- RawFileName: _MG_0392.CR2
- RedHue: +15
- RedSaturation: -33
- Saturation: 0
- SaturationAdjustmentAqua: -4
- SaturationAdjustmentBlue: -68
- SaturationAdjustmentGreen: 0
- SaturationAdjustmentMagenta: 0
- SaturationAdjustmentOrange: 0
- SaturationAdjustmentPurple: 0
- SaturationAdjustmentRed: +35
- SaturationAdjustmentYellow: 0
- ShadowTint: -15
- Shadows: 9
- Sharpness: 25
- SplitToningBalance: 0
- SplitToningHighlightHue: 0
- SplitToningHighlightSaturation: 0
- SplitToningShadowHue: 0
- SplitToningShadowSaturation: 0
- Temperature: 4750
- Tint: -20
- ToneCurve: 0, 0, 32, 22, 64, 56, 128, 128, 192, 196, 255, 255
- ToneCurveName: Medium Contrast
- Version: 4.0
- Vibrance: 0
- VignetteAmount: 0
- WhiteBalance: Custom
- XMP-dc
- XMP-exif
- ColorSpace: Unknown (-1)
- DateTimeDigitized: 2008:02:14 22:27:30+02:00
- DateTimeOriginal: 2008:02:14 22:27:30+02:00
- FlashFired: False
- FlashFunction: False
- FlashMode: Off
- FlashRedEyeMode: False
- FlashReturn: No return detection
- XMP-tiff
- XMP-xmp
- CreateDate: 2008:02:15 00:51:52+02:00
- ModifyDate: 2008:02:15 00:51:52+02:00
- Rating: 0
- XMP-xmpMM
- DerivedFrom:
- Просмотров: 479
- Рейтинг: голосов еще нет
- Отзывов: 0