- Раздел: Другое, разное
- Дата съёмки: 29.06.2008 12:17
- Дата загрузки фото: 06.07.2008 13:16
- Оригинальная фотография: 2592 x 3888 (977 Кб)
- Технические характеристики:
- Фотоаппарат: Canon EOS 400D DIGITAL
- Выдержка: 1/750
- Гиперфокальное расстояние: 67,45 m
- Диафрагма: 2,0
- Светочувствительность: 100
- Фокусное расстояние: 50,0mm (35mm эквивалент: 81,1mm)
- Экспокоррекция: +1/2
- Полный EXIF
- Adobe
- ColorTransform: YCbCr
- Composite
- Aperture: 2,0
- CircleOfConfusion: 0,019 mm
- FocalLength35efl: 50,0mm (35mm equivalent: 81,1mm)
- HyperfocalDistance: 67,45 m
- LightValue: 11,6
- ScaleFactor35efl: 1,6
- ShutterSpeed: 1/750
- ExifIFD
- ApertureValue: 2,0
- CreateDate: 2008:06:29 12:17:55
- CustomRendered: Normal
- DateTimeOriginal: 2008:06:29 12:17:55
- ExposureCompensation: +1/2
- ExposureMode: Auto
- ExposureProgram: Aperture-priority AE
- ExposureTime: 1/750
- FNumber: 2,0
- Flash: Off
- FocalLength: 50,0mm
- ISO: 100
- MaxApertureValue: 1,4
- MeteringMode: Average
- SceneCaptureType: Standard
- ShutterSpeedValue: 1/750
- WhiteBalance: Auto
- ICC-header
- ICC-meas
- ICC-view
- IFD0
- Artist: Alex Konstantin
- Make: Canon
- Model: Canon EOS 400D DIGITAL
- ModifyDate: 2008:07:03 23:43:07
- IPTC
- By-line: Alex Konstantin
- XMP-aux
- Firmware: 1.1.1
- FlashCompensation: 0
- ImageNumber: 64
- Lens: EF50mm f/1.4 USM
- LensInfo: 50/1 50/1 0/0 0/0
- OwnerName: Alex Konstantin
- SerialNumber: 1180612121
- XMP-crs
- AlreadyApplied: True
- BlueHue: 0
- BlueSaturation: 0
- Brightness: +18
- CameraProfile: ACR 3.6
- ChromaticAberrationB: 0
- ChromaticAberrationR: 0
- Clarity: 0
- ColorNoiseReduction: 25
- Contrast: +80
- ConvertToGrayscale: False
- Defringe: 0
- Exposure: +0.60
- FillLight: 0
- GreenHue: 0
- GreenSaturation: 0
- HasCrop: False
- HasSettings: True
- HighlightRecovery: 0
- HueAdjustmentAqua: 0
- HueAdjustmentBlue: 0
- HueAdjustmentGreen: 0
- HueAdjustmentMagenta: 0
- HueAdjustmentOrange: +4
- HueAdjustmentPurple: -14
- HueAdjustmentRed: +19
- HueAdjustmentYellow: -11
- LuminanceAdjustmentAqua: 0
- LuminanceAdjustmentBlue: 0
- LuminanceAdjustmentGreen: 0
- LuminanceAdjustmentMagenta: 0
- LuminanceAdjustmentOrange: +9
- LuminanceAdjustmentPurple: 0
- LuminanceAdjustmentRed: +11
- LuminanceAdjustmentYellow: +6
- LuminanceSmoothing: 0
- ParametricDarks: -30
- ParametricHighlightSplit: 87
- ParametricHighlights: 0
- ParametricLights: 0
- ParametricMidtoneSplit: 77
- ParametricShadowSplit: 25
- ParametricShadows: +100
- RedHue: 0
- RedSaturation: 0
- Saturation: 0
- SaturationAdjustmentAqua: 0
- SaturationAdjustmentBlue: +57
- SaturationAdjustmentGreen: 0
- SaturationAdjustmentMagenta: 0
- SaturationAdjustmentOrange: -11
- SaturationAdjustmentPurple: 0
- SaturationAdjustmentRed: -11
- SaturationAdjustmentYellow: -6
- ShadowTint: 0
- Shadows: 10
- SharpenDetail: 25
- SharpenEdgeMasking: 0
- SharpenRadius: +1.0
- Sharpness: 25
- SplitToningBalance: 0
- SplitToningHighlightHue: 0
- SplitToningHighlightSaturation: 0
- SplitToningShadowHue: 0
- SplitToningShadowSaturation: 0
- Temperature: 4850
- Tint: +30
- ToneCurve: 0, 0, 255, 255
- ToneCurveName: Linear
- Version: 1.0
- Vibrance: 0
- VignetteAmount: -100
- VignetteMidpoint: 56
- XMP-dc
- XMP-exif
- DateTimeDigitized: 2008:06:29 12:17:55+04:00
- DateTimeOriginal: 2008:06:29 12:17:55+04:00
- FlashFired: False
- FlashFunction: False
- FlashMode: Off
- FlashRedEyeMode: False
- FlashReturn: No return detection
- XMP-tiff
- ImageHeight: 3888
- ImageWidth: 2592
- XMP-xmp
- ModifyDate: 2008:07:03 23:43:07+04:00
- Просмотров: 301
- Рейтинг: голосов еще нет
- Отзывов: 0