- Раздел: Тесты фототехники
- Дата съёмки: 06.07.2008 23:41
- Дата загрузки фото: 09.07.2008 18:08
- Оригинальная фотография: 1280 x 850 (466 Кб)
- Технические характеристики:
- Фотоаппарат: Nikon D300
- Выдержка: 1/200
- Гиперфокальное расстояние: 5,05 m
- Диафрагма: 2,8
- Светочувствительность: 800
- Фокусное расстояние: 17,0mm (35mm эквивалент: 25,0mm)
- Полный EXIF
- Adobe
- ColorTransform: YCbCr
- Composite
- Aperture: 2,8
- CircleOfConfusion: 0,020 mm
- FocalLength35efl: 17,0mm (35mm equivalent: 25,0mm)
- HyperfocalDistance: 5,05 m
- LightValue: 7,6
- ScaleFactor35efl: 1,5
- ShutterSpeed: 1/200
- ExifIFD
- ApertureValue: 2,8
- CFAPattern: [Red,Green][Green,Blue]
- Contrast: Normal
- CreateDate: 2008:07:06 23:41:29
- CustomRendered: Custom
- DateTimeOriginal: 2008:07:06 23:41:29
- DigitalZoomRatio: 1
- ExposureCompensation: 0
- ExposureMode: Manual
- ExposureProgram: Manual
- ExposureTime: 1/200
- FNumber: 2,8
- Flash: No Flash
- FocalLength: 17,0mm
- FocalLengthIn35mmFormat: 25mm
- GainControl: Low gain up
- ISO: 800
- LightSource: Unknown (0)
- MaxApertureValue: 2,8
- MeteringMode: Center-weighted average
- Saturation: Normal
- SceneCaptureType: Standard
- SceneType: Directly photographed
- SensingMethod: One-chip color area
- Sharpness: Normal
- ShutterSpeedValue: 1/200
- UserComment: Denis Belogurov denisn@e1.ru
- WhiteBalance: Auto
- ICC-header
- ICC-meas
- ICC-view
- IFD0
- Make: NIKON CORPORATION
- Model: NIKON D300
- ModifyDate: 2008:07:09 20:04:00
- Software: Ver.1.00
- XMP-aux
- ImageNumber: 2270
- Lens: 17.0-55.0 mm f/2.8
- LensInfo: 170/10 550/10 28/10 28/10
- XMP-crs
- AlreadyApplied: True
- BlueHue: 0
- BlueSaturation: +63
- Brightness: +57
- CameraProfile: ACR 2.4
- ChromaticAberrationB: 0
- ChromaticAberrationR: 0
- Clarity: 0
- ColorNoiseReduction: 25
- Contrast: 0
- ConvertToGrayscale: True
- Defringe: 0
- Exposure: +0.70
- FillLight: 0
- GrayMixerAqua: -20
- GrayMixerBlue: +9
- GrayMixerGreen: -27
- GrayMixerMagenta: +7
- GrayMixerOrange: -17
- GrayMixerPurple: +17
- GrayMixerRed: -7
- GrayMixerYellow: -22
- GreenHue: 0
- GreenSaturation: 0
- HasCrop: False
- HasSettings: True
- HighlightRecovery: 0
- LuminanceSmoothing: 0
- ParametricDarks: -2
- ParametricHighlightSplit: 75
- ParametricHighlights: 0
- ParametricLights: +2
- ParametricMidtoneSplit: 50
- ParametricShadowSplit: 25
- ParametricShadows: -20
- RedHue: 0
- RedSaturation: -34
- ShadowTint: 0
- Shadows: 8
- SharpenDetail: 25
- SharpenEdgeMasking: 0
- SharpenRadius: +1.0
- Sharpness: 25
- SplitToningBalance: 0
- SplitToningHighlightHue: 50
- SplitToningHighlightSaturation: 66
- SplitToningShadowHue: 30
- SplitToningShadowSaturation: 28
- Temperature: 6800
- Tint: +63
- ToneCurve: 0, 0, 255, 255
- ToneCurveName: Linear
- Version: 4.4.1
- VignetteAmount: -41
- VignetteMidpoint: 48
- WhiteBalance: Custom
- XMP-exif
- DateTimeDigitized: 2008:07:06 23:41:29.25+06:00
- DateTimeOriginal: 2008:07:06 23:41:29.25+06:00
- FlashFired: False
- FlashFunction: False
- FlashMode: Unknown
- FlashRedEyeMode: False
- FlashReturn: No return detection
- FocalLengthIn35mmFormat: 25
- SubjectDistanceRange: Unknown
- XMP-tiff
- ImageHeight: 850
- ImageWidth: 1280
- XMP-xmp
- ModifyDate: 2008:07:09 20:04:00+06:00