- Раздел: Друзья, встречи
- Дата съёмки: 12.07.2008 18:12
- Дата загрузки фото: 13.07.2008 03:13
- Оригинальная фотография: 3743 x 2506 (4,0 Мб)
- Технические характеристики:
- Фотоаппарат: Nikon D80
- Выдержка: 1/25
- Гиперфокальное расстояние: 94,75 m
- Диафрагма: 18,0
- Светочувствительность: 250
- Фокусное расстояние: 185,0mm (35mm эквивалент: 277,0mm)
- Экспокоррекция: +3
- Полный EXIF
- Adobe
- ColorTransform: YCbCr
- Composite
- Aperture: 18,0
- CircleOfConfusion: 0,020 mm
- FocalLength35efl: 185,0mm (35mm equivalent: 277,0mm)
- HyperfocalDistance: 94,75 m
- LightValue: 11,7
- ScaleFactor35efl: 1,5
- ShutterSpeed: 1/25
- ExifIFD
- ApertureValue: 18,0
- CFAPattern: [Green,Blue][Red,Green]
- Contrast: Low
- CreateDate: 2008:07:12 18:12:39
- CustomRendered: Normal
- DateTimeOriginal: 2008:07:12 18:12:39
- DigitalZoomRatio: 1
- ExposureCompensation: +3
- ExposureMode: Manual
- ExposureProgram: Manual
- ExposureTime: 1/25
- FNumber: 18,0
- Flash: No Flash
- FocalLength: 185,0mm
- FocalLengthIn35mmFormat: 277mm
- GainControl: None
- ISO: 250
- LightSource: Unknown (0)
- MaxApertureValue: 3,5
- MeteringMode: Multi-segment
- Saturation: Normal
- SceneCaptureType: Standard
- SceneType: Directly photographed
- SensingMethod: One-chip color area
- Sharpness: Normal
- ShutterSpeedValue: 1/25
- UserComment: Tsemenko Ilya ilya@topmods.net 80508
- WhiteBalance: Auto
- ICC-header
- ICC-meas
- ICC-view
- IFD0
- Make: NIKON CORPORATION
- Model: NIKON D80
- ModifyDate: 2008:07:13 00:37:45
- Software: Ver.1.10
- XMP-aux
- ImageNumber: 8986
- Lens: 185.0 mm f/3.5
- LensInfo: 1850/10 1850/10 35/10 35/10
- XMP-crs
- AlreadyApplied: True
- BlueHue: 0
- BlueSaturation: 0
- Brightness: +35
- CameraProfile: ACR 3.6
- ChromaticAberrationB: 0
- ChromaticAberrationR: 0
- Clarity: 100
- ColorNoiseReduction: 25
- Contrast: +36
- ConvertToGrayscale: False
- CropAngle: -1.337194
- CropBottom: 0.966305
- CropHeight: 2506
- CropLeft: 0.009298
- CropRight: 0.990702
- CropTop: 0.033695
- CropUnit: 0
- CropWidth: 3743
- Defringe: 0
- Exposure: +2.38
- FillLight: 0
- GreenHue: 0
- GreenSaturation: 0
- HasCrop: True
- HasSettings: True
- HighlightRecovery: 27
- HueAdjustmentAqua: 0
- HueAdjustmentBlue: 0
- HueAdjustmentGreen: 0
- HueAdjustmentMagenta: 0
- HueAdjustmentOrange: 0
- HueAdjustmentPurple: 0
- HueAdjustmentRed: 0
- HueAdjustmentYellow: 0
- LuminanceAdjustmentAqua: 0
- LuminanceAdjustmentBlue: 0
- LuminanceAdjustmentGreen: 0
- LuminanceAdjustmentMagenta: 0
- LuminanceAdjustmentOrange: 0
- LuminanceAdjustmentPurple: 0
- LuminanceAdjustmentRed: 0
- LuminanceAdjustmentYellow: 0
- LuminanceSmoothing: 0
- ParametricDarks: 0
- ParametricHighlightSplit: 75
- ParametricHighlights: 0
- ParametricLights: 0
- ParametricMidtoneSplit: 50
- ParametricShadowSplit: 25
- ParametricShadows: 0
- RedHue: 0
- RedSaturation: 0
- Saturation: 0
- SaturationAdjustmentAqua: 0
- SaturationAdjustmentBlue: 0
- SaturationAdjustmentGreen: 0
- SaturationAdjustmentMagenta: 0
- SaturationAdjustmentOrange: 0
- SaturationAdjustmentPurple: 0
- SaturationAdjustmentRed: 0
- SaturationAdjustmentYellow: 0
- ShadowTint: 0
- Shadows: 7
- SharpenDetail: 25
- SharpenEdgeMasking: 0
- SharpenRadius: +1.0
- Sharpness: 25
- SplitToningBalance: 0
- SplitToningHighlightHue: 0
- SplitToningHighlightSaturation: 0
- SplitToningShadowHue: 0
- SplitToningShadowSaturation: 0
- Temperature: 7500
- Tint: +11
- ToneCurve: 0, 0, 32, 22, 64, 56, 128, 128, 192, 196, 255, 255
- ToneCurveName: Medium Contrast
- Version: 1.0
- Vibrance: 0
- VignetteAmount: 0
- XMP-exif
- DateTimeDigitized: 2008:07:12 18:12:39.60+03:00
- DateTimeOriginal: 2008:07:12 18:12:39.60+03:00
- FlashFired: False
- FlashFunction: False
- FlashMode: Unknown
- FlashRedEyeMode: False
- FlashReturn: No return detection
- FocalLengthIn35mmFormat: 277
- SubjectDistanceRange: Unknown
- XMP-tiff
- ImageHeight: 2506
- ImageWidth: 3743
- XMP-xmp
- ModifyDate: 2008:07:13 00:37:45+03:00
- Просмотров: 255
- Рейтинг: голосов еще нет
- Отзывов: 0