Павловский парк, под Санкт-Петербургом-2
- Раздел: Природа
- Дата съёмки: 22.06.2008 03:36
- Дата загрузки фото: 20.07.2008 00:37
- Оригинальная фотография: 3644 x 2592 (4,3 Мб)
- Технические характеристики:
- Фотоаппарат: Nikon D80
- Выдержка: 1/100
- Гиперфокальное расстояние: 1,82 m
- Диафрагма: 11,0
- Светочувствительность: 100
- Фокусное расстояние: 20,0mm (35mm эквивалент: 30,0mm)
- Экспокоррекция: +1/3
- Полный EXIF
- Adobe
- ColorTransform: YCbCr
- Composite
- Aperture: 11,0
- CircleOfConfusion: 0,020 mm
- FocalLength35efl: 20,0mm (35mm equivalent: 30,0mm)
- HyperfocalDistance: 1,82 m
- LightValue: 13,6
- ScaleFactor35efl: 1,5
- ShutterSpeed: 1/100
- ExifIFD
- ApertureValue: 11,0
- CFAPattern: [Green,Blue][Red,Green]
- ColorSpace: Uncalibrated
- Contrast: Normal
- CreateDate: 2008:06:22 19:00:34
- CustomRendered: Normal
- DateTimeOriginal: 2008:06:22 19:00:34
- DigitalZoomRatio: 1
- ExifImageLength: 2592
- ExifImageWidth: 3644
- ExposureCompensation: +1/3
- ExposureMode: Auto
- ExposureProgram: Aperture-priority AE
- ExposureTime: 1/100
- FNumber: 11,0
- Flash: No Flash
- FocalLength: 20,0mm
- FocalLengthIn35mmFormat: 30mm
- GainControl: None
- ISO: 100
- LightSource: Unknown (0)
- MaxApertureValue: 3,6
- MeteringMode: Multi-segment
- Saturation: High
- SceneCaptureType: Standard
- SceneType: Directly photographed
- SensingMethod: One-chip color area
- Sharpness: Hard
- ShutterSpeedValue: 1/100
- WhiteBalance: Auto
- ICC-header
- IFD0
- Make: NIKON CORPORATION
- Model: NIKON D80
- ModifyDate: 2008:06:22 03:36:09
- Orientation: Horizontal (normal)
- IFD1
- IPTC
- XMP-aux
- ImageNumber: 1385
- Lens: 18.0-135.0 mm f/3.5-5.6
- LensInfo: 180/10 1350/10 35/10 56/10
- XMP-crs
- AlreadyApplied: True
- BlueHue: 0
- BlueSaturation: 0
- Brightness: +50
- CameraProfile: ACR 3.6
- ChromaticAberrationB: 0
- ChromaticAberrationR: 0
- Clarity: 0
- ColorNoiseReduction: 25
- Contrast: +25
- ConvertToGrayscale: False
- Defringe: 0
- Exposure: +0.33
- FillLight: 0
- GreenHue: 0
- GreenSaturation: 0
- HasCrop: False
- HasSettings: True
- HighlightRecovery: 0
- HueAdjustmentAqua: 0
- HueAdjustmentBlue: 0
- HueAdjustmentGreen: 0
- HueAdjustmentMagenta: 0
- HueAdjustmentOrange: 0
- HueAdjustmentPurple: 0
- HueAdjustmentRed: 0
- HueAdjustmentYellow: 0
- LuminanceAdjustmentAqua: 0
- LuminanceAdjustmentBlue: 0
- LuminanceAdjustmentGreen: 0
- LuminanceAdjustmentMagenta: 0
- LuminanceAdjustmentOrange: 0
- LuminanceAdjustmentPurple: 0
- LuminanceAdjustmentRed: 0
- LuminanceAdjustmentYellow: 0
- LuminanceSmoothing: 0
- ParametricDarks: 0
- ParametricHighlightSplit: 75
- ParametricHighlights: 0
- ParametricLights: 0
- ParametricMidtoneSplit: 50
- ParametricShadowSplit: 25
- ParametricShadows: 0
- RawFileName: АЕМ20080622_190034.NEF
- RedHue: 0
- RedSaturation: 0
- Saturation: +28
- SaturationAdjustmentAqua: 0
- SaturationAdjustmentBlue: 0
- SaturationAdjustmentGreen: 0
- SaturationAdjustmentMagenta: 0
- SaturationAdjustmentOrange: 0
- SaturationAdjustmentPurple: 0
- SaturationAdjustmentRed: 0
- SaturationAdjustmentYellow: 0
- ShadowTint: 0
- Shadows: 5
- SharpenDetail: 42
- SharpenEdgeMasking: 0
- SharpenRadius: +1.0
- Sharpness: 58
- SplitToningBalance: 0
- SplitToningHighlightHue: 0
- SplitToningHighlightSaturation: 0
- SplitToningShadowHue: 0
- SplitToningShadowSaturation: 0
- Temperature: 5350
- Tint: 0
- ToneCurve: 0, 0, 32, 22, 64, 56, 128, 128, 192, 196, 255, 255
- ToneCurveName: Medium Contrast
- Version: 4.3.1
- Vibrance: +32
- VignetteAmount: 0
- WhiteBalance: As Shot
- XMP-dc
- XMP-exif
- ColorSpace: Unknown (-1)
- DateTimeDigitized: 2008:06:22 19:00:34.00+07:00
- DateTimeOriginal: 2008:06:22 19:00:34.00+07:00
- FlashFired: False
- FlashFunction: False
- FlashMode: Unknown
- FlashRedEyeMode: False
- FlashReturn: No return detection
- FocalLengthIn35mmFormat: 30
- SubjectDistanceRange: Unknown
- XMP-tiff
- XMP-xmp
- CreateDate: 2008:06:22 03:36:09+07:00
- ModifyDate: 2008:06:22 03:36:09+07:00
- Rating: 0
- XMP-xmpMM
- DerivedFrom:
Получить код для блога
Вставка фотографии в текущем разрешении |
Вставка миниатюры |
HTML (для вставки в блог):
BBCode (для вставки в форум):
Ссылка на фото:
Ссылка на миниатюру:
- Послать ссылку другу
Комментарии к фотографии |