- Раздел: Другое, разное
- Дата съёмки: 29.06.2008 15:56
- Дата загрузки фото: 21.07.2008 02:24
- Оригинальная фотография: 1200 x 800 (637 Кб)
- Технические характеристики:
- Фотоаппарат: Canon EOS 450D
- Выдержка: 1/1600
- Гиперфокальное расстояние: 76,56 m
- Диафрагма: 4,0
- Светочувствительность: 100
- Фокусное расстояние: 40,0mm (35mm эквивалент: 230,0mm)
- Полный EXIF
- Adobe
- ColorTransform: YCbCr
- Composite
- Aperture: 4,0
- CircleOfConfusion: 0,005 mm
- FocalLength35efl: 40,0mm (35mm equivalent: 230,0mm)
- HyperfocalDistance: 76,56 m
- LightValue: 14,6
- ScaleFactor35efl: 5,8
- ShutterSpeed: 1/1600
- ExifIFD
- ApertureValue: 4,0
- ColorSpace: sRGB
- CreateDate: 2008:06:29 15:56:52
- CustomRendered: Normal
- DateTimeOriginal: 2008:06:29 15:56:52
- ExifImageLength: 800
- ExifImageWidth: 1200
- ExposureCompensation: 0
- ExposureMode: Auto
- ExposureProgram: Aperture-priority AE
- ExposureTime: 1/1600
- FNumber: 4,0
- Flash: Off
- FocalLength: 40,0mm
- ISO: 100
- MaxApertureValue: 4,0
- MeteringMode: Multi-segment
- SceneCaptureType: Standard
- ShutterSpeedValue: 1/1600
- WhiteBalance: Auto
- ICC-header
- ICC-meas
- ICC-view
- IFD0
- Make: Canon
- Model: Canon EOS 450D
- ModifyDate: 2008:07:20 20:14:24
- Orientation: Horizontal (normal)
- IFD1
- IPTC
- XMP-aux
- Firmware: 1.0.4
- FlashCompensation: 0
- ImageNumber: 0
- Lens: EF17-40mm f/4L USM
- LensInfo: 17/1 40/1 0/0 0/0
- SerialNumber: 430132069
- XMP-crs
- AlreadyApplied: True
- BlueHue: 0
- BlueSaturation: 0
- Brightness: +44
- CameraProfile: ACR 4.4
- ChromaticAberrationB: 0
- ChromaticAberrationR: 0
- Clarity: 75
- ColorNoiseReduction: 25
- Contrast: +86
- ConvertToGrayscale: False
- Defringe: 0
- Exposure: +0.85
- FillLight: 0
- GreenHue: 0
- GreenSaturation: 0
- HasCrop: False
- HasSettings: True
- HighlightRecovery: 0
- HueAdjustmentAqua: 0
- HueAdjustmentBlue: 0
- HueAdjustmentGreen: 0
- HueAdjustmentMagenta: 0
- HueAdjustmentOrange: 0
- HueAdjustmentPurple: 0
- HueAdjustmentRed: 0
- HueAdjustmentYellow: 0
- LuminanceAdjustmentAqua: 0
- LuminanceAdjustmentBlue: 0
- LuminanceAdjustmentGreen: 0
- LuminanceAdjustmentMagenta: 0
- LuminanceAdjustmentOrange: 0
- LuminanceAdjustmentPurple: 0
- LuminanceAdjustmentRed: 0
- LuminanceAdjustmentYellow: 0
- LuminanceSmoothing: 0
- ParametricDarks: 0
- ParametricHighlightSplit: 75
- ParametricHighlights: 0
- ParametricLights: 0
- ParametricMidtoneSplit: 50
- ParametricShadowSplit: 25
- ParametricShadows: 0
- RawFileName: _MG_5948.CR2
- RedHue: 0
- RedSaturation: 0
- Saturation: 0
- SaturationAdjustmentAqua: 0
- SaturationAdjustmentBlue: 0
- SaturationAdjustmentGreen: 0
- SaturationAdjustmentMagenta: 0
- SaturationAdjustmentOrange: 0
- SaturationAdjustmentPurple: 0
- SaturationAdjustmentRed: 0
- SaturationAdjustmentYellow: 0
- ShadowTint: 0
- Shadows: 3
- SharpenDetail: 25
- SharpenEdgeMasking: 0
- SharpenRadius: +1.0
- Sharpness: 91
- SplitToningBalance: 0
- SplitToningHighlightHue: 0
- SplitToningHighlightSaturation: 0
- SplitToningShadowHue: 0
- SplitToningShadowSaturation: 0
- Temperature: 5600
- Tint: +15
- ToneCurve: 0, 0, 32, 22, 64, 56, 128, 128, 192, 196, 255, 255
- ToneCurveName: Medium Contrast
- Version: 4.4.1
- Vibrance: +17
- VignetteAmount: 0
- WhiteBalance: As Shot
- XMP-dc
- XMP-exif
- DateTimeDigitized: 2008:06:29 15:56:52.90+03:00
- DateTimeOriginal: 2008:06:29 15:56:52.90+03:00
- FlashFired: False
- FlashFunction: False
- FlashMode: Off
- FlashRedEyeMode: False
- FlashReturn: No return detection
- XMP-tiff
- ImageHeight: 2848
- ImageWidth: 4272
- XMP-xmp
- CreateDate: 2008:06:29 15:56:52.9+03:00
- ModifyDate: 2008:07:20 20:14:24+03:00
- XMP-xmpMM
- Просмотров: 140
- Рейтинг: голосов еще нет
- Отзывов: 0