- Раздел: Другое, разное
- Дата съёмки: 01.07.2008 13:22
- Дата загрузки фото: 30.07.2008 21:57
- Оригинальная фотография: 2848 x 4288 (4,8 Мб)
- Технические характеристики:
- Фотоаппарат: Nikon D300
- Выдержка: 1/1600
- Гиперфокальное расстояние: 76,44 m
- Диафрагма: 3,2
- Светочувствительность: 200
- Фокусное расстояние: 70,0mm (35mm эквивалент: 105,0mm)
- Полный EXIF
- Adobe
- ColorTransform: YCbCr
- Composite
- Aperture: 3,2
- CircleOfConfusion: 0,020 mm
- FocalLength35efl: 70,0mm (35mm equivalent: 105,0mm)
- HyperfocalDistance: 76,44 m
- LightValue: 13,0
- ScaleFactor35efl: 1,5
- ShutterSpeed: 1/1600
- ExifIFD
- ApertureValue: 3,2
- Contrast: Normal
- CreateDate: 2008:07:01 13:22:54
- CustomRendered: Custom
- DateTimeOriginal: 2008:07:01 13:22:54
- DigitalZoomRatio: 1
- ExposureCompensation: 0
- ExposureMode: Auto
- ExposureProgram: Aperture-priority AE
- ExposureTime: 1/1600
- FNumber: 3,2
- Flash: No Flash
- FocalLength: 70,0mm
- FocalLengthIn35mmFormat: 105mm
- GainControl: None
- ISO: 200
- LightSource: Unknown (0)
- MaxApertureValue: 2,8
- MeteringMode: Multi-segment
- Saturation: Normal
- SceneCaptureType: Standard
- SceneType: Directly photographed
- SensingMethod: One-chip color area
- Sharpness: Hard
- ShutterSpeedValue: 1/1600
- WhiteBalance: Auto
- ICC-header
- ICC-meas
- ICC-view
- IFD0
- Make: NIKON CORPORATION
- Model: NIKON D300
- ModifyDate: 2008:07:23 14:44:05
- Software: ViewNX 1.0 W
- XMP-aux
- ImageNumber: 574
- Lens: 24.0-70.0 mm f/2.8
- LensInfo: 24/1 70/1 28/10 28/10
- SerialNumber: 6031292
- XMP-crs
- AlreadyApplied: True
- BlueHue: 0
- BlueSaturation: 0
- Brightness: +45
- CameraProfile: ACR 4.4
- ChromaticAberrationB: 0
- ChromaticAberrationR: 0
- Clarity: 0
- ColorNoiseReduction: 25
- Contrast: +73
- ConvertToGrayscale: False
- Defringe: 0
- Exposure: +0.33
- FillLight: 40
- GreenHue: 0
- GreenSaturation: 0
- HasCrop: False
- HasSettings: True
- HighlightRecovery: 20
- HueAdjustmentAqua: 0
- HueAdjustmentBlue: 0
- HueAdjustmentGreen: 0
- HueAdjustmentMagenta: 0
- HueAdjustmentOrange: 0
- HueAdjustmentPurple: 0
- HueAdjustmentRed: 0
- HueAdjustmentYellow: 0
- LuminanceAdjustmentAqua: 0
- LuminanceAdjustmentBlue: 0
- LuminanceAdjustmentGreen: 0
- LuminanceAdjustmentMagenta: 0
- LuminanceAdjustmentOrange: 0
- LuminanceAdjustmentPurple: 0
- LuminanceAdjustmentRed: 0
- LuminanceAdjustmentYellow: 0
- LuminanceSmoothing: 0
- ParametricDarks: -2
- ParametricHighlightSplit: 75
- ParametricHighlights: 0
- ParametricLights: +2
- ParametricMidtoneSplit: 50
- ParametricShadowSplit: 14
- ParametricShadows: +8
- PostCropVignetteAmount: 0
- RedHue: 0
- RedSaturation: 0
- Saturation: -70
- SaturationAdjustmentAqua: 0
- SaturationAdjustmentBlue: 0
- SaturationAdjustmentGreen: 0
- SaturationAdjustmentMagenta: 0
- SaturationAdjustmentOrange: 0
- SaturationAdjustmentPurple: 0
- SaturationAdjustmentRed: 0
- SaturationAdjustmentYellow: 0
- ShadowTint: 0
- Shadows: 50
- SharpenDetail: 25
- SharpenEdgeMasking: 0
- SharpenRadius: +1.0
- Sharpness: 25
- SplitToningBalance: +53
- SplitToningHighlightHue: 55
- SplitToningHighlightSaturation: 31
- SplitToningShadowHue: 55
- SplitToningShadowSaturation: 0
- Temperature: 4500
- Tint: -6
- ToneCurve: 0, 0, 32, 22, 64, 56, 128, 128, 192, 196, 255, 255
- ToneCurveName: Medium Contrast
- Version: 5.0
- Vibrance: +40
- VignetteAmount: -100
- VignetteMidpoint: 20
- WhiteBalance: As Shot
- XMP-exif
- DateTimeDigitized: 2008:07:01 13:22:54.08+04:00
- DateTimeOriginal: 2008:07:01 13:22:54.08+04:00
- FlashFired: False
- FlashFunction: False
- FlashMode: Unknown
- FlashRedEyeMode: False
- FlashReturn: No return detection
- FocalLengthIn35mmFormat: 105
- SubjectDistanceRange: Unknown
- XMP-tiff
- ImageHeight: 4288
- ImageWidth: 2848
- XMP-xmp
- ModifyDate: 2008:07:23 14:44:05+04:00