| » Участники » luvs » Portraits » 20080807-_MG_9842.jpg |
Уважаемые друзья и участники проекта iXBT.photo! К сожалению, 1 марта 2026 года проект iXBT.photo прекратит свою работу и будет закрыт. Мы высоко ценим ваше участие и тот вклад, который вы внесли в развитие нашего сообщества. Пожалуйста, не забудьте сохранить ваши фотографии до этой даты.
С уважением, команда iXBT.com
| 20080807-_MG_9842.jpg |
20080807-_MG_9842.jpg
- Раздел: Портрет
- Дата съёмки: 11.08.2008 07:54
- Дата загрузки фото: 11.08.2008 14:48
- Оригинальная фотография: 545 x 800 (207 Кб)
- Технические характеристики:
- Фотоаппарат: Canon EOS 40D
- Выдержка: 1/320
- Гиперфокальное расстояние: 162,65 m
- Диафрагма: 4,0
- Светочувствительность: 200
- Фокусное расстояние: 50,0mm (35mm эквивалент: 391,0mm)
- Полный EXIF
- Adobe
- ColorTransform: YCbCr
- Composite
- Aperture: 4,0
- CircleOfConfusion: 0,004 mm
- FocalLength35efl: 50,0mm (35mm equivalent: 391,0mm)
- HyperfocalDistance: 162,65 m
- LightValue: 11,3
- ScaleFactor35efl: 7,8
- ShutterSpeed: 1/320
- ExifIFD
- ApertureValue: 4,0
- ColorSpace: Uncalibrated
- CreateDate: 2008:08:07 19:57:28
- CustomRendered: Normal
- DateTimeOriginal: 2008:08:07 19:57:28
- ExifImageLength: 800
- ExifImageWidth: 545
- ExposureCompensation: 0
- ExposureMode: Manual
- ExposureProgram: Manual
- ExposureTime: 1/320
- FNumber: 4,0
- Flash: Off
- FocalLength: 50,0mm
- ISO: 200
- MaxApertureValue: 1,4
- MeteringMode: Multi-segment
- SceneCaptureType: Standard
- ShutterSpeedValue: 1/320
- WhiteBalance: Auto
- ICC-header
- IFD0
- BitsPerSample: 8 8 8
- ImageHeight: 3517
- ImageWidth: 2396
- Make: Canon
- Model: Canon EOS 40D
- ModifyDate: 2008:08:11 07:54:35
- Orientation: Horizontal (normal)
- PhotometricInterpretation: RGB
- PlanarConfiguration: Chunky
- SamplesPerPixel: 3
- IFD1
- IPTC
- Keywords: Portraits
- XMP-aux
- Firmware: 1.0.8
- FlashCompensation: 0
- ImageNumber: 0
- Lens: EF50mm f/1.4 USM
- LensInfo: 50/1 50/1 0/0 0/0
- SerialNumber: 1230713109
- XMP-crs
- AlreadyApplied: True
- BlueHue: 0
- BlueSaturation: 0
- Brightness: +50
- CameraProfile: ACR 4.4
- ChromaticAberrationB: 0
- ChromaticAberrationR: 0
- Clarity: 0
- ColorNoiseReduction: 25
- Contrast: +30
- ConvertToGrayscale: False
- CropAngle: 0
- CropBottom: 0.974737
- CropHeight: 2396
- CropLeft: 0.033708
- CropRight: 0.938202
- CropTop: 0.050526
- CropUnit: 0
- CropWidth: 3517
- Defringe: 0
- Exposure: +0.22
- FillLight: 5
- GreenHue: 0
- GreenSaturation: 0
- HasCrop: True
- HasSettings: True
- HighlightRecovery: 51
- HueAdjustmentAqua: -45
- HueAdjustmentBlue: 0
- HueAdjustmentGreen: 0
- HueAdjustmentMagenta: 0
- HueAdjustmentOrange: 0
- HueAdjustmentPurple: -29
- HueAdjustmentRed: -14
- HueAdjustmentYellow: 0
- LuminanceAdjustmentAqua: 0
- LuminanceAdjustmentBlue: 0
- LuminanceAdjustmentGreen: 0
- LuminanceAdjustmentMagenta: 0
- LuminanceAdjustmentOrange: 0
- LuminanceAdjustmentPurple: 0
- LuminanceAdjustmentRed: 0
- LuminanceAdjustmentYellow: 0
- LuminanceSmoothing: 0
- ParametricDarks: 0
- ParametricHighlightSplit: 75
- ParametricHighlights: +4
- ParametricLights: 0
- ParametricMidtoneSplit: 50
- ParametricShadowSplit: 25
- ParametricShadows: -4
- PostCropVignetteAmount: 0
- RedHue: 0
- RedSaturation: 0
- Saturation: 0
- SaturationAdjustmentAqua: +37
- SaturationAdjustmentBlue: 0
- SaturationAdjustmentGreen: 0
- SaturationAdjustmentMagenta: 0
- SaturationAdjustmentOrange: 0
- SaturationAdjustmentPurple: +27
- SaturationAdjustmentRed: +53
- SaturationAdjustmentYellow: 0
- ShadowTint: 0
- Shadows: 5
- SharpenDetail: 25
- SharpenEdgeMasking: 0
- SharpenRadius: +1.0
- Sharpness: 25
- SplitToningBalance: 0
- SplitToningHighlightHue: 62
- SplitToningHighlightSaturation: 43
- SplitToningShadowHue: 218
- SplitToningShadowSaturation: 0
- Temperature: 5000
- Tint: +3
- ToneCurve: 0, 0, 32, 22, 64, 56, 128, 128, 192, 196, 255, 255
- ToneCurveName: Medium Contrast
- Version: 4.5
- Vibrance: 0
- VignetteAmount: 0
- WhiteBalance: As Shot
- XMP-dc
- Format: image/jpeg
- Subject: Portraits
- XMP-exif
- ColorSpace: Unknown (-1)
- DateTimeDigitized: 2008:08:07 19:57:28.00+04:00
- DateTimeOriginal: 2008:08:07 19:57:28.00+04:00
- FlashFired: False
- FlashFunction: False
- FlashMode: Off
- FlashRedEyeMode: False
- FlashReturn: No return detection
- XMP-lr
- HierarchicalSubject: Portraits
- XMP-tiff
- BitsPerSample: 8, 8, 8
- XMP-xmp
- CreateDate: 2008:08:11 07:54:35+04:00
- ModifyDate: 2008:08:11 07:54:35+04:00
- XMP-xmpMM
- Просмотров: 422
- Рейтинг: голосов еще нет
- Отзывов: 0
Получить код для блога
| Вставка фотографии в текущем разрешении |
Вставка миниатюры |
HTML (для вставки в блог):
BBCode (для вставки в форум):
Ссылка на фото:
Ссылка на миниатюру:
- Послать ссылку другу
| Комментарии к фотографии |