- Раздел: Другое, разное
- Дата съёмки: 11.08.2008 09:19
- Дата загрузки фото: 11.08.2008 20:29
- Оригинальная фотография: 3936 x 2624 (3,2 Мб)
- Технические характеристики:
- Фотоаппарат: Nikon D300
- Выдержка: 1/2000
- Гиперфокальное расстояние: 87,37 m
- Диафрагма: 2,8
- Светочувствительность: 200
- Фокусное расстояние: 70,0mm (35mm эквивалент: 105,0mm)
- Полный EXIF
- Adobe
- ColorTransform: YCbCr
- Composite
- Aperture: 2,8
- CircleOfConfusion: 0,020 mm
- FocalLength35efl: 70,0mm (35mm equivalent: 105,0mm)
- HyperfocalDistance: 87,37 m
- LightValue: 12,9
- ScaleFactor35efl: 1,5
- ShutterSpeed: 1/2000
- ExifIFD
- ApertureValue: 2,8
- CFAPattern: [Red,Green][Green,Blue]
- ColorSpace: sRGB
- Contrast: Normal
- CreateDate: 2008:08:10 11:01:03
- CustomRendered: Normal
- DateTimeOriginal: 2008:08:10 11:01:03
- DigitalZoomRatio: 1
- ExifImageLength: 2624
- ExifImageWidth: 3936
- ExposureCompensation: 0
- ExposureMode: Auto
- ExposureProgram: Aperture-priority AE
- ExposureTime: 1/2000
- FNumber: 2,8
- Flash: No Flash
- FocalLength: 70,0mm
- FocalLengthIn35mmFormat: 105mm
- GainControl: None
- ISO: 200
- LightSource: Unknown (0)
- MaxApertureValue: 2,8
- MeteringMode: Multi-segment
- Saturation: Normal
- SceneCaptureType: Standard
- SceneType: Directly photographed
- SensingMethod: One-chip color area
- Sharpness: Normal
- ShutterSpeedValue: 1/2000
- WhiteBalance: Manual
- ICC-header
- ICC-meas
- ICC-view
- IFD0
- BitsPerSample: 16 16 16
- ImageHeight: 2848
- ImageWidth: 4288
- Make: NIKON CORPORATION
- Model: NIKON D300
- ModifyDate: 2008:08:11 09:20:17
- Orientation: Horizontal (normal)
- PhotometricInterpretation: RGB
- PlanarConfiguration: Chunky
- SamplesPerPixel: 3
- IFD1
- IPTC
- XMP-aux
- ImageNumber: 1569
- Lens: 24.0-70.0 mm f/2.8
- LensInfo: 240/10 700/10 28/10 28/10
- SerialNumber: 6031292
- XMP-crs
- AlreadyApplied: True
- BlueHue: +3
- BlueSaturation: -20
- Brightness: +45
- CameraProfile: ACR 4.4
- ChromaticAberrationB: 0
- ChromaticAberrationR: 0
- Clarity: +25
- ColorNoiseReduction: 4
- Contrast: +30
- ConvertToGrayscale: False
- Defringe: 0
- Exposure: +0.10
- FillLight: 0
- GreenHue: 0
- GreenSaturation: -5
- HasCrop: False
- HasSettings: True
- HighlightRecovery: 1
- HueAdjustmentAqua: 0
- HueAdjustmentBlue: +5
- HueAdjustmentGreen: 0
- HueAdjustmentMagenta: -3
- HueAdjustmentOrange: -14
- HueAdjustmentPurple: -16
- HueAdjustmentRed: +4
- HueAdjustmentYellow: -3
- LuminanceAdjustmentAqua: -5
- LuminanceAdjustmentBlue: -5
- LuminanceAdjustmentGreen: +3
- LuminanceAdjustmentMagenta: +4
- LuminanceAdjustmentOrange: -4
- LuminanceAdjustmentPurple: +15
- LuminanceAdjustmentRed: -1
- LuminanceAdjustmentYellow: -4
- LuminanceSmoothing: 4
- ParametricDarks: -45
- ParametricHighlightSplit: 81
- ParametricHighlights: -30
- ParametricLights: +14
- ParametricMidtoneSplit: 34
- ParametricShadowSplit: 24
- ParametricShadows: -10
- PostCropVignetteAmount: 0
- RedHue: +3
- RedSaturation: +2
- Saturation: +1
- SaturationAdjustmentAqua: +6
- SaturationAdjustmentBlue: -24
- SaturationAdjustmentGreen: -4
- SaturationAdjustmentMagenta: +7
- SaturationAdjustmentOrange: +28
- SaturationAdjustmentPurple: +8
- SaturationAdjustmentRed: +41
- SaturationAdjustmentYellow: -11
- ShadowTint: 0
- Shadows: 3
- SharpenDetail: 0
- SharpenEdgeMasking: 0
- SharpenRadius: +0.8
- Sharpness: 61
- SplitToningBalance: 0
- SplitToningHighlightHue: 0
- SplitToningHighlightSaturation: 0
- SplitToningShadowHue: 0
- SplitToningShadowSaturation: 0
- Temperature: 5000
- Tint: +1
- ToneCurve: 0, 0, 255, 255
- ToneCurveName: Linear
- Version: 4.5
- Vibrance: 0
- VignetteAmount: 0
- WhiteBalance: As Shot
- XMP-dc
- XMP-exif
- DateTimeDigitized: 2008:08:10 11:01:03.33+04:00
- DateTimeOriginal: 2008:08:10 11:01:03.33+04:00
- FlashFired: False
- FlashFunction: False
- FlashMode: Unknown
- FlashRedEyeMode: False
- FlashReturn: No return detection
- FocalLengthIn35mmFormat: 105
- SubjectDistanceRange: Unknown
- XMP-tiff
- BitsPerSample: 16, 16, 16
- XMP-xmp
- CreateDate: 2008:08:11 09:19:31+04:00
- ModifyDate: 2008:08:11 09:20:17+04:00
- XMP-xmpMM
- DerivedFrom:
- Просмотров: 306
- Рейтинг: голосов еще нет
- Отзывов: 0