- Раздел: Другое, разное
- Дата съёмки: 10.08.2008 15:19
- Дата загрузки фото: 11.08.2008 20:52
- Оригинальная фотография: 4288 x 2848 (2,2 Мб)
- Технические характеристики:
- Фотоаппарат: Nikon D300
- Выдержка: 1/800
- Гиперфокальное расстояние: 3,59 m
- Диафрагма: 8,0
- Светочувствительность: 400
- Фокусное расстояние: 24,0mm (35mm эквивалент: 36,0mm)
- Полный EXIF
- Adobe
- ColorTransform: YCbCr
- Composite
- Aperture: 8,0
- CircleOfConfusion: 0,020 mm
- FocalLength35efl: 24,0mm (35mm equivalent: 36,0mm)
- HyperfocalDistance: 3,59 m
- LightValue: 13,6
- ScaleFactor35efl: 1,5
- ShutterSpeed: 1/800
- ExifIFD
- ApertureValue: 8,0
- CFAPattern: [Red,Green][Green,Blue]
- ColorSpace: sRGB
- Contrast: Normal
- CreateDate: 2008:08:10 15:19:08
- CustomRendered: Normal
- DateTimeOriginal: 2008:08:10 15:19:08
- DigitalZoomRatio: 1
- ExifImageLength: 2848
- ExifImageWidth: 4288
- ExposureCompensation: 0
- ExposureMode: Auto
- ExposureProgram: Aperture-priority AE
- ExposureTime: 1/800
- FNumber: 8,0
- Flash: No Flash
- FocalLength: 24,0mm
- FocalLengthIn35mmFormat: 36mm
- GainControl: Low gain up
- ISO: 400
- LightSource: Unknown (0)
- MaxApertureValue: 2,8
- MeteringMode: Multi-segment
- Saturation: Normal
- SceneCaptureType: Standard
- SceneType: Directly photographed
- SensingMethod: One-chip color area
- Sharpness: Normal
- ShutterSpeedValue: 1/800
- WhiteBalance: Auto
- ICC-header
- ICC-meas
- ICC-view
- IFD0
- BitsPerSample: 16 16 16
- ImageHeight: 2848
- ImageWidth: 4288
- Make: NIKON CORPORATION
- Model: NIKON D300
- ModifyDate: 2008:08:11 11:54:43
- Orientation: Horizontal (normal)
- PhotometricInterpretation: RGB
- PlanarConfiguration: Chunky
- SamplesPerPixel: 3
- IFD1
- IPTC
- CopyrightNotice: Ibragimus
- XMP-aux
- ImageNumber: 1681
- Lens: 24.0-70.0 mm f/2.8
- LensInfo: 240/10 700/10 28/10 28/10
- SerialNumber: 6031292
- XMP-crs
- AlreadyApplied: True
- BlueHue: +3
- BlueSaturation: -20
- Brightness: +46
- CameraProfile: Camera Portrait beta 1
- ChromaticAberrationB: 0
- ChromaticAberrationR: 0
- Clarity: +28
- ColorNoiseReduction: 83
- Contrast: +17
- ConvertToGrayscale: False
- Defringe: 0
- Exposure: -0.64
- FillLight: 33
- GreenHue: 0
- GreenSaturation: -5
- HasCrop: False
- HasSettings: True
- HighlightRecovery: 84
- HueAdjustmentAqua: 0
- HueAdjustmentBlue: +5
- HueAdjustmentGreen: -1
- HueAdjustmentMagenta: -3
- HueAdjustmentOrange: -4
- HueAdjustmentPurple: -16
- HueAdjustmentRed: +4
- HueAdjustmentYellow: -3
- LuminanceAdjustmentAqua: -5
- LuminanceAdjustmentBlue: -5
- LuminanceAdjustmentGreen: +3
- LuminanceAdjustmentMagenta: +4
- LuminanceAdjustmentOrange: +20
- LuminanceAdjustmentPurple: +15
- LuminanceAdjustmentRed: -2
- LuminanceAdjustmentYellow: -4
- LuminanceSmoothing: 22
- ParametricDarks: -45
- ParametricHighlightSplit: 81
- ParametricHighlights: -30
- ParametricLights: +14
- ParametricMidtoneSplit: 34
- ParametricShadowSplit: 24
- ParametricShadows: -10
- PostCropVignetteAmount: 0
- RedHue: +3
- RedSaturation: +2
- Saturation: 0
- SaturationAdjustmentAqua: +6
- SaturationAdjustmentBlue: +25
- SaturationAdjustmentGreen: -14
- SaturationAdjustmentMagenta: +10
- SaturationAdjustmentOrange: -15
- SaturationAdjustmentPurple: +8
- SaturationAdjustmentRed: +20
- SaturationAdjustmentYellow: +13
- ShadowTint: 0
- Shadows: 0
- SharpenDetail: 0
- SharpenEdgeMasking: 0
- SharpenRadius: +0.8
- Sharpness: 48
- SplitToningBalance: 0
- SplitToningHighlightHue: 0
- SplitToningHighlightSaturation: 0
- SplitToningShadowHue: 0
- SplitToningShadowSaturation: 0
- Temperature: 5000
- Tint: +1
- ToneCurve: 0, 0, 255, 255
- ToneCurveName: Linear
- Version: 4.5
- Vibrance: 0
- VignetteAmount: 0
- WhiteBalance: Custom
- XMP-dc
- XMP-exif
- DateTimeDigitized: 2008:08:10 15:19:08.60+04:00
- DateTimeOriginal: 2008:08:10 15:19:08.60+04:00
- FlashFired: False
- FlashFunction: False
- FlashMode: Unknown
- FlashRedEyeMode: False
- FlashReturn: No return detection
- FocalLengthIn35mmFormat: 36
- SubjectDistanceRange: Unknown
- XMP-tiff
- BitsPerSample: 16, 16, 16
- XMP-xmp
- CreateDate: 2008:08:10 15:19:08.60+04:00
- ModifyDate: 2008:08:11 11:54:43+04:00
- XMP-xmpMM
- Просмотров: 287
- Рейтинг: голосов еще нет
- Отзывов: 0