- Раздел: Портрет
- Дата съёмки: 25.06.2008 15:20
- Дата загрузки фото: 22.08.2008 01:48
- Оригинальная фотография: 3504 x 2336 (2,8 Мб)
- Технические характеристики:
- Фотоаппарат: Canon EOS 30D
- Выдержка: 1/400
- Гиперфокальное расстояние: 338,42 m
- Диафрагма: 6,3
- Светочувствительность:
- Фокусное расстояние: 200,0mm (35mm эквивалент: 320,3mm)
- Полный EXIF
- Composite
- Aperture: 6,3
- CircleOfConfusion: 0,019 mm
- FocalLength35efl: 200,0mm (35mm equivalent: 320,3mm)
- HyperfocalDistance: 338,42 m
- ScaleFactor35efl: 1,6
- ShutterSpeed: 1/400
- ExifIFD
- ApertureValue: 6,3
- ColorSpace: sRGB
- CreateDate: 2008:06:21 13:00:16
- CustomRendered: Normal
- DateTimeOriginal: 2008:06:21 13:00:16
- ExifImageLength: 2336
- ExifImageWidth: 3504
- ExposureCompensation: 0
- ExposureMode: Auto
- ExposureProgram: Aperture-priority AE
- ExposureTime: 1/400
- FNumber: 6,3
- Flash: Off
- FocalLength: 200,0mm
- ISO:
- MaxApertureValue: 5,6
- MeteringMode: Multi-segment
- SceneCaptureType: Standard
- ShutterSpeedValue: 1/400
- WhiteBalance: Auto
- ICC-header
- ICC-meas
- ICC-view
- IFD0
- Artist: Andrew Duka
- Make: Canon
- Model: Canon EOS 30D
- ModifyDate: 2008:08:22 01:42:13
- Orientation: Horizontal (normal)
- Software: ACD Systems Digital Imaging
- IFD1
- IPTC
- XMP-aux
- Firmware: 1.0.6
- FlashCompensation: 0
- ImageNumber: 192
- Lens: 18.0-200.0 mm
- LensInfo: 18/1 200/1 0/0 0/0
- OwnerName: Andrew Duka
- SerialNumber: 1230914459
- XMP-crs
- AlreadyApplied: True
- BlueHue: 0
- BlueSaturation: 0
- Brightness: +54
- CameraProfile: ACR 3.4
- ChromaticAberrationB: 0
- ChromaticAberrationR: 0
- Clarity: 0
- ColorNoiseReduction: 25
- Contrast: +9
- ConvertToGrayscale: False
- Defringe: 0
- Exposure: 0.00
- FillLight: 0
- GreenHue: 0
- GreenSaturation: 0
- HasCrop: False
- HasSettings: True
- HighlightRecovery: 9
- HueAdjustmentAqua: 0
- HueAdjustmentBlue: 0
- HueAdjustmentGreen: 0
- HueAdjustmentMagenta: 0
- HueAdjustmentOrange: 0
- HueAdjustmentPurple: 0
- HueAdjustmentRed: 0
- HueAdjustmentYellow: 0
- LuminanceAdjustmentAqua: 0
- LuminanceAdjustmentBlue: 0
- LuminanceAdjustmentGreen: 0
- LuminanceAdjustmentMagenta: 0
- LuminanceAdjustmentOrange: 0
- LuminanceAdjustmentPurple: 0
- LuminanceAdjustmentRed: 0
- LuminanceAdjustmentYellow: 0
- LuminanceSmoothing: 0
- ParametricDarks: 0
- ParametricHighlightSplit: 75
- ParametricHighlights: 0
- ParametricLights: 0
- ParametricMidtoneSplit: 50
- ParametricShadowSplit: 25
- ParametricShadows: 0
- RawFileName: IMG_9980.CR2
- RedHue: 0
- RedSaturation: 0
- Saturation: 0
- SaturationAdjustmentAqua: 0
- SaturationAdjustmentBlue: 0
- SaturationAdjustmentGreen: 0
- SaturationAdjustmentMagenta: 0
- SaturationAdjustmentOrange: 0
- SaturationAdjustmentPurple: 0
- SaturationAdjustmentRed: 0
- SaturationAdjustmentYellow: 0
- ShadowTint: 0
- Shadows: 3
- SharpenDetail: 60
- SharpenEdgeMasking: 38
- SharpenRadius: +1.0
- Sharpness: 58
- SplitToningBalance: 0
- SplitToningHighlightHue: 0
- SplitToningHighlightSaturation: 0
- SplitToningShadowHue: 0
- SplitToningShadowSaturation: 0
- Temperature: 4550
- Tint: -5
- ToneCurve: 0, 0, 32, 22, 64, 56, 128, 128, 192, 196, 255, 255
- ToneCurveName: Medium Contrast
- Version: 4.3.1
- Vibrance: 0
- VignetteAmount: 0
- WhiteBalance: As Shot
- XMP-dc
- Creator: Andrew Duka
- Format: image/jpeg
- XMP-exif
- DateTimeDigitized: 2008:06:21 13:00:160Z
- DateTimeOriginal: 2008:06:21 13:00:160Z
- FlashFired: False
- FlashFunction: False
- FlashMode: Off
- FlashRedEyeMode: False
- FlashReturn: No return detection
- XMP-tiff
- XMP-xmp
- CreateDate: 2008:06:25 15:20:38+04:00
- ModifyDate: 2008:06:25 11:20:380Z
- Rating: 0
- XMP-xmpMM
- DerivedFrom:
- Просмотров: 277
- Рейтинг: голосов еще нет
- Отзывов: 0