| » Участники » luvs » Portraits » 20080819-_MG_0544.jpg |
Уважаемые друзья и участники проекта iXBT.photo! К сожалению, 1 марта 2026 года проект iXBT.photo прекратит свою работу и будет закрыт. Мы высоко ценим ваше участие и тот вклад, который вы внесли в развитие нашего сообщества. Пожалуйста, не забудьте сохранить ваши фотографии до этой даты.
С уважением, команда iXBT.com
| 20080819-_MG_0544.jpg |
20080819-_MG_0544.jpg
- Раздел: Портрет
- Дата съёмки: 21.08.2008 20:59
- Дата загрузки фото: 22.08.2008 14:27
- Оригинальная фотография: 564 x 800 (140 Кб)
- Технические характеристики:
- Фотоаппарат: Canon EOS 40D
- Выдержка: 1/250
- Гиперфокальное расстояние: 58,49 m
- Диафрагма: 11,0
- Светочувствительность: 100
- Фокусное расстояние: 50,0mm (35mm эквивалент: 386,6mm)
- Полный EXIF
- Adobe
- ColorTransform: YCbCr
- Composite
- Aperture: 11,0
- CircleOfConfusion: 0,004 mm
- FocalLength35efl: 50,0mm (35mm equivalent: 386,6mm)
- HyperfocalDistance: 58,49 m
- LightValue: 14,9
- ScaleFactor35efl: 7,7
- ShutterSpeed: 1/250
- ExifIFD
- ApertureValue: 11,0
- ColorSpace: Uncalibrated
- CreateDate: 2008:08:19 20:48:42
- CustomRendered: Normal
- DateTimeOriginal: 2008:08:19 20:48:42
- ExifImageLength: 800
- ExifImageWidth: 564
- ExposureCompensation: 0
- ExposureMode: Manual
- ExposureProgram: Manual
- ExposureTime: 1/250
- FNumber: 11,0
- Flash: On
- FocalLength: 50,0mm
- ISO: 100
- MaxApertureValue: 1,4
- MeteringMode: Multi-segment
- SceneCaptureType: Standard
- ShutterSpeedValue: 1/250
- WhiteBalance: Auto
- ICC-header
- IFD0
- BitsPerSample: 8 8 8
- ImageHeight: 3435
- ImageWidth: 2422
- Make: Canon
- Model: Canon EOS 40D
- ModifyDate: 2008:08:21 20:59:18
- Orientation: Horizontal (normal)
- PhotometricInterpretation: RGB
- PlanarConfiguration: Chunky
- SamplesPerPixel: 3
- IFD1
- IPTC
- Keywords: Portraits
- XMP-aux
- Firmware: 1.0.8
- FlashCompensation: 0
- ImageNumber: 0
- Lens: EF50mm f/1.4 USM
- LensInfo: 50/1 50/1 0/0 0/0
- SerialNumber: 1230713109
- XMP-crs
- AlreadyApplied: True
- BlueHue: 0
- BlueSaturation: 0
- Brightness: +50
- CameraProfile: ACR 4.4
- ChromaticAberrationB: 0
- ChromaticAberrationR: 0
- Clarity: +33
- ColorNoiseReduction: 25
- Contrast: +25
- ConvertToGrayscale: False
- CropAngle: 0
- CropBottom: 0.984399
- CropHeight: 2422
- CropLeft: 0.037422
- CropRight: 0.920998
- CropTop: 0.049922
- CropUnit: 0
- CropWidth: 3435
- Defringe: 0
- Exposure: +0.12
- FillLight: 10
- GreenHue: 0
- GreenSaturation: 0
- HasCrop: True
- HasSettings: True
- HighlightRecovery: 0
- HueAdjustmentAqua: 0
- HueAdjustmentBlue: 0
- HueAdjustmentGreen: 0
- HueAdjustmentMagenta: 0
- HueAdjustmentOrange: 0
- HueAdjustmentPurple: 0
- HueAdjustmentRed: 0
- HueAdjustmentYellow: -14
- LuminanceAdjustmentAqua: 0
- LuminanceAdjustmentBlue: 0
- LuminanceAdjustmentGreen: 0
- LuminanceAdjustmentMagenta: 0
- LuminanceAdjustmentOrange: 0
- LuminanceAdjustmentPurple: 0
- LuminanceAdjustmentRed: 0
- LuminanceAdjustmentYellow: +46
- LuminanceSmoothing: 0
- ParametricDarks: 0
- ParametricHighlightSplit: 75
- ParametricHighlights: 0
- ParametricLights: 0
- ParametricMidtoneSplit: 50
- ParametricShadowSplit: 25
- ParametricShadows: 0
- PostCropVignetteAmount: 0
- RedHue: 0
- RedSaturation: 0
- Saturation: 0
- SaturationAdjustmentAqua: 0
- SaturationAdjustmentBlue: 0
- SaturationAdjustmentGreen: 0
- SaturationAdjustmentMagenta: 0
- SaturationAdjustmentOrange: 0
- SaturationAdjustmentPurple: 0
- SaturationAdjustmentRed: 0
- SaturationAdjustmentYellow: +100
- ShadowTint: 0
- Shadows: 3
- SharpenDetail: 34
- SharpenEdgeMasking: 0
- SharpenRadius: +1.2
- Sharpness: 75
- SplitToningBalance: 0
- SplitToningHighlightHue: 2
- SplitToningHighlightSaturation: 0
- SplitToningShadowHue: 122
- SplitToningShadowSaturation: 0
- Temperature: 6300
- Tint: +9
- ToneCurve: 0, 0, 32, 22, 64, 56, 128, 128, 192, 196, 255, 255
- ToneCurveName: Medium Contrast
- Version: 4.5
- Vibrance: +29
- VignetteAmount: 0
- WhiteBalance: As Shot
- XMP-dc
- Format: image/jpeg
- Subject: Portraits
- XMP-exif
- ColorSpace: Unknown (-1)
- DateTimeDigitized: 2008:08:19 20:48:42.20+04:00
- DateTimeOriginal: 2008:08:19 20:48:42.20+04:00
- FlashFired: True
- FlashFunction: False
- FlashMode: On
- FlashRedEyeMode: False
- FlashReturn: No return detection
- XMP-lr
- HierarchicalSubject: Portraits
- XMP-tiff
- BitsPerSample: 8, 8, 8
- XMP-xmp
- CreateDate: 2008:08:21 20:59:18+04:00
- ModifyDate: 2008:08:21 20:59:18+04:00
- XMP-xmpMM
Получить код для блога
| Вставка фотографии в текущем разрешении |
Вставка миниатюры |
HTML (для вставки в блог):
BBCode (для вставки в форум):
Ссылка на фото:
Ссылка на миниатюру:
- Послать ссылку другу
| Комментарии к фотографии |