- Раздел: Путешествия
- Дата съёмки: 17.08.2008 06:59
- Дата загрузки фото: 22.08.2008 20:36
- Оригинальная фотография: 600 x 800 (172 Кб)
- Технические характеристики:
- Фотоаппарат: Canon PowerShot A620
- Выдержка: 1/320
- Гиперфокальное расстояние: 127,53 m
- Диафрагма: 4,1
- Светочувствительность: 50
- Фокусное расстояние: 29,2mm (35mm эквивалент: 538,0mm)
- Экспокоррекция: -1/3
- Полный EXIF
- Composite
- Aperture: 4,1
- CircleOfConfusion: 0,002 mm
- FocalLength35efl: 29,2mm (35mm equivalent: 538,0mm)
- HyperfocalDistance: 127,53 m
- LightValue: 13,4
- ScaleFactor35efl: 18,4
- ShutterSpeed: 1/320
- ExifIFD
- ApertureValue: 4,1
- CreateDate: 2008:08:17 06:59:36
- DateTimeOriginal: 2008:08:17 06:59:36
- DigitalZoomRatio: 1
- ExposureCompensation: -1/3
- ExposureMode: Manual
- ExposureProgram: Aperture-priority AE
- ExposureTime: 1/320
- FNumber: 4,1
- Flash: Off, Red-eye reduction
- FocalLength: 29,2mm
- ISO: 50
- LightSource: Unknown (0)
- MaxApertureValue: 4,1
- MeteringMode: Center-weighted average
- SceneCaptureType: Standard
- SensingMethod: One-chip color area
- ShutterSpeedValue: 1/320
- SubjectDistance: 14,9 m
- WhiteBalance: Auto
- ICC-header
- ICC-meas
- ICC-view
- IFD0
- Artist: Artyomov Denis
- Make: Canon
- Model: Canon PowerShot A620
- ModifyDate: 2008:08:22 22:07:35
- IPTC
- By-line: Artyomov Denis
- XMP-aux
- Firmware: Firmware Version 1.00
- Lens: 7,3-29,2 mm
- LensInfo: 7300/1000 29200/1000 0/0 0/0
- XMP-crs
- AlreadyApplied: True
- BlueHue: 0
- BlueSaturation: 0
- Brightness: +50
- CameraProfile: Embedded
- ChromaticAberrationB: 0
- ChromaticAberrationR: 0
- Clarity: 0
- ColorNoiseReduction: 25
- Contrast: +25
- ConvertToGrayscale: False
- Defringe: 0
- Exposure: +0.48
- FillLight: 0
- GreenHue: 0
- GreenSaturation: 0
- HasCrop: False
- HasSettings: True
- HighlightRecovery: 100
- HueAdjustmentAqua: 0
- HueAdjustmentBlue: 0
- HueAdjustmentGreen: 0
- HueAdjustmentMagenta: 0
- HueAdjustmentOrange: 0
- HueAdjustmentPurple: 0
- HueAdjustmentRed: 0
- HueAdjustmentYellow: 0
- LuminanceAdjustmentAqua: 0
- LuminanceAdjustmentBlue: 0
- LuminanceAdjustmentGreen: 0
- LuminanceAdjustmentMagenta: 0
- LuminanceAdjustmentOrange: 0
- LuminanceAdjustmentPurple: 0
- LuminanceAdjustmentRed: 0
- LuminanceAdjustmentYellow: 0
- LuminanceSmoothing: 0
- ParametricDarks: 0
- ParametricHighlightSplit: 75
- ParametricHighlights: 0
- ParametricLights: 0
- ParametricMidtoneSplit: 50
- ParametricShadowSplit: 25
- ParametricShadows: 0
- RedHue: 0
- RedSaturation: 0
- Saturation: 0
- SaturationAdjustmentAqua: 0
- SaturationAdjustmentBlue: 0
- SaturationAdjustmentGreen: 0
- SaturationAdjustmentMagenta: 0
- SaturationAdjustmentOrange: 0
- SaturationAdjustmentPurple: 0
- SaturationAdjustmentRed: 0
- SaturationAdjustmentYellow: 0
- ShadowTint: 0
- Shadows: 10
- SharpenDetail: 25
- SharpenEdgeMasking: 0
- SharpenRadius: +1.0
- Sharpness: 25
- SplitToningBalance: 0
- SplitToningHighlightHue: 0
- SplitToningHighlightSaturation: 0
- SplitToningShadowHue: 0
- SplitToningShadowSaturation: 0
- Temperature: 7500
- Tint: +19
- ToneCurve: 0, 0, 32, 22, 64, 56, 128, 128, 192, 196, 255, 255
- ToneCurveName: Medium Contrast
- Version: 1.0
- Vibrance: 0
- VignetteAmount: 0
- WhiteBalance: As Shot
- XMP-dc
- XMP-exif
- DateTimeDigitized: 2008:08:17 06:59:36+06:00
- DateTimeOriginal: 2008:08:17 06:59:36+06:00
- FlashFired: False
- FlashFunction: False
- FlashMode: Off
- FlashRedEyeMode: True
- FlashReturn: No return detection
- XMP-tiff
- ImageHeight: 3072
- ImageWidth: 2304
- XMP-xmp
- ModifyDate: 2008:08:22 22:07:35+06:00
- Просмотров: 236
- Рейтинг: голосов еще нет
- Отзывов: 0