| » Участники » Banifacyj » мы » 200.08.17_bab.molodost_Banifacyj.livejournal.com_203.jpg |
Уважаемые друзья и участники проекта iXBT.photo! К сожалению, 1 марта 2026 года проект iXBT.photo прекратит свою работу и будет закрыт. Мы высоко ценим ваше участие и тот вклад, который вы внесли в развитие нашего сообщества. Пожалуйста, не забудьте сохранить ваши фотографии до этой даты.
С уважением, команда iXBT.com
| 200.08.17_bab.molodost_Banifacyj.livejournal.com_203.jpg |
200.08.17_bab.molodost_Banifacyj.livejournal.com_203.jpg
- Раздел: Другое, разное
- Дата съёмки: 17.08.2008 18:25
- Дата загрузки фото: 28.08.2008 13:14
- Оригинальная фотография: 600 x 400 (100 Кб)
- Технические характеристики:
- Фотоаппарат: Canon EOS 30D
- Выдержка: 1/60
- Гиперфокальное расстояние: 69,73 m
- Диафрагма: 3,5
- Светочувствительность: 640
- Фокусное расстояние: 28,0mm (35mm эквивалент: 261,9mm)
- Полный EXIF
- Composite
- Aperture: 3,5
- CircleOfConfusion: 0,003 mm
- FocalLength35efl: 28,0mm (35mm equivalent: 261,9mm)
- HyperfocalDistance: 69,73 m
- LightValue: 6,8
- ScaleFactor35efl: 9,4
- ShutterSpeed: 1/60
- ExifIFD
- ApertureValue: 3,5
- CreateDate: 2008:08:17 18:25:05
- CustomRendered: Normal
- DateTimeOriginal: 2008:08:17 18:25:05
- ExifImageLength: 400
- ExifImageWidth: 600
- ExposureCompensation: 0
- ExposureMode: Manual
- ExposureProgram: Manual
- ExposureTime: 1/60
- FNumber: 3,5
- Flash: Off
- FocalLength: 28,0mm
- ISO: 640
- MaxApertureValue: 2,8
- MeteringMode: Average
- SceneCaptureType: Standard
- ShutterSpeedValue: 1/60
- WhiteBalance: Auto
- ICC-header
- ICC-meas
- ICC-view
- IFD0
- Artist: Banifacyj Sergei Morozov
- Make: Canon
- Model: Canon EOS 30D
- ModifyDate: 2008:08:28 12:09:43
- Orientation: Horizontal (normal)
- Software: ACD Systems Digital Imaging
- IPTC
- By-line: Banifacyj Sergei Morozov
- XMP-aux
- Firmware: 1.0.5
- FlashCompensation: 0
- ImageNumber: 64
- Lens: 28.0-75.0 mm
- LensInfo: 28/1 75/1 0/0 0/0
- OwnerName: Banifacyj Sergei Morozov
- SerialNumber: 1730915494
- XMP-crs
- AlreadyApplied: True
- BlueHue: 0
- BlueSaturation: 0
- Brightness: +50
- CameraProfile: ACR 3.4
- ChromaticAberrationB: 0
- ChromaticAberrationR: 0
- Clarity: 0
- ColorNoiseReduction: 25
- Contrast: +25
- ConvertToGrayscale: False
- Defringe: 0
- Exposure: 0.00
- FillLight: 4
- GreenHue: 0
- GreenSaturation: 0
- HasCrop: False
- HasSettings: True
- HighlightRecovery: 4
- HueAdjustmentAqua: 0
- HueAdjustmentBlue: 0
- HueAdjustmentGreen: 0
- HueAdjustmentMagenta: 0
- HueAdjustmentOrange: 0
- HueAdjustmentPurple: 0
- HueAdjustmentRed: 0
- HueAdjustmentYellow: 0
- LuminanceAdjustmentAqua: 0
- LuminanceAdjustmentBlue: 0
- LuminanceAdjustmentGreen: 0
- LuminanceAdjustmentMagenta: 0
- LuminanceAdjustmentOrange: 0
- LuminanceAdjustmentPurple: 0
- LuminanceAdjustmentRed: 0
- LuminanceAdjustmentYellow: 0
- LuminanceSmoothing: 0
- ParametricDarks: 0
- ParametricHighlightSplit: 75
- ParametricHighlights: 0
- ParametricLights: +5
- ParametricMidtoneSplit: 50
- ParametricShadowSplit: 25
- ParametricShadows: 0
- RedHue: 0
- RedSaturation: 0
- Saturation: 0
- SaturationAdjustmentAqua: 0
- SaturationAdjustmentBlue: 0
- SaturationAdjustmentGreen: 0
- SaturationAdjustmentMagenta: 0
- SaturationAdjustmentOrange: 0
- SaturationAdjustmentPurple: 0
- SaturationAdjustmentRed: 0
- SaturationAdjustmentYellow: 0
- ShadowTint: 0
- Shadows: 5
- SharpenDetail: 25
- SharpenEdgeMasking: 0
- SharpenRadius: +1.0
- Sharpness: 25
- SplitToningBalance: 0
- SplitToningHighlightHue: 0
- SplitToningHighlightSaturation: 0
- SplitToningShadowHue: 0
- SplitToningShadowSaturation: 0
- Temperature: 4600
- Tint: -3
- ToneCurve: 0, 0, 32, 22, 64, 56, 128, 128, 192, 196, 255, 255
- ToneCurveName: Medium Contrast
- Version: 1.0
- Vibrance: +47
- VignetteAmount: 0
- WhiteBalance: Custom
- XMP-dc
- Creator: Banifacyj Sergei Morozov
- XMP-exif
- DateTimeDigitized: 2008:08:17 18:25:05.0+2:00
- DateTimeOriginal: 2008:08:17 18:25:05.0+2:00
- FlashFired: False
- FlashFunction: False
- FlashMode: Off
- FlashRedEyeMode: False
- FlashReturn: No return detection
- XMP-tiff
- ImageHeight: 2336
- ImageWidth: 3504
- XMP-xmp
- ModifyDate: 2008:08:25 20:11:48.0+2:00
- Просмотров: 244
- Рейтинг: голосов еще нет
- Отзывов: 0
Получить код для блога
| Вставка фотографии в текущем разрешении |
Вставка миниатюры |
HTML (для вставки в блог):
BBCode (для вставки в форум):
Ссылка на фото:
Ссылка на миниатюру:
- Послать ссылку другу
| Комментарии к фотографии |