- Раздел: Природа
- Дата съёмки: 19.08.2008 01:02
- Дата загрузки фото: 05.09.2008 09:49
- Оригинальная фотография: 2000 x 1500 (1,5 Мб)
- Технические характеристики:
- Фотоаппарат: FujiFilm FinePix S6500fd
- Выдержка: 1/1100
- Гиперфокальное расстояние: 13,84 m
- Диафрагма: 3,8
- Светочувствительность: 100
- Фокусное расстояние: 25,0mm (35mm эквивалент: 63,2mm)
- Экспокоррекция: -0,33
- Полный EXIF
- Composite
- Aperture: 3,8
- CircleOfConfusion: 0,012 mm
- FocalLength35efl: 25,0mm (35mm equivalent: 63,2mm)
- HyperfocalDistance: 13,84 m
- LightValue: 14,0
- ScaleFactor35efl: 2,5
- ShutterSpeed: 1/1100
- ExifIFD
- ApertureValue: 3,8
- BrightnessValue: 9,46
- ColorSpace: Unknown (0)
- CreateDate: 2008:08:06 12:48:50
- CustomRendered: Normal
- DateTimeOriginal: 2008:08:06 12:48:50
- ExifImageLength: 1500
- ExifImageWidth: 2000
- ExposureCompensation: -0,33
- ExposureMode: Auto
- ExposureProgram: Aperture-priority AE
- ExposureTime: 1/1100
- FNumber: 3,8
- Flash: Off
- FocalLength: 25,0mm
- ISO: 100
- LightSource: Unknown (0)
- MaxApertureValue: 2,8
- MeteringMode: Multi-segment
- SceneCaptureType: Standard
- SceneType: Directly photographed
- SensingMethod: One-chip color area
- Sharpness: Normal
- ShutterSpeedValue: 1/1100
- WhiteBalance: Auto
- ICC-header
- IFD0
- Make: FUJIFILM
- Model: FinePix S6500fd
- ModifyDate: 2008:09:04 11:55:53
- Orientation: Horizontal (normal)
- Software: ACD Systems Digital Imaging
- IPTC
- XMP-crs
- AlreadyApplied: True
- BlueHue: 0
- BlueSaturation: 0
- Brightness: +50
- CameraProfile: ACR 3.6
- ChromaticAberrationB: 0
- ChromaticAberrationR: 0
- ColorNoiseReduction: 98
- Contrast: -9
- ConvertToGrayscale: False
- Exposure: 0.00
- FillLight: 0
- GreenHue: 0
- GreenSaturation: 0
- HasCrop: False
- HasSettings: True
- HighlightRecovery: 0
- HueAdjustmentAqua: 0
- HueAdjustmentBlue: 0
- HueAdjustmentGreen: 0
- HueAdjustmentMagenta: 0
- HueAdjustmentOrange: 0
- HueAdjustmentPurple: 0
- HueAdjustmentRed: 0
- HueAdjustmentYellow: 0
- LuminanceAdjustmentAqua: 0
- LuminanceAdjustmentBlue: 0
- LuminanceAdjustmentGreen: 0
- LuminanceAdjustmentMagenta: 0
- LuminanceAdjustmentOrange: 0
- LuminanceAdjustmentPurple: 0
- LuminanceAdjustmentRed: 0
- LuminanceAdjustmentYellow: 0
- LuminanceSmoothing: 47
- ParametricDarks: -9
- ParametricHighlightSplit: 84
- ParametricHighlights: -6
- ParametricLights: +33
- ParametricMidtoneSplit: 50
- ParametricShadowSplit: 21
- ParametricShadows: -34
- RawFileName: DSCF4268.RAF
- RedHue: 0
- RedSaturation: 0
- Saturation: 0
- SaturationAdjustmentAqua: 0
- SaturationAdjustmentBlue: 0
- SaturationAdjustmentGreen: 0
- SaturationAdjustmentMagenta: 0
- SaturationAdjustmentOrange: 0
- SaturationAdjustmentPurple: 0
- SaturationAdjustmentRed: 0
- SaturationAdjustmentYellow: 0
- ShadowTint: 0
- Shadows: 5
- Sharpness: 25
- SplitToningBalance: 0
- SplitToningHighlightHue: 0
- SplitToningHighlightSaturation: 0
- SplitToningShadowHue: 0
- SplitToningShadowSaturation: 0
- Temperature: 5650
- Tint: +2
- ToneCurve: 0, 0, 32, 22, 64, 56, 128, 128, 192, 196, 255, 255
- ToneCurveName: Medium Contrast
- Version: 4.0
- Vibrance: 0
- VignetteAmount: 0
- WhiteBalance: Custom
- XMP-dc
- XMP-exif
- DateTimeDigitized: 2008:08:06 12:48:50.0+3:00
- DateTimeOriginal: 2008:08:06 12:48:50.0+3:00
- ExifImageLength: 2136
- ExifImageWidth: 2848
- FlashFired: False
- FlashFunction: False
- FlashMode: Off
- FlashRedEyeMode: False
- FlashReturn: No return detection
- SubjectDistanceRange: Unknown
- XMP-tiff
- BitsPerSample: 8, 8, 8
- ImageHeight: 2136
- ImageWidth: 2848
- PhotometricInterpretation: RGB
- PlanarConfiguration: Chunky
- SamplesPerPixel: 3
- XMP-xmp
- CreateDate: 2008:08:19 01:02:17+04:00
- ModifyDate: 2008:08:19 00:02:17.0+3:00
- Rating: 0
- XMP-xmpMM
- DerivedFrom: