- Раздел: Город
- Дата съёмки: 04.09.2008 18:38
- Дата загрузки фото: 06.09.2008 14:26
- Оригинальная фотография: 3872 x 2592 (2,8 Мб)
- Технические характеристики:
- Фотоаппарат: Pentax K200D
- Выдержка: 1/250
- Гиперфокальное расстояние: 13,65 m
- Диафрагма: 11,0
- Светочувствительность: 400
- Фокусное расстояние: 55,0mm (35mm эквивалент: 82,0mm)
- Полный EXIF
- Adobe
- ColorTransform: YCbCr
- Composite
- Aperture: 11,0
- CircleOfConfusion: 0,020 mm
- FocalLength35efl: 55,0mm (35mm equivalent: 82,0mm)
- HyperfocalDistance: 13,65 m
- LightValue: 12,9
- ScaleFactor35efl: 1,5
- ShutterSpeed: 1/250
- ExifIFD
- ApertureValue: 11,0
- CFAPattern: [Red,Green][Green,Blue]
- Contrast: High
- CreateDate: 2008:09:04 18:38:33
- CustomRendered: Normal
- DateTimeOriginal: 2008:09:04 18:38:33
- ExposureCompensation: 0
- ExposureMode: Auto
- ExposureProgram: Shutter speed priority AE
- ExposureTime: 1/250
- FNumber: 11,0
- Flash: Off
- FocalLength: 55,0mm
- FocalLengthIn35mmFormat: 82mm
- ISO: 400
- MeteringMode: Multi-segment
- Saturation: Normal
- SceneCaptureType: Standard
- SensingMethod: One-chip color area
- Sharpness: Hard
- ShutterSpeedValue: 1/250
- SubjectDistanceRange: Distant
- WhiteBalance: Auto
- ICC-header
- IFD0
- Make: PENTAX
- Model: PENTAX K200D
- ModifyDate: 2008:09:05 16:11:34
- Software: K200D Ver 1.00
- XMP-aux
- Lens: smc PENTAX-DA 18-55mm F3.5-5.6 AL
- LensID: 4 252
- LensInfo: 180/10 550/10 35/10 56/10
- XMP-crs
- AlreadyApplied: True
- BlueHue: 0
- BlueSaturation: 0
- Brightness: +50
- CameraProfile: ACR 4.4
- ChromaticAberrationB: +31
- ChromaticAberrationR: -29
- Clarity: +45
- ColorNoiseReduction: 25
- Contrast: +34
- ConvertToGrayscale: False
- Defringe: 0
- Exposure: +0.45
- FillLight: 26
- GreenHue: 0
- GreenSaturation: 0
- HasCrop: False
- HasSettings: True
- HighlightRecovery: 26
- HueAdjustmentAqua: 0
- HueAdjustmentBlue: 0
- HueAdjustmentGreen: 0
- HueAdjustmentMagenta: 0
- HueAdjustmentOrange: 0
- HueAdjustmentPurple: 0
- HueAdjustmentRed: 0
- HueAdjustmentYellow: 0
- LuminanceAdjustmentAqua: 0
- LuminanceAdjustmentBlue: 0
- LuminanceAdjustmentGreen: 0
- LuminanceAdjustmentMagenta: 0
- LuminanceAdjustmentOrange: 0
- LuminanceAdjustmentPurple: 0
- LuminanceAdjustmentRed: 0
- LuminanceAdjustmentYellow: 0
- LuminanceSmoothing: 25
- ParametricDarks: 0
- ParametricHighlightSplit: 75
- ParametricHighlights: 0
- ParametricLights: 0
- ParametricMidtoneSplit: 50
- ParametricShadowSplit: 25
- ParametricShadows: 0
- PostCropVignetteAmount: 0
- RawFileName: IMGP0113.PEF
- RedHue: 0
- RedSaturation: 0
- Saturation: +36
- SaturationAdjustmentAqua: 0
- SaturationAdjustmentBlue: 0
- SaturationAdjustmentGreen: 0
- SaturationAdjustmentMagenta: 0
- SaturationAdjustmentOrange: 0
- SaturationAdjustmentPurple: 0
- SaturationAdjustmentRed: 0
- SaturationAdjustmentYellow: 0
- ShadowTint: 0
- Shadows: 3
- SharpenDetail: 79
- SharpenEdgeMasking: 63
- SharpenRadius: +1.0
- Sharpness: 88
- SplitToningBalance: 0
- SplitToningHighlightHue: 0
- SplitToningHighlightSaturation: 0
- SplitToningShadowHue: 0
- SplitToningShadowSaturation: 0
- Temperature: 5050
- Tint: -4
- ToneCurve: 0, 0, 32, 22, 64, 56, 128, 128, 192, 196, 255, 255
- ToneCurveName: Medium Contrast
- Version: 4.5
- Vibrance: +8
- VignetteAmount: +10
- VignetteMidpoint: 50
- WhiteBalance: Custom
- XMP-exif
- DateTimeDigitized: 2008:09:04 18:38:33+03:00
- DateTimeOriginal: 2008:09:04 18:38:33+03:00
- ExifImageLength: 2592
- ExifImageWidth: 3872
- FlashFired: False
- FlashFunction: False
- FlashMode: Off
- FlashRedEyeMode: False
- FlashReturn: No return detection
- FocalLengthIn35mmFormat: 82
- XMP-tiff
- ImageHeight: 2592
- ImageWidth: 3872
- XMP-xmp
- CreateDate: 2008:09:04 18:38:33+03:00
- CreatorTool: K200D Ver 1.00
- ModifyDate: 2008:09:05 16:11:34+03:00
- Просмотров: 417
- Рейтинг: голосов еще нет
- Отзывов: 0