- Раздел: Другое, разное
- Дата съёмки: 07.09.2008 15:39
- Дата загрузки фото: 07.09.2008 20:46
- Оригинальная фотография: 2592 x 3872 (3,9 Мб)
- Технические характеристики:
- Фотоаппарат: Nikon D200
- Выдержка: 1/80
- Гиперфокальное расстояние: 7,57 m
- Диафрагма: 8,0
- Светочувствительность: 100
- Фокусное расстояние: 35,0mm (35mm эквивалент: 52,0mm)
- Экспокоррекция: -1/3
- Полный EXIF
- Adobe
- ColorTransform: YCbCr
- Composite
- Aperture: 8,0
- CircleOfConfusion: 0,020 mm
- FocalLength35efl: 35,0mm (35mm equivalent: 52,0mm)
- HyperfocalDistance: 7,57 m
- LightValue: 12,3
- ScaleFactor35efl: 1,5
- ShutterSpeed: 1/80
- ExifIFD
- ApertureValue: 8,0
- CFAPattern: [Green,Red][Blue,Green]
- Contrast: High
- CreateDate: 2008:09:07 15:39:42
- CustomRendered: Normal
- DateTimeOriginal: 2008:09:07 15:39:42
- DigitalZoomRatio: 1
- ExposureCompensation: -1/3
- ExposureMode: Auto
- ExposureProgram: Aperture-priority AE
- ExposureTime: 1/80
- FNumber: 8,0
- Flash: No Flash
- FocalLength: 35,0mm
- FocalLengthIn35mmFormat: 52mm
- GainControl: None
- ISO: 100
- LightSource: Unknown (0)
- MaxApertureValue: 1,0
- MeteringMode: Center-weighted average
- Saturation: High
- SceneCaptureType: Standard
- SceneType: Directly photographed
- SensingMethod: One-chip color area
- Sharpness: Hard
- ShutterSpeedValue: 1/80
- UserComment: ILYA_MGP@MAIL.RU;ICQ:86080981 (C)TiN
- WhiteBalance: Auto
- ICC-header
- ICC-meas
- ICC-view
- IFD0
- Make: NIKON CORPORATION
- Model: NIKON D200
- ModifyDate: 2008:09:07 18:25:21
- Software: Ver.2.00
- XMP-aux
- ImageNumber: 15255
- Lens: 0.0 mm f/0.0
- LensInfo: 0/10 0/10 0/10 0/10
- XMP-crs
- AlreadyApplied: True
- BlueHue: 0
- BlueSaturation: 0
- Brightness: +47
- CameraProfile: ACR 4.4
- ChromaticAberrationB: 0
- ChromaticAberrationR: 0
- Clarity: 0
- ColorNoiseReduction: 25
- Contrast: +16
- ConvertToGrayscale: False
- Defringe: 0
- Exposure: +0.76
- FillLight: 2
- GreenHue: 0
- GreenSaturation: 0
- HasCrop: False
- HasSettings: True
- HighlightRecovery: 92
- HueAdjustmentAqua: 0
- HueAdjustmentBlue: 0
- HueAdjustmentGreen: 0
- HueAdjustmentMagenta: 0
- HueAdjustmentOrange: 0
- HueAdjustmentPurple: 0
- HueAdjustmentRed: 0
- HueAdjustmentYellow: 0
- LuminanceAdjustmentAqua: 0
- LuminanceAdjustmentBlue: 0
- LuminanceAdjustmentGreen: 0
- LuminanceAdjustmentMagenta: 0
- LuminanceAdjustmentOrange: 0
- LuminanceAdjustmentPurple: 0
- LuminanceAdjustmentRed: 0
- LuminanceAdjustmentYellow: 0
- LuminanceSmoothing: 0
- ParametricDarks: 0
- ParametricHighlightSplit: 75
- ParametricHighlights: 0
- ParametricLights: 0
- ParametricMidtoneSplit: 50
- ParametricShadowSplit: 25
- ParametricShadows: 0
- PostCropVignetteAmount: 0
- RedHue: 0
- RedSaturation: 0
- Saturation: 0
- SaturationAdjustmentAqua: 0
- SaturationAdjustmentBlue: 0
- SaturationAdjustmentGreen: 0
- SaturationAdjustmentMagenta: 0
- SaturationAdjustmentOrange: 0
- SaturationAdjustmentPurple: 0
- SaturationAdjustmentRed: 0
- SaturationAdjustmentYellow: 0
- ShadowTint: 0
- Shadows: 0
- SharpenDetail: 25
- SharpenEdgeMasking: 0
- SharpenRadius: +1.0
- Sharpness: 25
- SplitToningBalance: 0
- SplitToningHighlightHue: 0
- SplitToningHighlightSaturation: 0
- SplitToningShadowHue: 0
- SplitToningShadowSaturation: 0
- Temperature: 4750
- Tint: -5
- ToneCurve: 0, 0, 32, 22, 64, 56, 128, 128, 192, 196, 255, 255
- ToneCurveName: Medium Contrast
- Version: 4.5
- Vibrance: 0
- VignetteAmount: 0
- WhiteBalance: As Shot
- XMP-exif
- DateTimeDigitized: 2008:09:07 15:39:42.00+03:00
- DateTimeOriginal: 2008:09:07 15:39:42.00+03:00
- ExifImageLength: 3872
- ExifImageWidth: 2592
- FlashFired: False
- FlashFunction: False
- FlashMode: Unknown
- FlashRedEyeMode: False
- FlashReturn: No return detection
- FocalLengthIn35mmFormat: 52
- SubjectDistanceRange: Unknown
- XMP-tiff
- ImageHeight: 3872
- ImageWidth: 2592
- XMP-xmp
- CreateDate: 2008:09:07 15:39:42.00+03:00
- ModifyDate: 2008:09:07 18:25:21+03:00
- Просмотров: 152
- Рейтинг: голосов еще нет
- Отзывов: 0