| » Участники » t349 » Фиалки » Синий-1sm.jpg |
Уважаемые друзья и участники проекта iXBT.photo! К сожалению, 1 марта 2026 года проект iXBT.photo прекратит свою работу и будет закрыт. Мы высоко ценим ваше участие и тот вклад, который вы внесли в развитие нашего сообщества. Пожалуйста, не забудьте сохранить ваши фотографии до этой даты.
С уважением, команда iXBT.com
| Синий-1sm.jpg |
Синий-1sm.jpg
- Раздел: Цветы
- Дата съёмки: 07.09.2008 22:53
- Дата загрузки фото: 07.09.2008 22:58
- Оригинальная фотография: 900 x 601 (354 Кб)
- Технические характеристики:
- Фотоаппарат: Samsung GX-1S
- Выдержка: 1/15
- Гиперфокальное расстояние: 97,97 m
- Диафрагма: 5,6
- Светочувствительность: 200
- Фокусное расстояние: 105,0mm (35mm эквивалент: 157,0mm)
- Экспокоррекция: +1/2
- Полный EXIF
- Adobe
- ColorTransform: YCbCr
- Composite
- Aperture: 5,6
- CircleOfConfusion: 0,020 mm
- FocalLength35efl: 105,0mm (35mm equivalent: 157,0mm)
- HyperfocalDistance: 97,97 m
- LightValue: 7,9
- ScaleFactor35efl: 1,5
- ShutterSpeed: 1/15
- ExifIFD
- ApertureValue: 5,6
- CFAPattern: [Red,Green][Green,Blue]
- ColorSpace: sRGB
- Contrast: Normal
- CreateDate: 2008:08:09 00:00:00
- CustomRendered: Normal
- DateTimeOriginal: 2008:08:09 00:00:00
- ExifImageLength: 601
- ExifImageWidth: 900
- ExposureCompensation: +1/2
- ExposureMode: Manual
- ExposureProgram: Aperture-priority AE
- ExposureTime: 1/15
- FNumber: 5,6
- Flash: Off
- FocalLength: 105,0mm
- FocalLengthIn35mmFormat: 157mm
- ISO: 200
- MeteringMode: Center-weighted average
- Saturation: Normal
- SceneCaptureType: Standard
- SceneType: Directly photographed
- SensingMethod: One-chip color area
- Sharpness: Normal
- ShutterSpeedValue: 1/15
- SubjectDistanceRange: Macro
- WhiteBalance: Manual
- ICC-header
- ICC-meas
- ICC-view
- IFD0
- Make: SAMSUNG TECHWIN
- Model: GX-1S
- ModifyDate: 2008:09:07 22:53:53
- Orientation: Horizontal (normal)
- IFD1
- IPTC
- XMP-aux
- XMP-crs
- AlreadyApplied: True
- BlueHue: 0
- BlueSaturation: 0
- Brightness: +7
- CameraProfile: ACR 2.4
- ChromaticAberrationB: 0
- ChromaticAberrationR: 0
- Clarity: 0
- ColorNoiseReduction: 9
- Contrast: +36
- ConvertToGrayscale: False
- Defringe: 0
- Exposure: +1.05
- FillLight: 0
- GreenHue: 0
- GreenSaturation: 0
- HasCrop: False
- HasSettings: True
- HighlightRecovery: 0
- HueAdjustmentAqua: 0
- HueAdjustmentBlue: 0
- HueAdjustmentGreen: 0
- HueAdjustmentMagenta: 0
- HueAdjustmentOrange: 0
- HueAdjustmentPurple: 0
- HueAdjustmentRed: 0
- HueAdjustmentYellow: 0
- LuminanceAdjustmentAqua: -19
- LuminanceAdjustmentBlue: +2
- LuminanceAdjustmentGreen: -10
- LuminanceAdjustmentMagenta: +2
- LuminanceAdjustmentOrange: +12
- LuminanceAdjustmentPurple: -14
- LuminanceAdjustmentRed: 0
- LuminanceAdjustmentYellow: +17
- LuminanceSmoothing: 8
- ParametricDarks: 0
- ParametricHighlightSplit: 75
- ParametricHighlights: 0
- ParametricLights: 0
- ParametricMidtoneSplit: 50
- ParametricShadowSplit: 25
- ParametricShadows: 0
- RedHue: 0
- RedSaturation: 0
- Saturation: 0
- SaturationAdjustmentAqua: -33
- SaturationAdjustmentBlue: +24
- SaturationAdjustmentGreen: -31
- SaturationAdjustmentMagenta: -19
- SaturationAdjustmentOrange: +43
- SaturationAdjustmentPurple: +14
- SaturationAdjustmentRed: -10
- SaturationAdjustmentYellow: +71
- ShadowTint: 0
- Shadows: 0
- SharpenDetail: 50
- SharpenEdgeMasking: 0
- SharpenRadius: +1.0
- Sharpness: 32
- SplitToningBalance: 0
- SplitToningHighlightHue: 0
- SplitToningHighlightSaturation: 0
- SplitToningShadowHue: 0
- SplitToningShadowSaturation: 0
- Temperature: 5450
- Tint: +26
- ToneCurve: 0, 0, 255, 255
- ToneCurveName: Linear
- Version: 4.4
- Vibrance: +14
- VignetteAmount: 0
- WhiteBalance: As Shot
- XMP-dc
- XMP-exif
- DateTimeDigitized: 2008:08:09 10:20:45+04:00
- DateTimeOriginal: 2008:08:09 10:20:45+04:00
- FlashFired: False
- FlashFunction: False
- FlashMode: Off
- FlashRedEyeMode: False
- FlashReturn: No return detection
- FocalLengthIn35mmFormat: 157
- XMP-tiff
- ImageHeight: 2008
- ImageWidth: 3008
- XMP-xmp
- CreateDate: 2008:09:07 22:53:53+04:00
- ModifyDate: 2008:09:07 22:53:53+04:00
- XMP-xmpMM
Получить код для блога
| Вставка фотографии в текущем разрешении |
Вставка миниатюры |
HTML (для вставки в блог):
BBCode (для вставки в форум):
Ссылка на фото:
Ссылка на миниатюру:
- Послать ссылку другу
| Комментарии к фотографии |