89IMGP0235.jpg |
89IMGP0235.jpg
- Раздел: Город
- Дата съёмки: 07.09.2008 10:17
- Дата загрузки фото: 11.09.2008 21:32
- Оригинальная фотография: 3872 x 2592 (5,7 Мб)
- Технические характеристики:
- Фотоаппарат: Pentax K200D
- Выдержка: 1/45
- Гиперфокальное расстояние: 26,80 m
- Диафрагма: 5,6
- Светочувствительность: 400
- Фокусное расстояние: 55,0mm (35mm эквивалент: 82,0mm)
- Экспокоррекция: +3/2
- Полный EXIF
- Adobe
- ColorTransform: YCbCr
- Composite
- Aperture: 5,6
- CircleOfConfusion: 0,020 mm
- FocalLength35efl: 55,0mm (35mm equivalent: 82,0mm)
- HyperfocalDistance: 26,80 m
- LightValue: 8,5
- ScaleFactor35efl: 1,5
- ShutterSpeed: 1/45
- ExifIFD
- ApertureValue: 5,6
- CFAPattern: [Red,Green][Green,Blue]
- Contrast: Low
- CreateDate: 2008:09:07 10:17:27
- CustomRendered: Normal
- DateTimeOriginal: 2008:09:07 10:17:27
- ExposureCompensation: +3/2
- ExposureMode: Manual
- ExposureProgram: Aperture-priority AE
- ExposureTime: 1/45
- FNumber: 5,6
- Flash: Off
- FocalLength: 55,0mm
- FocalLengthIn35mmFormat: 82mm
- ISO: 400
- MeteringMode: Center-weighted average
- Saturation: Normal
- SceneCaptureType: Standard
- SensingMethod: One-chip color area
- Sharpness: Normal
- ShutterSpeedValue: 1/45
- SubjectDistanceRange: Close
- WhiteBalance: Auto
- ICC-header
- IFD0
- Make: PENTAX
- Model: PENTAX K200D
- ModifyDate: 2008:09:06 08:41:13
- Software: K200D Ver 1.00
- XMP-aux
- Lens: smc PENTAX-DA 18-55mm F3.5-5.6 AL
- LensID: 4 252
- LensInfo: 180/10 550/10 35/10 56/10
- XMP-crs
- AlreadyApplied: True
- BlueHue: 0
- BlueSaturation: 0
- Brightness: +50
- CameraProfile: ACR 4.4
- ChromaticAberrationB: 0
- ChromaticAberrationR: 0
- Clarity: +31
- ColorNoiseReduction: 7
- Contrast: +35
- ConvertToGrayscale: False
- Defringe: 0
- Exposure: 0.00
- FillLight: 0
- GreenHue: 0
- GreenSaturation: 0
- HasCrop: False
- HasSettings: True
- HighlightRecovery: 17
- HueAdjustmentAqua: 0
- HueAdjustmentBlue: 0
- HueAdjustmentGreen: 0
- HueAdjustmentMagenta: 0
- HueAdjustmentOrange: 0
- HueAdjustmentPurple: 0
- HueAdjustmentRed: 0
- HueAdjustmentYellow: 0
- LuminanceAdjustmentAqua: 0
- LuminanceAdjustmentBlue: 0
- LuminanceAdjustmentGreen: 0
- LuminanceAdjustmentMagenta: 0
- LuminanceAdjustmentOrange: 0
- LuminanceAdjustmentPurple: 0
- LuminanceAdjustmentRed: 0
- LuminanceAdjustmentYellow: 0
- LuminanceSmoothing: 7
- ParametricDarks: 0
- ParametricHighlightSplit: 75
- ParametricHighlights: 0
- ParametricLights: 0
- ParametricMidtoneSplit: 50
- ParametricShadowSplit: 25
- ParametricShadows: 0
- PostCropVignetteAmount: 0
- RawFileName: IMGP0235.PEF
- RedHue: 0
- RedSaturation: 0
- Saturation: +30
- SaturationAdjustmentAqua: 0
- SaturationAdjustmentBlue: 0
- SaturationAdjustmentGreen: 0
- SaturationAdjustmentMagenta: 0
- SaturationAdjustmentOrange: 0
- SaturationAdjustmentPurple: 0
- SaturationAdjustmentRed: 0
- SaturationAdjustmentYellow: 0
- ShadowTint: 0
- Shadows: 5
- SharpenDetail: 53
- SharpenEdgeMasking: 25
- SharpenRadius: +1.0
- Sharpness: 78
- SplitToningBalance: 0
- SplitToningHighlightHue: 0
- SplitToningHighlightSaturation: 0
- SplitToningShadowHue: 0
- SplitToningShadowSaturation: 0
- Temperature: 3200
- Tint: +5
- ToneCurve: 0, 0, 32, 22, 64, 56, 128, 128, 192, 196, 255, 255
- ToneCurveName: Medium Contrast
- Version: 4.5
- Vibrance: +10
- VignetteAmount: 0
- WhiteBalance: Custom
- XMP-exif
- DateTimeDigitized: 2008:09:07 10:17:27+03:00
- DateTimeOriginal: 2008:09:07 10:17:27+03:00
- ExifImageLength: 2592
- ExifImageWidth: 3872
- FlashFired: False
- FlashFunction: False
- FlashMode: Off
- FlashRedEyeMode: False
- FlashReturn: No return detection
- FocalLengthIn35mmFormat: 82
- XMP-tiff
- ImageHeight: 2592
- ImageWidth: 3872
- XMP-xmp
- CreateDate: 2008:09:07 10:17:27+03:00
- CreatorTool: K200D Ver 1.00
- ModifyDate: 2008:09:06 08:41:13+01:00
- Просмотров: 467
- Рейтинг: голосов еще нет
- Отзывов: 4
Получить код для блога
Вставка фотографии в текущем разрешении |
Вставка миниатюры |
HTML (для вставки в блог):
BBCode (для вставки в форум):
Ссылка на фото:
Ссылка на миниатюру:
- Послать ссылку другу
Комментарии к фотографии |